Workbook

Sheet Intructions

Sheet Meeting Information
A1: Community/Student Engagement Meeting
A3: District Name:
A4: Campus Name:
A6: Meeting Date:
A8: Meeting Place:

Sheet Fine Arts
B1: Enter District Name: | C1: Anywhere ISD | AA1: Formula
B2: Enter Campus Name: | C2: Anywhere Campus
B3: Data Sources | C3: Campus Evidence | D3: District Evidence | E3: Participation
B4: FINE ARTS
A5: FA | B5: Is there student participation in cultural development events? | C5: Dance 50, Art 25, Band 100 | E5: x | AA5: =IF(ISNUMBER(SEARCH("*e*",B5)),1,0) -> 1
A6: FA | B6: What % of high school students complete more than one fine arts credit? | C6: 75 out of 200 | E6: x | AA6: =IF(ISNUMBER(SEARCH("*e*",B6)),1,0) -> 1
A7: FA | B7: Is there student participation in cultural development events? | C7: very few events held | E7: x | AA7: =IF(ISNUMBER(SEARCH("*e*",B7)),1,0) -> 1
A8: FA | B8: Do students participate in a community-based fine arts and/or off-campus PE program? | C8: Exploring options for future-Met with committee | E8: x | AA8: =IF(ISNUMBER(SEARCH("*e*",B8)),1,0) -> 1
A9: FA | AA9: =IF(ISNUMBER(SEARCH("*e*",B9)),1,0) -> 0
A10: FA | AA10: =IF(ISNUMBER(SEARCH("*e*",B10)),1,0) -> 0
A11: FA | AA11: =IF(ISNUMBER(SEARCH("*e*",B11)),1,0) -> 0
A12: FA | AA12: =IF(ISNUMBER(SEARCH("*e*",B12)),1,0) -> 0
A13: FA | AA13: =IF(ISNUMBER(SEARCH("*e*",B13)),1,0) -> 0
A14: FA | AA14: =IF(ISNUMBER(SEARCH("*e*",B14)),1,0) -> 0
A15: FA | E15: =COUNTIF(E5:E14,"X") -> 4
A16: FA | B16: % of indicators | E16: =IF(COUNTIF(E5:E14,"X")/SUM(AA5:AA14)>1,"Add Data Source",COUNTIF(E5:E14,"X")/SUM(AA5:AA14)) -> 1
A17: FA | B17: DISTRICT RATING: | E17: =IF(ISNUMBER(SEARCH("*e*",D5)),IF(E16<=0.25,"Unacceptable",IF(E16<=0.5,"Acceptable",IF(E16<=0.99,"Recognized",IF(E16=1,"Exemplary","Error")))),"Used for Campus Rating") -> Used for Campus Rating
A18: FA | B18: CAMPUS RATING: | E18: =IF(ISNUMBER(SEARCH("*e*",C5)),IF(E16<=0.25,"Unacceptable",IF(E16<=0.5,"Acceptable",IF(E16<=0.99,"Recognized",IF(E16=1,"Exemplary","Error")))),"Used for District Rating") -> Exemplary
A19: FA | B19: Comments:

Sheet Wellness & Physical Education
B1: District Name: | C1: ='Fine Arts'!C1:E1 -> Anywhere ISD
B2: Campus Name: | C2: ='Fine Arts'!C2 -> Anywhere Campus
B3: Data Sources | C3: Campus Evidence | D3: District Evidence | E3: Participation | AA3: Formula
B4: WELLNESS & PHYSICAL EDUCATION
A5: WPE | B5: Required immunization notice | D5: Completed at all campuses | E5: x | AA5: =IF(ISNUMBER(SEARCH("*e*",B5)),1,0) -> 1
A6: WPE | B6: Participation in free vaccination clinics | D6: Records kept electronically by school nurse | E6: x | AA6: =IF(ISNUMBER(SEARCH("*e*",B6)),1,0) -> 1
A7: WPE | B7: SHAC Committee | D7: Required meetings held | E7: x | AA7: =IF(ISNUMBER(SEARCH("*e*",B7)),1,0) -> 1
A8: WPE | B8: Health screenings (hearing, vision, dental, spinal curvature) | D8: Completed at all campuses | E8: x | AA8: =IF(ISNUMBER(SEARCH("*e*",B8)),1,0) -> 1
A9: WPE | B9: self | D9: Completed at all campuses | E9: x | AA9: =IF(ISNUMBER(SEARCH("*e*",B9)),1,0) -> 1
A10: WPE | B10: self | D10: Completed at all campuses | E10: x | AA10: =IF(ISNUMBER(SEARCH("*e*",B10)),1,0) -> 1
A11: WPE | AA11: =IF(ISNUMBER(SEARCH("*e*",B11)),1,0) -> 0
A12: WPE | AA12: =IF(ISNUMBER(SEARCH("*e*",B12)),1,0) -> 0
A13: WPE | AA13: =IF(ISNUMBER(SEARCH("*e*",B13)),1,0) -> 0
A14: WPE | AA14: =IF(ISNUMBER(SEARCH("*e*",B14)),1,0) -> 0
A15: WPE | B15: Summary | E15: =COUNTIF(E5:E14,"X") -> 6
A16: WPE | B16: % of indicators | E16: =IF(COUNTIF(E5:E14,"X")/SUM(AA5:AA14)>1,"Add Data Source",COUNTIF(E5:E14,"X")/SUM(AA5:AA14)) -> 1
A17: WPE | B17: DISTRICT RATING: | E17: =IF(ISNUMBER(SEARCH("*e*",D5)),IF(E16<=0.25,"Unacceptable",IF(E16<=0.5,"Acceptable",IF(E16<=0.99,"Recognized",IF(E16=1,"Exemplary","Error")))),"Used for District Rating") -> Exemplary
A18: WPE | B18: CAMPUS RATING: | E18: =IF(ISNUMBER(SEARCH("*e*",C5)),IF(E16<=0.25,"Unacceptable",IF(E16<=0.5,"Acceptable",IF(E16<=0.99,"Recognized",IF(E16=1,"Exemplary","Error")))),"Used for Campus Rating") -> Used for Campus Rating
A19: WPE | B19: Comments:

Sheet Community & Parent Involvement
B1: ='Wellness & Physical Education'!B1 -> District Name: | C1: ='Fine Arts'!C1:E1 -> Anywhere ISD
B2: ='Wellness & Physical Education'!B2 -> Campus Name: | C2: ='Fine Arts'!C2 -> Anywhere Campus
B3: Data Sources | C3: Campus Evidence | D3: District Evidence | E3: Participation | AA3: Formula
B4: COMMUNITY & PARENT INVOLVEMENT
A5: CPI | B5: Active PTA/PTO in district | C5: Elementary Level | E5: x | AA5: =IF(ISNUMBER(SEARCH("*e*",B5)),1,0) -> 1
A6: CPI | B6: Accountability notices sent home with first report cards | C6: Completed at all campuses | E6: x | AA6: =IF(ISNUMBER(SEARCH("*e*",B6)),1,0) -> 1
A7: CPI | B7: Hosted event focused on how parents can help their child academically at home | C7: Completed at all campuses | E7: x | AA7: =IF(ISNUMBER(SEARCH("*e*",B7)),1,0) -> 1
A8: CPI | B8: TEA-prepared "school report cards" sent to parents | C8: Completed at all campuses | E8: x | AA8: =IF(ISNUMBER(SEARCH("*e*",B8)),1,0) -> 1
A9: CPI | AA9: =IF(ISNUMBER(SEARCH("*e*",B9)),1,0) -> 0
A10: CPI | AA10: =IF(ISNUMBER(SEARCH("*e*",B10)),1,0) -> 0
A11: CPI | AA11: =IF(ISNUMBER(SEARCH("*e*",B11)),1,0) -> 0
A12: CPI | AA12: =IF(ISNUMBER(SEARCH("*e*",B12)),1,0) -> 0
A13: CPI | AA13: =IF(ISNUMBER(SEARCH("*e*",B13)),1,0) -> 0
A14: CPI | AA14: =IF(ISNUMBER(SEARCH("*e*",B14)),1,0) -> 0
A15: CPI | B15: Summary | E15: =COUNTIF(E4:E14,"X") -> 4
A16: CPI | B16: % of indicators | E16: =IF(COUNTIF(E5:E14,"X")/SUM(AA5:AA14)>1,"Add Data Source",COUNTIF(E5:E14,"X")/SUM(AA5:AA14)) -> 1
A17: CPI | B17: DISTRICT RATING: | E17: =IF(ISNUMBER(SEARCH("*e*",D5)),IF(E16<=0.25,"Unacceptable",IF(E16<=0.5,"Acceptable",IF(E16<=0.99,"Recognized",IF(E16=1,"Exemplary","Error")))),"Used for District Rating") -> Used for District Rating
A18: CPI | B18: CAMPUS RATING: | E18: =IF(ISNUMBER(SEARCH("*e*",C5)),IF(E16<=0.25,"Unacceptable",IF(E16<=0.5,"Acceptable",IF(E16<=0.99,"Recognized",IF(E16=1,"Exemplary","Error")))),"Used for District Rating") -> Exemplary
A19: CPI | B19: Comments:

Sheet Workforce Dev
B1: ='Wellness & Physical Education'!B1 -> District Name: | C1: ='Fine Arts'!C1:E1 -> Anywhere ISD
B2: ='Wellness & Physical Education'!B2 -> Campus Name: | C2: ='Fine Arts'!C2 -> Anywhere Campus
B3: Data Sources | C3: Campus Evidence | D3: District Evidence | E3: Participation | AA3: Formula
B4: 21st CENTURY WORKFORCE DEVELOPMENT
A5: WFD | B5: College/Career Fairs | C5: Held annually, JH and HS | E5: x | AA5: =IF(ISNUMBER(SEARCH("*e*",B5)),1,0) -> 1
A6: WFD | B6: Students completing coherent sequence of CTE courses | C6: 75 seniors | E6: x | AA6: =IF(ISNUMBER(SEARCH("*e*",B6)),1,0) -> 1
A7: WFD | B7: Students completing programs that lead to recognized certifications or licenses | C7: 25 students | E7: x | AA7: =IF(ISNUMBER(SEARCH("*e*",B7)),1,0) -> 1
A8: WFD | B8: What % of your CTE students are affiliated with their CTE Student Organization? | C8: At least 80% | E8: x | AA8: =IF(ISNUMBER(SEARCH("*e*",B8)),1,0) -> 1
A9: WFD | AA9: =IF(ISNUMBER(SEARCH("*e*",B9)),1,0) -> 0
A10: WFD | AA10: =IF(ISNUMBER(SEARCH("*e*",B10)),1,0) -> 0
A11: WFD | AA11: =IF(ISNUMBER(SEARCH("*e*",B11)),1,0) -> 0
A12: WFD | AA12: =IF(ISNUMBER(SEARCH("*e*",B12)),1,0) -> 0
A13: WFD | AA13: =IF(ISNUMBER(SEARCH("*e*",B13)),1,0) -> 0
A14: WFD | AA14: =IF(ISNUMBER(SEARCH("*e*",B14)),1,0) -> 0
A15: WFD | B15: Summary | E15: =COUNTIF(E5:E14,"X") -> 4
A16: WFD | B16: % of indicators | E16: =IF(COUNTIF(E5:E14,"X")/SUM(AA5:AA14)>1,"Add Data Source",COUNTIF(E5:E14,"X")/SUM(AA5:AA14)) -> 1
A17: WFD | B17: DISTRICT RATING: | E17: =IF(ISNUMBER(SEARCH("*e*",D5)),IF(E16<=0.25,"Unacceptable",IF(E16<=0.5,"Acceptable",IF(E16<=0.99,"Recognized",IF(E16=1,"Exemplary","Error")))),"Used for District Rating") -> Used for District Rating
A18: WFD | B18: CAMPUS RATING: | E18: =IF(ISNUMBER(SEARCH("*e*",C5)),IF(E16<=0.25,"Unacceptable",IF(E16<=0.5,"Acceptable",IF(E16<=0.99,"Recognized",IF(E16=1,"Exemplary","Error")))),"Used for District Rating") -> Exemplary
A19: WFD | B19: Comments:

Sheet 2nd Language Acquisition
B1: ='Wellness & Physical Education'!B1 -> District Name: | C1: ='Fine Arts'!C1:E1 -> Anywhere ISD
B2: ='Wellness & Physical Education'!B2 -> Campus Name: | C2: ='Fine Arts'!C2 -> Anywhere Campus
B3: Data Sources | C3: Campus Evidence | D3: District Evidence | E3: Participation | AA3: Formula
B4: 2nd LANGUAGE ACQUISITION PROGRAMS
A5: 2nd LANG | B5: Home language surveys completed | C5: Completed upon student enrollment | E5: x | AA5: =IF(ISNUMBER(SEARCH("*e*",B5)),1,0) -> 1
A6: 2nd LANG | B6: Written procedure to provide assistance to parent denial students | C6: In process | E6: x | AA6: =IF(ISNUMBER(SEARCH("*e*",B6)),1,0) -> 1
A7: 2nd LANG | B7: Dual language programs offered | C7: Currently two languages at HS level | E7: x | AA7: =IF(ISNUMBER(SEARCH("*e*",B7)),1,0) -> 1
A8: 2nd LANG | B8: Information sessions provided for parents of LEP students | C8: Parent meeting with district representation from all campuses | E8: x | AA8: =IF(ISNUMBER(SEARCH("*e*",B8)),1,0) -> 1
A9: 2nd LANG | AA9: =IF(ISNUMBER(SEARCH("*e*",B9)),1,0) -> 0
A10: 2nd LANG | AA10: =IF(ISNUMBER(SEARCH("*e*",B10)),1,0) -> 0
A11: 2nd LANG | AA11: =IF(ISNUMBER(SEARCH("*e*",B11)),1,0) -> 0
A12: 2nd LANG | AA12: =IF(ISNUMBER(SEARCH("*e*",B12)),1,0) -> 0
A13: 2nd LANG | AA13: =IF(ISNUMBER(SEARCH("*e*",B13)),1,0) -> 0
A14: 2nd LANG | AA14: =IF(ISNUMBER(SEARCH("*e*",B14)),1,0) -> 0
A15: 2nd LANG | B15: Summary | E15: =COUNTIF(E4:E14,"X") -> 4
A16: 2nd LANG | B16: % of indicators | E16: =IF(COUNTIF(E5:E14,"X")/SUM(AA5:AA14)>1,"Add Data Source",COUNTIF(E5:E14,"X")/SUM(AA5:AA14)) -> 1
A17: 2nd LANG | B17: DISTRICT RATING: | E17: =IF(ISNUMBER(SEARCH("*e*",D5)),IF(E16<=0.25,"Unacceptable",IF(E16<=0.5,"Acceptable",IF(E16<=0.99,"Recognized",IF(E16=1,"Exemplary","Error")))),"Used for District Rating") -> Used for District Rating
A18: 2nd LANG | B18: CAMPUS RATING: | E18: =IF(ISNUMBER(SEARCH("*e*",C5)),IF(E16<=0.25,"Unacceptable",IF(E16<=0.5,"Acceptable",IF(E16<=0.99,"Recognized",IF(E16=1,"Exemplary","Error")))),"Used for District Rating") -> Exemplary
A19: 2nd LANG | B19: Comments:

Sheet Digital Learning Environment
B1: ='Wellness & Physical Education'!B1 -> District Name: | C1: ='Fine Arts'!C1:E1 -> Anywhere ISD | AA1: Formula
B2: ='Wellness & Physical Education'!B2 -> Campus Name: | C2: ='Fine Arts'!C2 -> Anywhere Campus
B3: Data Sources | C3: Campus Evidence | D3: District Evidence | E3: Participation
B4: DIGITAL LEARNING ENVIRONMENT
A5: DLE | B5: 1:1 Ratio of students to computer work stations (or other technology) | C5: 1:1 at HS, carts and labs at MS and Elementary | E5: x | AA5: =IF(ISNUMBER(SEARCH("*e*",B5)),1,0) -> 1
A6: DLE | B6: Internet access available to parents | C6: Workstation available at campus libraries | E6: x | AA6: =IF(ISNUMBER(SEARCH("*e*",B6)),1,0) -> 1
A7: DLE | B7: All students have access to a device for learning | C7: Open lab night, each campus, one night weekly | E7: x | AA7: =IF(ISNUMBER(SEARCH("*e*",B7)),1,0) -> 1
A8: DLE | B8: District technology plan updated yearly | C8: Campus technology committee meetings | E8: x | AA8: =IF(ISNUMBER(SEARCH("*e*",B8)),1,0) -> 1
A9: DLE | AA9: =IF(ISNUMBER(SEARCH("*e*",B9)),1,0) -> 0
A10: DLE | AA10: =IF(ISNUMBER(SEARCH("*e*",B10)),1,0) -> 0
A11: DLE | AA11: =IF(ISNUMBER(SEARCH("*e*",B11)),1,0) -> 0
A12: DLE | AA12: =IF(ISNUMBER(SEARCH("*e*",B12)),1,0) -> 0
A13: DLE | AA13: =IF(ISNUMBER(SEARCH("*e*",B13)),1,0) -> 0
A14: DLE | AA14: =IF(ISNUMBER(SEARCH("*e*",B14)),1,0) -> 0
A15: DLE | B15: Summary | E15: =COUNTIF(E4:E14,"X") -> 4
A16: DLE | B16: % of indicators | E16: =IF(COUNTIF(E5:E14,"X")/SUM(AA5:AA14)>1,"Add Data Source",COUNTIF(E5:E14,"X")/SUM(AA5:AA14)) -> 1
A17: DLE | B17: DISTRICT RATING: | E17: =IF(ISNUMBER(SEARCH("*e*",D5)),IF(E16<=0.25,"Unacceptable",IF(E16<=0.5,"Acceptable",IF(E16<=0.99,"Recognized",IF(E16=1,"Exemplary","Error")))),"Used for District Rating") -> Used for District Rating
A18: DLE | B18: CAMPUS RATING: | E18: =IF(ISNUMBER(SEARCH("*e*",C5)),IF(E16<=0.25,"Unacceptable",IF(E16<=0.5,"Acceptable",IF(E16<=0.99,"Recognized",IF(E16=1,"Exemplary","Error")))),"Used for District Rating") -> Exemplary
A19: DLE | B19: Comments:

Sheet Dropout Prevention Strategies
B1: ='Wellness & Physical Education'!B1 -> District Name: | C1: ='Fine Arts'!C1:E1 -> Anywhere ISD | AA1: Formula
B2: ='Wellness & Physical Education'!B2 -> Campus Name: | C2: ='Fine Arts'!C2 -> Anywhere Campus
B3: Data Sources | C3: Campus Evidence | D3: District Evidence | E3: Participation
B4: DROPOUT PREVENTION STRATEGIES
A5: DPS | B5: Campus implementation of district wide dropout prevention program | C5: Administrator reports | E5: x | AA5: =IF(ISNUMBER(SEARCH("*e*",B5)),1,0) -> 1
A6: DPS | B6: Campus RTI practiced with fidelity | C6: Administrator walkthroughs | E6: x | AA6: =IF(ISNUMBER(SEARCH("*e*",B6)),1,0) -> 1
A7: DPS | B7: PGPs established as required and documented | C7: Completed PGP reports/counselor office | E7: x | AA7: =IF(ISNUMBER(SEARCH("*e*",B7)),1,0) -> 1
A8: DPS | B8: All staff to attend RTI/differentiated instruction staff development | C8: Attendance records/certificates | E8: x | AA8: =IF(ISNUMBER(SEARCH("*e*",B8)),1,0) -> 1
A9: DPS | AA9: =IF(ISNUMBER(SEARCH("*e*",B9)),1,0) -> 0
A10: DPS | AA10: =IF(ISNUMBER(SEARCH("*e*",B10)),1,0) -> 0
A11: DPS | AA11: =IF(ISNUMBER(SEARCH("*e*",B11)),1,0) -> 0
A12: DPS | AA12: =IF(ISNUMBER(SEARCH("*e*",B12)),1,0) -> 0
A13: DPS | AA13: =IF(ISNUMBER(SEARCH("*e*",B13)),1,0) -> 0
A14: DPS | AA14: =IF(ISNUMBER(SEARCH("*e*",B14)),1,0) -> 0
A15: DPS | B15: Summary | E15: =COUNTIF(E4:E14,"X") -> 4
A16: DPS | B16: % of indicators | E16: =IF(COUNTIF(E5:E14,"X")/SUM(AA5:AA14)>1,"Add Data Source",COUNTIF(E5:E14,"X")/SUM(AA5:AA14)) -> 1
A17: DPS | B17: DISTRICT RATING: | E17: =IF(ISNUMBER(SEARCH("*e*",D5)),IF(E16<=0.25,"Unacceptable",IF(E16<=0.5,"Acceptable",IF(E16<=0.99,"Recognized",IF(E16=1,"Exemplary","Error")))),"Used for District Rating") -> Used for District Rating
A18: DPS | B18: CAMPUS RATING: | E18: =IF(ISNUMBER(SEARCH("*e*",C5)),IF(E16<=0.25,"Unacceptable",IF(E16<=0.5,"Acceptable",IF(E16<=0.99,"Recognized",IF(E16=1,"Exemplary","Error")))),"Used for District Rating") -> Exemplary
A19: DPS | B19: Comments:

Sheet Gifted Talented Programs
B1: ='Wellness & Physical Education'!B1 -> District Name: | C1: ='Fine Arts'!C1:E1 -> Anywhere ISD | AA1: Formula
B2: ='Wellness & Physical Education'!B2 -> Campus Name: | C2: ='Fine Arts'!C2 -> Anywhere Campus
B3: Data Sources | C3: Campus Evidence | D3: District Evidence | E3: Participation
B4: GIFTED TALENTED PROGRAMS
A5: GTP | B5: All teachers have completed a 30 hour GT staff development program | C5: Attendance records, certificates | E5: x | AA5: =IF(ISNUMBER(SEARCH("*e*",B5)),1,0) -> 1
A6: GTP | B6: Nomination process for GT students in place | C6: Committee consisting of parents, teachers, peers and community | E6: x | AA6: =IF(ISNUMBER(SEARCH("*e*",B6)),1,0) -> 1
A7: GTP | B7: Parent information meeting | C7: MS and HS | E7: x | AA7: =IF(ISNUMBER(SEARCH("*e*",B7)),1,0) -> 1
A8: GTP | B8: Are nominated students assessed in a language they understand or with a non-verbal assessment? | C8: Nomination/assessment records | E8: x | AA8: =IF(ISNUMBER(SEARCH("*e*",B8)),1,0) -> 1
A9: GTP | AA9: =IF(ISNUMBER(SEARCH("*e*",B9)),1,0) -> 0
A10: GTP | AA10: =IF(ISNUMBER(SEARCH("*e*",B10)),1,0) -> 0
A11: GTP | AA11: =IF(ISNUMBER(SEARCH("*e*",B11)),1,0) -> 0
A12: GTP | AA12: =IF(ISNUMBER(SEARCH("*e*",B12)),1,0) -> 0
A13: GTP | AA13: =IF(ISNUMBER(SEARCH("*e*",B13)),1,0) -> 0
A14: GTP | AA14: =IF(ISNUMBER(SEARCH("*e*",B14)),1,0) -> 0
A15: GTP | B15: Summary | E15: =COUNTIF(E4:E14,"X") -> 4
A16: GTP | B16: % of indicators | E16: =IF(COUNTIF(E5:E14,"X")/SUM(AA5:AA14)>1,"Add Data Source",COUNTIF(E5:E14,"X")/SUM(AA5:AA14)) -> 1
A17: GTP | B17: DISTRICT RATING: | E17: =IF(ISNUMBER(SEARCH("*e*",D5)),IF(E16<=0.25,"Unacceptable",IF(E16<=0.5,"Acceptable",IF(E16<=0.99,"Recognized",IF(E16=1,"Exemplary","Error")))),"Used for District Rating") -> Used for District Rating
A18: GTP | B18: CAMPUS RATING: | E18: =IF(ISNUMBER(SEARCH("*e*",C5)),IF(E16<=0.25,"Unacceptable",IF(E16<=0.5,"Acceptable",IF(E16<=0.99,"Recognized",IF(E16=1,"Exemplary","Error")))),"Used for District Rating") -> Exemplary
A19: GTP | B19: Comments:

Sheet History of Compliance
B1: ='Wellness & Physical Education'!B1 -> District Name: | C1: ='Wellness & Physical Education'!C1:E1 -> Anywhere ISD | AA1: Formula
B2: ='Wellness & Physical Education'!B2 -> Campus Name: | C2: ='Wellness & Physical Education'!C2:E2 -> Anywhere Campus
B3: Data Sources | C3: Campus Evidence | D3: District Evidence | E3: Participation
B4: HISTORY OF COMPLIANCE
A5: HC | B5: Required notices posted to website in timely manner | C5: WO for website posting | E5: x | AA5: =IF(ISNUMBER(SEARCH("*e*",B5)),1,0) -> 1
A6: HC | B6: Required notice of Non-Discrimination posted in local paper | C6: Newspaper copy housed in HS office | E6: x | AA6: =IF(ISNUMBER(SEARCH("*e*",B6)),1,0) -> 1
A7: HC | B7: Staff evaluations completed by district deadline(s) | C7: Evaluations on file | E7: x | AA7: =IF(ISNUMBER(SEARCH("*e*",B7)),1,0) -> 1
A8: HC | B8: Grant and/or federal funds expended in a timely manner | C8: budget reports, inventory reports | E8: x | AA8: =IF(ISNUMBER(SEARCH("*e*",B8)),1,0) -> 1
A9: HC | AA9: =IF(ISNUMBER(SEARCH("*e*",B9)),1,0) -> 0
A10: HC | AA10: =IF(ISNUMBER(SEARCH("*e*",B10)),1,0) -> 0
A11: HC | AA11: =IF(ISNUMBER(SEARCH("*e*",B11)),1,0) -> 0
A12: HC | AA12: =IF(ISNUMBER(SEARCH("*e*",B12)),1,0) -> 0
A13: HC | AA13: =IF(ISNUMBER(SEARCH("*e*",B13)),1,0) -> 0
A14: HC | AA14: =IF(ISNUMBER(SEARCH("*e*",B14)),1,0) -> 0
A15: HC | B15: Summary | E15: =COUNTIF(E4:E14,"X") -> 4
A16: HC | B16: % of indicators | E16: =IF(COUNTIF(E5:E14,"X")/SUM(AA5:AA14)>1,"Add Data Source",COUNTIF(E5:E14,"X")/SUM(AA5:AA14)) -> 1
A17: HC | B17: DISTRICT RATING: | E17: =IF(ISNUMBER(SEARCH("*e*",D5)),IF(E16<=0.25,"Unacceptable",IF(E16<=0.5,"Acceptable",IF(E16<=0.99,"Recognized",IF(E16=1,"Exemplary","Error")))),"Used for District Rating") -> Used for District Rating
A18: HC | B18: CAMPUS RATING: | E18: =IF(ISNUMBER(SEARCH("*e*",C5)),IF(E16<=0.25,"Unacceptable",IF(E16<=0.5,"Acceptable",IF(E16<=0.99,"Recognized",IF(E16=1,"Exemplary","Error")))),"Used for District Rating") -> Exemplary
A19: HC | B19: Comments:
