Workbook

Sheet INGRESOS
D1: DIRECCIONAMIENTO ESTRATEGICO Y PLANEACIÓN | R1: CODIGO | V1: Y-F-007
R3: VERSION | V3: 4
D4: FORMATO
R6: FECHA | V6: 46300
D7: PROYECCION DE INGRESOS
C9: ENERO | E9: FEBRERO | G9: MARZO | I9: ABRIL | K9: MAYO | M9: JUNIO | O9: JULIO | Q9: AGOSTO | S9: SEPTIEMBRE | U9: OCTUBRE | W9: NOVIEMBRE | Y9: DICIEMBRE
A10: INGRESOS | B10: RUBRO PRESUPUESTAL | C10: PROYECCIÓN VENTA | D10: RECAUDO EFECTIVO | E10: PROYECCIÓN VENTA | F10: RECAUDO EFECTIVO | G10: PROYECCIÓN VENTA | H10: RECAUDO EFECTIVO | I10: PROYECCIÓN VENTA | J10: RECAUDO EFECTIVO | K10: PROYECCIÓN VENTA | L10: RECAUDO EFECTIVO | M10: PROYECCIÓN VENTA | N10: RECAUDO EFECTIVO | O10: PROYECCIÓN VENTA | P10: RECAUDO EFECTIVO | Q10: PROYECCIÓN VENTA | R10: RECAUDO EFECTIVO | S10: PROYECCIÓN VENTA | T10: RECAUDO EFECTIVO | U10: PROYECCIÓN VENTA | V10: RECAUDO EFECTIVO | W10: PROYECCIÓN VENTA | X10: RECAUDO EFECTIVO | Y10: PROYECCIÓN VENTA | Z10: RECAUDO EFECTIVO
B11: SERVICIOS PRESTADOS A LAS EMPRESAS Y SERVICIOS DE PRODUCCIÓN
B12: SEÑAL COLOMBIA
B13: Auspucios y patrocinios-Venta de pauta comercial
B14: Venta de licencias
B15: Coproducciones
B16: CANAL INSTITUCIONAL
B17: Emisión Canal Institucional
B18: Producción programas
B19: SEÑAL MEMORIA
B20: Venta de Imágenes-Señal memoria
B21: Copias Fonoteca-Señal memoria
B22: Venta por recuperacion de material
... B37: Alojamiento de equipos en Telepuertos (Energia)
A38: * Incluir los rubros que sean necesarios.
B40: Suministro de energia
A41: CUENTAS POR COBRAR | B41: Segmento Satelital
B42: SEÑAL COLOMBIA
B43: Emisión Señal Colombia - Auspucios y patrocinios
B44: Coproducciones
B45: CANAL INSTITUCIONAL
B46: Emisión Señal Institucional
B47: Venta de Imágenes-Señal memoria
B48: Producción programas
B49: TORRES DE TRANSMISIÓN
B50: Arrendamiento espacio equipos
B51: Arrendamiento espacio en torre
B52: Suministro de energia
B53: Segmento Satelital
... B59: RENDIMIENTOS FINANCIEROS

Sheet CC
A1: CONTROL DE CAMBIOS
A2: Versión | B2: DESCRIPCIÓN DEL CAMBIO | F2: ÁREA PRODUCTORA | J2: FECHA DE PUBLICACIÓN
A3: 1 | B3: Se realiza nuevamente el cargue del documento en el cual se incluye el logo de RTVC, se ajusta el código de acuerdo con la parametrización de SUITE VISIÓN, se incluye control de cambios, así mismo dando cumplimiento a los lineamientos del manual de marca.V2 y a la Guía de Administración de Información Documentada SIG. | F3: Coordinación de Planeación | J3: 46300

Sheet Proyección 2021
A1: Inflación | B1: 0.03 | L1: Presupuesto contratos 2021
A2: Incremento Tarifas | B2: 0.01 | L2: Ppto recaudo bruto | N2: =N45 -> 39985.1
A3: Crecimiento PIB | L3: Cola 2019 | N3: 2500
A4: TRM | L4: Ppto recaudo neto | N4: =N2-N3 -> 37485.1
L5: % Recaudo | N5: 0.8
A6: Recaudo sobre venta | B6: 0.8 | L6: Ppto contratos 2021 | N6: =N4/N5 -> 46856.375
A7: Crecimiento | B7: 0.14126408
A8: Parámetro mensual | B8: 0.045 | C8: =+B8+0.5% -> 0.05 | D8: =+C8+0.5% -> 0.055 | E8: =+D8+0.5% -> 0.06 | F8: =+E8+0.5% -> 0.065 | G8: =+F8+0.5% -> 0.07 | H8: =+G8+1% -> 0.08 | I8: =+H8+1% -> 0.09 | J8: =+I8+1% -> 0.1 | K8: =+J8+1% -> 0.11 | L8: =+K8+1% -> 0.12 | M8: =+L8+3.5% -> 0.155 | N8: =SUM(B8:M8) -> 1
A10: Share | B10: Ene | C10: Feb | D10: Mar | E10: Abr | F10: May | G10: Jun | H10: Jul | I10: Ago | J10: Sep | K10: Oct | L10: Nov | M10: Dic | N10: Tot
A11: SEÑAL COLOMBIA | B11: 0.038208818 | C11: 0.038208818 | D11: 0.038208818 | E11: 0.038208818 | F11: 0.038208818 | G11: 0.038208818 | H11: 0.038208818 | I11: 0.038208818 | J11: 0.038208818 | K11: 0.038208818 | L11: 0.038208818 | M11: 0.038208818
A12: RADIO | B12: 0.044516555 | C12: 0.044516555 | D12: 0.044516555 | E12: 0.044516555 | F12: 0.044516555 | G12: 0.044516555 | H12: 0.044516555 | I12: 0.044516555 | J12: 0.044516555 | K12: 0.044516555 | L12: 0.044516555 | M12: 0.044516555
A13: CANAL INSTITUCIONAL | B13: 0.61357337 | C13: 0.61357337 | D13: 0.61357337 | E13: 0.61357337 | F13: 0.61357337 | G13: 0.61357337 | H13: 0.61357337 | I13: 0.61357337 | J13: 0.61357337 | K13: 0.61357337 | L13: 0.61357337 | M13: 0.61357337
A14: Central de Medios | B14: 0.040676678 | C14: 0.040676678 | D14: 0.040676678 | E14: 0.040676678 | F14: 0.040676678 | G14: 0.040676678 | H14: 0.040676678 | I14: 0.040676678 | J14: 0.040676678 | K14: 0.040676678 | L14: 0.040676678 | M14: 0.040676678
A15: BTL | B15: 0.10151331 | C15: 0.10151331 | D15: 0.10151331 | E15: 0.10151331 | F15: 0.10151331 | G15: 0.10151331 | H15: 0.10151331 | I15: 0.10151331 | J15: 0.10151331 | K15: 0.10151331 | L15: 0.10151331 | M15: 0.10151331
A16: SEÑAL MEMORIA | B16: 0.040748526 | C16: 0.040748526 | D16: 0.040748526 | E16: 0.040748526 | F16: 0.040748526 | G16: 0.040748526 | H16: 0.040748526 | I16: 0.040748526 | J16: 0.040748526 | K16: 0.040748526 | L16: 0.040748526 | M16: 0.040748526
A17: CENTRO DE EMISION | B17: 0 | C17: 0 | D17: 0 | E17: 0 | F17: 0 | G17: 0 | H17: 0 | I17: 0 | J17: 0 | K17: 0 | L17: 0 | M17: 0
A18: TORRES DE TRANSMISION | B18: 0.12076275 | C18: 0.12076275 | D18: 0.12076275 | E18: 0.12076275 | F18: 0.12076275 | G18: 0.12076275 | H18: 0.12076275 | I18: 0.12076275 | J18: 0.12076275 | K18: 0.12076275 | L18: 0.12076275 | M18: 0.12076275
B19: =SUM(B11:B18) -> 1 | C19: =SUM(C11:C18) -> 1 | D19: =SUM(D11:D18) -> 1 | E19: =SUM(E11:E18) -> 1 | F19: =SUM(F11:F18) -> 1 | G19: =SUM(G11:G18) -> 1 | H19: =SUM(H11:H18) -> 1 | I19: =SUM(I11:I18) -> 1 | ... M19: =SUM(M11:M18) -> 1 | N19: =N45 -> 39985.1
B21: Recaudo 2020 Col $ (000,000)
B22: Ene | C22: Feb | D22: Mar | E22: Abr | F22: May | G22: Jun | H22: Jul | I22: Ago | J22: Sep* | K22: Oct* | L22: Nov* | M22: Dic* | N22: Tot
A23: SEÑAL COLOMBIA | B23: 7 | C23: 100 | D23: 248 | E23: 36 | F23: 37 | G23: 0 | H23: 18 | I23: 0 | J23: 75.2 | K23: 76 | L23: 128 | M23: 100 | N23: =SUM(B23:M23) -> 825.2
A24: RADIO | B24: 33 | C24: 22 | D24: 91 | E24: 3 | F24: 43 | G24: 10 | H24: 86 | I24: 131 | J24: 320 | K24: 280 | L24: 85.863003 | M24: 550 | N24: =SUM(B24:M24) -> 1654.863
A25: CANAL INSTITUCIONAL | B25: 1553 | C25: 344 | D25: 929 | E25: 1410 | F25: 2980 | G25: 810 | H25: 1161 | I25: 1765 | J25: 1044.1 | K25: 1050 | L25: 2700 | M25: 7034.9 | N25: =SUM(B25:M25) -> 22781
A26: Central de medios | B26: 0 | C26: 0 | D26: 0 | E26: 0 | F26: 0 | G26: 0 | H26: 1 | I26: 13 | J26: 20 | K26: 20 | L26: 40 | M26: 120 | N26: =SUM(B26:M26) -> 214
A27: BTL | B27: 0 | C27: 0 | D27: 0 | E27: 0 | F27: 0 | G27: 0 | H27: 0 | I27: 0 | J27: 80 | K27: 541.3 | L27: 404.037 | M27: 1100 | N27: =SUM(B27:M27) -> 2125.337
A28: SEÑAL MEMORIA | B28: 0 | C28: 0 | D28: 0 | E28: 0 | F28: 0 | G28: 0 | H28: 267 | I28: 401 | J28: 600 | K28: 600 | L28: 600 | M28: 850 | N28: =SUM(B28:M28) -> 3318
A29: CENTRO DE EMISION | B29: 1 | C29: 639 | D29: 3 | E29: 1 | F29: 3 | G29: 1 | H29: 2 | I29: 3 | J29: 0 | K29: 0 | L29: 0 | M29: 0 | N29: =SUM(B29:M29) -> 653
A30: TORRES DE TRANSMISION | B30: 167 | C30: 101 | D30: 195 | E30: 1377 | F30: 425 | G30: 273 | H30: 267.4 | I30: 129 | J30: 160 | K30: 110 | L30: 110 | M30: 150 | N30: =SUM(B30:M30) -> 3464.4
A31: Total General | B31: =SUM(B23:B30) -> 1761 | C31: =SUM(C23:C30) -> 1206 | D31: =SUM(D23:D30) -> 1466 | E31: =SUM(E23:E30) -> 2827 | F31: =SUM(F23:F30) -> 3488 | G31: =SUM(G23:G30) -> 1094 | H31: =SUM(H23:H30) -> 1802.4 | I31: =SUM(I23:I30) -> 2442 | ... N31: =SUM(N23:N30) -> 35035.8
B33: =+B31/$N$31 -> 0.050262874 | C33: =+C31/$N$31 -> 0.034421934 | D33: =+D31/$N$31 -> 0.041842915 | E33: =+E31/$N$31 -> 0.080688895 | F33: =+F31/$N$31 -> 0.099555312 | G33: =+G31/$N$31 -> 0.031225204 | H33: =+H31/$N$31 -> 0.051444522 | I33: =+I31/$N$31 -> 0.069700135 | ... M33: =+M31/$N$31 -> 0.28270797 | N33: =SUM(B33:M33) -> 1
B35: Prespuesto Recaudo 2021 Col $ (000,000)
B36: Ene | C36: Feb | D36: Mar | E36: Abr | F36: May | G36: Jun | H36: Jul | I36: Ago | J36: Sep* | K36: Oct* | L36: Nov* | M36: Dic* | N36: Tot
A37: SEÑAL COLOMBIA | B37: =B$45*B11 -> 68.750254 | C37: =C$45*C11 -> 76.389171 | D37: =D$45*D11 -> 84.028088 | E37: =E$45*E11 -> 91.667005 | F37: =F$45*F11 -> 99.305922 | G37: =G$45*G11 -> 106.94484 | H37: =H$45*H11 -> 122.22267 | I37: =I$45*I11 -> 137.50051 | ... M37: =M$45*M11 -> 236.80643 | N37: =SUM(B37:M37) -> 1527.7834
A38: RADIO | B38: =B$45*B12 -> 80.09995 | C38: =C$45*C12 -> 88.999944 | D38: =D$45*D12 -> 97.899939 | E38: =E$45*E12 -> 106.79993 | F38: =F$45*F12 -> 115.69993 | G38: =G$45*G12 -> 124.59992 | H38: =H$45*H12 -> 142.39991 | I38: =I$45*I12 -> 160.1999 | ... M38: =M$45*M12 -> 275.89983 | N38: =SUM(B38:M38) -> 1779.9989
A39: CANAL INSTITUCIONAL | B39: =B$45*B13 -> 1104.0207 | C39: =C$45*C13 -> 1226.6896 | D39: =D$45*D13 -> 1349.3586 | E39: =E$45*E13 -> 1472.0275 | F39: =F$45*F13 -> 1594.6965 | G39: =G$45*G13 -> 1717.3655 | H39: =H$45*H13 -> 1962.7034 | I39: =I$45*I13 -> 2208.0413 | ... M39: =M$45*M13 -> 3802.7378 | N39: =SUM(B39:M39) -> 24533.792
A40: Central de medios | B40: =B$45*B14 -> 73.190748 | C40: =C$45*C14 -> 81.323053 | D40: =D$45*D14 -> 89.455358 | E40: =E$45*E14 -> 97.587663 | F40: =F$45*F14 -> 105.71997 | G40: =G$45*G14 -> 113.85227 | H40: =H$45*H14 -> 130.11688 | I40: =I$45*I14 -> 146.3815 | ... M40: =M$45*M14 -> 252.10146 | N40: =SUM(B40:M40) -> 1626.4611
A41: BTL | B41: =B$45*B15 -> 182.65589 | C41: =C$45*C15 -> 202.95099 | D41: =D$45*D15 -> 223.24609 | E41: =E$45*E15 -> 243.54118 | F41: =F$45*F15 -> 263.83628 | G41: =G$45*G15 -> 284.13138 | H41: =H$45*H15 -> 324.72158 | I41: =I$45*I15 -> 365.31178 | ... M41: =M$45*M15 -> 629.14806 | N41: =SUM(B41:M41) -> 4059.0197
A42: SEÑAL MEMORIA | B42: =B$45*B16 -> 73.320026 | C42: =C$45*C16 -> 81.466695 | D42: =D$45*D16 -> 89.613365 | E42: =E$45*E16 -> 97.760034 | F42: =F$45*F16 -> 105.9067 | G42: =G$45*G16 -> 114.05337 | H42: =H$45*H16 -> 130.34671 | I42: =I$45*I16 -> 146.64005 | ... M42: =M$45*M16 -> 252.54676 | N42: =SUM(B42:M42) -> 1629.3339
A43: CENTRO DE EMISION | B43: =B$45*B17 -> 0 | C43: =C$45*C17 -> 0 | D43: =D$45*D17 -> 0 | E43: =E$45*E17 -> 0 | F43: =F$45*F17 -> 0 | G43: =G$45*G17 -> 0 | H43: =H$45*H17 -> 0 | I43: =I$45*I17 -> 0 | ... M43: =M$45*M17 -> 0 | N43: =SUM(B43:M43) -> 0
A44: TORRES DE TRANSMISION | B44: =B$45*B18 -> 217.29198 | C44: =C$45*C18 -> 241.43553 | D44: =D$45*D18 -> 265.57908 | E44: =E$45*E18 -> 289.72264 | F44: =F$45*F18 -> 313.86619 | G44: =G$45*G18 -> 338.00974 | H44: =H$45*H18 -> 386.29685 | I44: =I$45*I18 -> 434.58395 | ... M44: =M$45*M18 -> 748.45014 | N44: =SUM(B44:M44) -> 4828.7106
...

Sheet Proyección 5 años
B1: Parámetros de Crecimiento
B2: 2020 | C2: 2021 | D2: 2022 | E2: 2023 | F2: 2024 | G2: 2025
A3: SEÑAL COLOMBIA | C3: 0.85141102 | D3: =D4+D5 -> 0.85 | E3: =E4+E5 -> 0.72 | F3: =F4+F5 -> 0.62 | G3: =G4+G5 -> 0.54
A4: Tarifa | C4: 0.01 | D4: 0.03 | E4: 0.03 | F4: 0.03 | G4: 0.03
A5: Actividad | C5: =C3-C4 -> 0.84141102 | D5: 0.82 | E5: 0.69 | F5: 0.59 | G5: 0.51
A6: RADIO | C6: -0.41905945 | D6: =D7+D8 -> 0.23 | E6: =E7+E8 -> 0.17 | F6: =F7+F8 -> 0.12 | G6: =G7+G8 -> 0.08
A7: Tarifa | C7: 0.01 | D7: 0.03 | E7: 0.03 | F7: 0.03 | G7: 0.03
A8: Actividad | C8: =C6-C7 -> -0.42905945 | D8: 0.2 | E8: 0.14 | F8: 0.09 | G8: 0.05
A9: CANAL INSTITUCIONAL | C9: 0.07694165 | D9: =D10+D11 -> 0.06 | E9: =E10+E11 -> -0.02 | F9: =F10+F11 -> 0.03 | G9: =G10+G11 -> 0.03
A10: Tarifa | C10: 0.01 | D10: 0.03 | E10: 0.03 | F10: 0.03 | G10: 0.03
A11: Actividad | C11: =C9-C10 -> 0.06694165 | D11: 0.03 | E11: -0.05 | F11: 0 | G11: 0
A12: CENTRAL DE MEDIOS | C12: 6.6002901 | D12: =D13+D14 -> 0.105 | E12: =E13+E14 -> 0.1 | F12: =F13+F14 -> 0.095 | G12: =G13+G14 -> 0.09
A13: Tarifa | C13: 0.01 | D13: 0.03 | E13: 0.03 | F13: 0.03 | G13: 0.03
A14: Actividad | C14: =C12-C13 -> 6.5902901 | D14: 0.075 | E14: 0.07 | F14: 0.065 | G14: 0.06
A15: BTL | C15: 0.90982525 | D15: =D16+D17 -> 0.4119045 | E15: =E16+E17 -> 0.79511127 | F15: =F16+F17 -> 0.29097032 | G15: =G16+G17 -> 0.23438043
A16: Tarifa | C16: 0.01 | D16: 0.03 | E16: 0.03 | F16: 0.03 | G16: 0.03
A17: Actividad | C17: =C15-C16 -> 0.89982525 | D17: 0.3819045 | E17: 0.76511127 | F17: 0.26097032 | G17: 0.20438043
A18: Señal Memoria | C18: -0.50894065 | D18: =D19+D20 -> 0.4119045 | E18: =E19+E20 -> 0.79511127 | F18: =F19+F20 -> 0.29097032 | G18: =G19+G20 -> 0.23438043
A19: Tarifa | C19: 0.01 | D19: 0.03 | E19: 0.03 | F19: 0.03 | G19: 0.03
A20: Actividad | C20: =C18-C19 -> -0.51894065 | D20: 0.3819045 | E20: 0.76511127 | F20: 0.26097032 | G20: 0.20438043
A21: CENTRO DE EMISION | C21: -1 | D21: =D22+D23 -> 0.03 | E21: =E22+E23 -> 0.03 | F21: =F22+F23 -> 0.03 | G21: =G22+G23 -> 0.03
A22: Tarifa | C22: 0.01 | D22: 0.03 | E22: 0.03 | F22: 0.03 | G22: 0.03
A23: Actividad | C23: =C21-C22 -> -1.01 | D23: 0 | E23: 0 | F23: 0 | G23: 0
A24: TORRES DE TRANSMISION | C24: 0.3938095 | D24: =D25+D26 -> 0.06 | E24: =E25+E26 -> 0.06 | F24: =F25+F26 -> 0.05 | G24: =G25+G26 -> 0.05
A25: Tarifa | C25: 0.01 | D25: 0.03 | E25: 0.03 | F25: 0.03 | G25: 0.03
A26: Actividad | C26: =C24-C25 -> 0.3838095 | D26: 0.03 | E26: 0.03 | F26: 0.02 | G26: 0.02
D28: Proyección de Recaudo
A29: Unidad de Negocio | B29: 2020* | D29: 2021 | F29: 2022 | H29: 2023 | J29: 2024 | L29: 2025
A30: Col $ (millones) | B30: ABS | C30: % V | D30: ABS | E30: % V | F30: ABS | G30: % V | H30: ABS | I30: % V | J30: ABS | K30: % V | L30: ABS | M30: % V
A31: SEÑAL COLOMBIA | B31: ='Proyección 2021'!N23 -> 825.2 | C31: =B31/$B$39 -> 0.023553051 | D31: =B31*(1+C3) -> 1527.7844 | E31: =D31/$D$39 -> 0.039007425 | F31: =D31*(1+D3) -> 2826.4011 | G31: =F31/$F$39 -> 0.062862241 | H31: =F31*(1+E3) -> 4861.4099 | I31: =H31/$H$39 -> 0.090781882 | J31: =H31*(1+F3) -> 7875.484 | K31: =J31/$J$39 -> 0.12671899 | L31: =J31*(1+G3) -> 12128.245 | M31: =L31/$L$39 -> 0.16808492
A32: RADIO | B32: ='Proyección 2021'!N24 -> 1654.863 | C32: =B32/$B$39 -> 0.047233487 | D32: =B32*(1+C6) -> 961.37703 | E32: =D32/$D$39 -> 0.0245459 | F32: =D32*(1+D6) -> 1182.4937 | G32: =F32/$F$39 -> 0.02629995 | H32: =F32*(1+E6) -> 1383.5177 | I32: =H32/$H$39 -> 0.025835785 | J32: =H32*(1+F6) -> 1549.5398 | K32: =J32/$J$39 -> 0.024932578 | L32: =J32*(1+G6) -> 1673.503 | M32: =L32/$L$39 -> 0.023193019
A33: CANAL INSTITUCIONAL | B33: ='Proyección 2021'!N25 -> 22781 | C33: =B33/$B$39 -> 0.65022063 | D33: =B33*(1+C9) -> 24533.808 | E33: =D33/$D$39 -> 0.62639772 | F33: =D33*(1+D9) -> 26005.836 | G33: =F33/$F$39 -> 0.57839814 | H33: =F33*(1+E9) -> 25485.719 | I33: =H33/$H$39 -> 0.47591987 | J33: =H33*(1+F9) -> 26250.291 | K33: =J33/$J$39 -> 0.42237536 | L33: =J33*(1+G9) -> 27037.8 | M33: =L33/$L$39 -> 0.37471591
A34: Central de Medios | B34: ='Proyección 2021'!N26 -> 214 | C34: =B34/$B$39 -> 0.0061080381 | D34: =B34*(1+C12) -> 1626.4621 | E34: =D34/$D$39 -> 0.041526866 | F34: =D34*(1+D12) -> 1797.2406 | G34: =F34/$F$39 -> 0.03997259 | H34: =F34*(1+E12) -> 1976.9647 | I34: =H34/$H$39 -> 0.036917803 | J34: =H34*(1+F12) -> 2164.7763 | K34: =J34/$J$39 -> 0.034831925 | L34: =J34*(1+G12) -> 2359.6062 | M34: =L34/$L$39 -> 0.032701699
A35: BTL | B35: ='Proyección 2021'!N27 -> 2125.337 | C35: =B35/$B$39 -> 0.060661866 | D35: =B35*(1+C15) -> 4059.0223 | E35: =D35/$D$39 -> 0.10363505 | F35: =D35*(1+D15) -> 5730.9518 | G35: =F35/$F$39 -> 0.12746261 | H35: =F35*(1+E15) -> 10287.696 | I35: =H35/$H$39 -> 0.19211226 | J35: =H35*(1+F15) -> 13281.11 | K35: =J35/$J$39 -> 0.2136972 | L35: =J35*(1+G15) -> 16393.943 | M35: =L35/$L$39 -> 0.22720308
A36: SEÑAL MEMORIA | B36: ='Proyección 2021'!N28 -> 3318 | C36: =B36/$B$39 -> 0.094703132 | D36: =B36*(1+C18) -> 1629.3349 | E36: =D36/$D$39 -> 0.041600215 | F36: =D36*(1+D18) -> 2300.4653 | G36: =F36/$F$39 -> 0.051164856 | H36: =F36*(1+E18) -> 4129.5912 | I36: =H36/$H$39 -> 0.077115913 | J36: =H36*(1+F18) -> 5331.1797 | K36: =J36/$J$39 -> 0.085780341 | L36: =J36*(1+G18) -> 6580.7039 | M36: =L36/$L$39 -> 0.091201743
A37: CENTRO DE EMISION | B37: ='Proyección 2021'!N29 -> 653 | C37: =B37/$B$39 -> 0.018638079 | D37: =B37*(1+C21) -> 0 | E37: =D37/$D$39 -> 0 | F37: =D37*(1+D21) -> 0 | G37: =F37/$F$39 -> 0 | H37: =F37*(1+E21) -> 0 | I37: =H37/$H$39 -> 0 | J37: =H37*(1+F21) -> 0 | K37: =J37/$J$39 -> 0 | L37: =J37*(1+G21) -> 0 | M37: =L37/$L$39 -> 0
A38: TORRES DE TRANSMISION | B38: ='Proyección 2021'!N30 -> 3464.4 | C38: =B38/$B$39 -> 0.098881715 | D38: =B38*(1+C24) -> 4828.7136 | E38: =D38/$D$39 -> 0.12328682 | F38: =D38*(1+D24) -> 5118.4364 | G38: =F38/$F$39 -> 0.11383961 | H38: =F38*(1+E24) -> 5425.5426 | I38: =H38/$H$39 -> 0.10131649 | J38: =H38*(1+F24) -> 5696.8198 | K38: =J38/$J$39 -> 0.091663604 | L38: =J38*(1+G24) -> 5981.6607 | M38: =L38/$L$39 -> 0.082899625
A39: Total General | B39: =SUM(B31:B38) -> 35035.8 | C39: =SUM(C31:C38) -> 1 | D39: =SUM(D31:D38) -> 39166.502 | E39: =SUM(E31:E38) -> 1 | F39: =SUM(F31:F38) -> 44961.825 | G39: =SUM(G31:G38) -> 1 | H39: =SUM(H31:H38) -> 53550.442 | I39: =SUM(I31:I38) -> 1 | ... M39: =SUM(M31:M38) -> 1
A42: Unidad de Negocio | B42: Crecimiento anual
A43: Col $ (millones) | B43: 2021 vs 2020 | D43: 2022 vs 2021 | F43: 2023 vs 2022 | H43: 2024 vs 2023 | J43: 2025 vs 2024
...

Sheet 2020 ajustado
B1: Parámetros de Crecimiento
B2: 2020 | C2: 2021 | D2: 2022 | E2: 2023 | F2: 2024 | G2: 2025
A3: SEÑAL COLOMBIA | B3: =D22/B22-1 -> 5.2992366 | C3: =C4+C5 -> 1 | D3: =D4+D5 -> 0.85 | E3: =E4+E5 -> 0.72 | F3: =F4+F5 -> 0.62 | G3: =G4+G5 -> 0.54
A4: Tarifa | C4: 0.03 | D4: 0.03 | E4: 0.03 | F4: 0.03 | G4: 0.03
A5: Actividad | C5: 0.97 | D5: 0.82 | E5: 0.69 | F5: 0.59 | G5: 0.51
A6: RADIO | B6: =D23/B23-1 -> 1.0330012 | C6: =C7+C8 -> 0.3 | D6: =D7+D8 -> 0.23 | E6: =E7+E8 -> 0.17 | F6: =F7+F8 -> 0.12 | G6: =G7+G8 -> 0.08
A7: Tarifa | C7: 0.03 | D7: 0.03 | E7: 0.03 | F7: 0.03 | G7: 0.03
A8: Actividad | C8: 0.27 | D8: 0.2 | E8: 0.14 | F8: 0.09 | G8: 0.05
A9: CANAL INSTITUCIONAL | B9: =D24/B24-1 -> 0.18277467 | C9: =C10+C11 -> 0.11 | D9: =D10+D11 -> 0.105 | E9: =E10+E11 -> 0.1 | F9: =F10+F11 -> 0.095 | G9: =G10+G11 -> 0.09
A10: Tarifa | C10: 0.03 | D10: 0.03 | E10: 0.03 | F10: 0.03 | G10: 0.03
A11: Actividad | C11: 0.08 | D11: 0.075 | E11: 0.07 | F11: 0.065 | G11: 0.06
A12: CENTRO DE EMISION | C12: =C13+C14 -> 0.03 | D12: =D13+D14 -> 0.03 | E12: =E13+E14 -> 0.03 | F12: =F13+F14 -> 0.03 | G12: =G13+G14 -> 0.03
A13: Tarifa | C13: 0.03 | D13: 0.03 | E13: 0.03 | F13: 0.03 | G13: 0.03
A14: Actividad | C14: 0 | D14: 0 | E14: 0 | F14: 0 | G14: 0
A15: TORRES DE TRANSMISION | B15: =D28/B28-1 -> 0.042238267 | C15: =C16+C17 -> 0.07 | D15: =D16+D17 -> 0.06 | E15: =E16+E17 -> 0.06 | F15: =F16+F17 -> 0.05 | G15: =G16+G17 -> 0.05
A16: Tarifa | C16: 0.03 | D16: 0.03 | E16: 0.03 | F16: 0.03 | G16: 0.03
A17: Actividad | C17: 0.04 | D17: 0.03 | E17: 0.03 | F17: 0.02 | G17: 0.02
B19: 2019 | D19: 2020 | I19: Crecimiento Anual
A20: Unidad de Negocio | D20: Post Covid | F20: Original | I20: 2020 vs 2019 Post Covid | K20: 2020 vs 2019 Original
A21: Col $ (millones) | B21: ABS | C21: % V | D21: ABS | E21: % V | F21: ABS | G21: % V | I21: ABS | J21: % H | K21: ABS | L21: % H
A22: SEÑAL COLOMBIA | B22: 131 | C22: =B22/$B$29 -> 0.0045133506 | D22: ='Proyección 2021'!D63 -> 825.2 | E22: =D22/$D$29 -> 0.02205405 | F22: 3254.1 | G22: =F22/$F$29 -> 0.076960572 | I22: =D22-B22 -> 694.2 | J22: =I22/B22 -> 5.2992366 | K22: =F22-B22 -> 3123.1 | L22: =K22/B22 -> 23.840458
A23: RADIO | B23: 814 | C23: =B23/$B$29 -> 0.028044789 | D23: ='Proyección 2021'!D64 -> 1654.863 | E23: =D23/$D$29 -> 0.044227378 | F23: 2156.4 | G23: =F23/$F$29 -> 0.050999593 | I23: =D23-B23 -> 840.863 | J23: =I23/B23 -> 1.0330012 | K23: =F23-B23 -> 1342.4 | L23: =K23/B23 -> 1.64914
A24: CANAL INSTITUCIONAL | B24: 24493 | C24: =B24/$B$29 -> 0.84385874 | D24: 28969.7 | E24: =D24/$D$29 -> 0.77423561 | F24: =B24*1.04 -> 25472.72 | G24: =F24/$F$29 -> 0.60243849 | I24: =D24-B24 -> 4476.7 | J24: =I24/B24 -> 0.18277467 | K24: =F24-B24 -> 979.72 | L24: =K24/B24 -> 0.04
A25: Central de Medios | B25: 0 | C25: =B25/$B$29 -> 0 | D25: 1850 | E25: =D25/$D$29 -> 0.049442551 | F25: 300 | G25: =F25/$F$29 -> 0.007095102 | I25: =D25-B25 -> 1850
A26: BTL | B26: 0 | C26: =B26/$B$29 -> 0 | F26: 3719.63 | G26: =F26/$F$29 -> 0.087970515 | I26: =D26-B26 -> 0
A27: CENTRO DE EMISION | B27: 263 | C27: =B27/$B$29 -> 0.0090611542 | D27: ='Proyección 2021'!D69 -> 653 | E27: =D27/$D$29 -> 0.017451884 | F27: =D27*(1+C12) -> 672.59 | G27: =F27/$F$29 -> 0.015906982 | I27: =D27-B27 -> 390 | J27: =I27/B27 -> 1.4828897 | K27: =F27-B27 -> 409.59 | L27: =K27/B27 -> 1.5573764
A28: TORRES DE TRANSMISION | B28: 3324 | C28: =B28/$B$29 -> 0.11452196 | D28: ='Proyección 2021'!D70 -> 3464.4 | E28: =D28/$D$29 -> 0.092588527 | F28: 6707.25 | G28: =F28/$F$29 -> 0.15862874 | I28: =D28-B28 -> 140.4 | J28: =I28/B28 -> 0.042238267 | K28: =F28-B28 -> 3383.25 | L28: =K28/B28 -> 1.0178249
A29: Total General | B29: =SUM(B22:B28) -> 29025 | C29: =SUM(C22:C28) -> 1 | D29: =SUM(D22:D28) -> 37417.163 | E29: =D29/$D$29 -> 1 | F29: =SUM(F22:F28) -> 42282.69 | G29: =F29/$F$29 -> 1 | I29: =D29-B29 -> 8392.163 | J29: =I29/B29 -> 0.28913568 | K29: =F29-B29 -> 13257.69 | L29: =K29/B29 -> 0.45676796

Sheet Contratos
B2: Contratos 2020 Col $ (000,000)
A3: Unidad de Negocio | B3: Ene | C3: Feb | D3: Mar | E3: Abr | F3: May | G3: Jun | H3: Jul | I3: Ago | J3: Sep * | K3: Oct * | L3: Nov * | M3: Dic * | N3: Tot
A4: SEÑAL COLOMBIA | B4: 0 | C4: 0 | D4: 2.0393277 | E4: 0 | F4: 0 | G4: 0 | H4: 0 | J4: 119.15091 | K4: 162.47852 | L4: 270.79753 | M4: 324.95703 | N4: =SUM(B4:M4) -> 879.42331
A5: RADIO | B5: 55.809446 | C5: 1.834728 | D5: 605.40908 | E5: 1.578636 | F5: 257.58328 | G5: 2.626665 | H5: 22.018854 | I5: =3.93156+2.617055 -> 6.548615 | J5: 107.2703 | K5: 146.27769 | L5: 243.79615 | M5: 292.55537 | N5: =SUM(B5:M5) -> 1743.3088
A6: CANAL INSTITUCIONAL | B6: 6122.2152 | C6: 4267.8736 | D6: 1500.5427 | E6: 1624.3501 | F6: 3308.3129 | G6: 1348.5822 | H6: 675.81119 | I6: =33.608661+399.159664+133.191522+34.262238+165.456092+129.99941+524.16831+639.873486+69.33323+50.40142 -> 2179.454 | J6: 1672.3839 | K6: 2280.5235 | L6: 3800.8726 | M6: 4561.0471 | N6: =SUM(B6:M6) -> 33341.969
A7: CENTRO DE EMISION | B7: 0 | C7: 0 | D7: 0 | E7: 0 | F7: 0 | G7: 0 | H7: 0 | J7: 0 | K7: 0 | L7: 0 | M7: 0 | N7: =SUM(B7:M7) -> 0
A8: TORRES DE TRANSMISION | B8: 10.32041 | C8: 1065.9206 | D8: 33.613445 | E8: 10.928598 | F8: 70.060116 | G8: 48.893835 | H8: 194.41744 | I8: =2.580672 -> 2.580672 | J8: 188.04173 | K8: 256.42054 | L8: 427.36757 | M8: 512.84108 | N8: =SUM(B8:M8) -> 2821.4061
A9: Total General | B9: =SUM(B4:B8) -> 6188.3451 | C9: =SUM(C4:C8) -> 5335.6289 | D9: =SUM(D4:D8) -> 2141.6045 | E9: =SUM(E4:E8) -> 1636.8573 | F9: =SUM(F4:F8) -> 3635.9563 | G9: =SUM(G4:G8) -> 1400.1027 | H9: =SUM(H4:H8) -> 892.24748 | I9: =SUM(I4:I8) -> 2188.5833 | ... N9: =SUM(N4:N8) -> 38786.107
A10: * Proyectado
B11: Contratos 2019 Col $ (000,000)
A12: Unidad de Negocio | B12: Ene | C12: Feb | D12: Mar | E12: Abr | F12: May | G12: Jun | H12: Jul | I12: Ago | J12: Sep * | K12: Oct * | L12: Nov * | M12: Dic * | N12: Tot
A13: SEÑAL COLOMBIA | B13: 0 | C13: 0 | D13: 2.0393277 | E13: 0 | F13: 0 | G13: 0 | H13: 0 | J13: 119.15091 | K13: 162.47852 | L13: 270.79753 | M13: 324.95703 | N13: =SUM(B13:M13) -> 879.42331
A14: RADIO | B14: 55.809446 | C14: 1.834728 | D14: 605.40908 | E14: 1.578636 | F14: 257.58328 | G14: 2.626665 | H14: 22.018854 | I14: =3.93156+2.617055 -> 6.548615 | J14: 107.2703 | K14: 146.27769 | L14: 243.79615 | M14: 292.55537 | N14: =SUM(B14:M14) -> 1743.3088
A15: CANAL INSTITUCIONAL | B15: 6122.2152 | C15: 4267.8736 | D15: 1500.5427 | E15: 1624.3501 | F15: 3308.3129 | G15: 1348.5822 | H15: 675.81119 | I15: =33.608661+399.159664+133.191522+34.262238+165.456092+129.99941+524.16831+639.873486+69.33323+50.40142 -> 2179.454 | J15: 1672.3839 | K15: 2280.5235 | L15: 3800.8726 | M15: 4561.0471 | N15: =SUM(B15:M15) -> 33341.969
A16: CENTRO DE EMISION | B16: 0 | C16: 0 | D16: 0 | E16: 0 | F16: 0 | G16: 0 | H16: 0 | J16: 0 | K16: 0 | L16: 0 | M16: 0 | N16: =SUM(B16:M16) -> 0
A17: TORRES DE TRANSMISION | B17: 10.32041 | C17: 1065.9206 | D17: 33.613445 | E17: 10.928598 | F17: 70.060116 | G17: 48.893835 | H17: 194.41744 | I17: =2.580672 -> 2.580672 | J17: 188.04173 | K17: 256.42054 | L17: 427.36757 | M17: 512.84108 | N17: =SUM(B17:M17) -> 2821.4061
A18: Total General | B18: =SUM(B13:B17) -> 6188.3451 | C18: =SUM(C13:C17) -> 5335.6289 | D18: =SUM(D13:D17) -> 2141.6045 | E18: =SUM(E13:E17) -> 1636.8573 | F18: =SUM(F13:F17) -> 3635.9563 | G18: =SUM(G13:G17) -> 1400.1027 | H18: =SUM(H13:H17) -> 892.24748 | I18: =SUM(I13:I17) -> 2188.5833 | ... N18: =SUM(N13:N17) -> 38786.107
A19: * Proyectado
B22: Contratos 2018 Col $ (000,000)
A23: Unidad de Negocio | B23: Ene | C23: Feb | D23: Mar | E23: Abr | F23: May | G23: Jun | H23: Jul | I23: Ago | J23: Sep | K23: Oct | L23: Nov | M23: Dic | N23: Tot
A24: SEÑAL COLOMBIA | B24: 0 | C24: 63.181124 | D24: 0 | E24: 0 | F24: 85.51979 | G24: 0 | H24: 0 | I24: 1.52406 | J24: 0 | K24: 0 | L24: 0 | M24: 0 | N24: =SUM(B24:M24) -> 150.22497
A25: RADIO | B25: 869.77121 | C25: 48.467792 | D25: 14.551959 | E25: 0.339253 | F25: 0.095704 | G25: 16.809402 | H25: 27.506906 | I25: 14.748915 | J25: 7.398433 | K25: 11.911697 | L25: 4.36212 | M25: 4.807501 | N25: =SUM(B25:M25) -> 1020.7709
A26: CANAL INSTITUCIONAL | B26: 21871.033 | C26: 1.9140824 | D26: 48.254652 | E26: 871.05708 | F26: 0 | G26: 231.59988 | H26: 2465.8319 | I26: 346.87044 | J26: 767.43438 | K26: 625.62032 | L26: 884.32104 | M26: 772.61845 | N26: =SUM(B26:M26) -> 28886.555
A27: CENTRO DE EMISION | B27: 0 | C27: 0 | D27: 0 | E27: 0 | F27: 0 | G27: 0 | H27: 0 | I27: 0 | J27: 0 | K27: 0 | L27: 0 | M27: 0 | N27: =SUM(B27:M27) -> 0
A28: TORRES DE TRANSMISION | B28: 1118.3005 | C28: 2.891131 | D28: 0 | E28: 0.48987 | F28: 4.607853 | G28: 205.75641 | H28: 152.15855 | I28: 16.835134 | J28: 66.57953 | K28: 19.963921 | L28: 1.7738854 | M28: 2.6171782 | N28: =SUM(B28:M28) -> 1591.9739
A29: Total General | B29: =SUM(B24:B28) -> 23859.104 | C29: =SUM(C24:C28) -> 116.45413 | D29: =SUM(D24:D28) -> 62.806611 | E29: =SUM(E24:E28) -> 871.88621 | F29: =SUM(F24:F28) -> 90.223347 | G29: =SUM(G24:G28) -> 454.16569 | H29: =SUM(H24:H28) -> 2645.4974 | I29: =SUM(I24:I28) -> 379.97855 | ... N29: =SUM(N24:N28) -> 31649.525
A30: * Proyectado
B32: Contratos 2017 Col $ (000,000)
A33: Unidad de Negocio | B33: Ene | C33: Feb | D33: Mar | E33: Abr | F33: May | G33: Jun | H33: Jul | I33: Ago | J33: Sep | K33: Oct | L33: Nov | M33: Dic | N33: Tot
A34: SEÑAL COLOMBIA | B34: 0 | C34: 0 | D34: 0 | E34: 0 | F34: 0 | G34: 0 | H34: 0 | I34: 48.9 | J34: 119.15091 | K34: 162.47852 | L34: 270.79753 | M34: 324.95703 | N34: 926.28399
A35: RADIO | B35: 0 | C35: 0 | D35: 0 | E35: 0 | F35: 0 | G35: 0 | H35: 21.065586 | I35: 622.5 | J35: 107.2703 | K35: 146.27769 | L35: 243.79615 | M35: 292.55537 | N35: 1433.4651
A36: CANAL INSTITUCIONAL | B36: 0 | C36: 0 | D36: 0 | E36: 0 | F36: 0 | G36: 0 | H36: 666.22312 | I36: 766.8 | J36: 1672.3839 | K36: 2280.5235 | L36: 3800.8726 | M36: 4561.0471 | N36: 13747.85
A37: CENTRO DE EMISION | B37: 0 | C37: 0 | D37: 0 | E37: 0 | F37: 0 | G37: 0 | H37: 0 | I37: 1434 | J37: 0 | K37: 0 | L37: 0 | M37: 0 | N37: 1434
A38: TORRES DE TRANSMISION | B38: 0 | C38: 0 | D38: 0 | E38: 0 | F38: 0 | G38: 0 | H38: 199.97897 | J38: 188.04173 | K38: 256.42054 | L38: 427.36757 | M38: 512.84108 | N38: 1584.6499
A39: Total General | B39: 0 | C39: 0 | D39: 0 | E39: 0 | F39: 0 | G39: 0 | H39: 887.26768 | I39: 2872.2 | J39: 2086.8469 | K39: 2845.7003 | L39: 4742.8338 | M39: 5691.4006 | N39: 19126.249
A40: * Proyectado

Sheet Matriz de Crecimiento
A2: Canal Institucional
C4: Clientes
C5: Actuales | D5: Nuevos
A6: Productos | B6: Actuales
B13: Nuevos
A21: Señal Colombia
C23: Clientes
C24: Actuales | D24: Nuevos
A25: Productos | B25: Actuales
B32: Nuevos
A40: Señal Colombia
C42: Clientes
C43: Actuales | D43: Nuevos
A44: Productos | B44: Actuales
B51: Nuevos
