Workbook
Name A: 'TIPOS '!$B$2:$B$89
Name B: 'TIPOS '!$C$2:$C$31
Name Copia: #REF!
Name D: 'TIPOS '!$D$2:$D$57
Name Escenarios: #REF!
Name GERENCIA: #REF!
Name RADIO: #REF!
Name Selección: #REF!
Name SOPORTECORPORATIVO: #REF!
Name TECNOLOGÍASCONVERGENTES: #REF!
Name TELEVISIÓN: #REF!

Sheet MOD_PAA_VALORES
E1: GESTIÓN FINANCIERA | Z1: Código: GF-F-004
E2: FORMATO | Z2: Versión: 1
E3: PLANTILLA MODIFICACIONES Y SEGUIMIENTO AL PLAN DE ADQUISICIONES | Z3: Fecha: 05/10/2026
Z4: Página: 1 de 2
B6: FECHA DE LA SOLICITUD
B7: TIPO DE MODIFICACIÓN | E7: Mod. y/o creación.(Valores)
C9: Códigos UNSPSC (1) | D9: Código PAA (2) | E9: Centro de Costos/Dependencia (4) | F9: Grupo (6) | G9: Rubro Presupuestal y Nombre (7) | H9: Descripción (Max230Caracteres) (9) | I9: Tipo de Rol ( 10) | J9: Tipo de Persona (10) | K9: Fecha estimada de inicio de proceso de selección(11) | L9: Fecha estimada de contratación (12) | M9: Duración estimada del contrato (Meses) (13) | N9: Modalidad de selección (14) | O9: Fuente de Financiación (15) | P9: Fuente Especifica (16) | Q9: Precio Unitario estimado (Mes) (17) | R9: Valor estimado sin 4*1000 (18) | S9: Valor estimado con 4*1000 (19) | T9: Nombre de la Persona Natural o Jurídica | U9: Código Producto | V9: Nombre del Proyecto de inversión | W9: Nombre Producto | X9: Actividad | Y9: JUSTIFICACIÓN DE LA MODIFICACIÓN
B10: 1 | Q10: =ROUND(IFERROR(R10/M10,0),0) -> 0 | R10: =ROUND((S10/1.004),0) -> 0
B11: 2 | Q11: =ROUND(IFERROR(R11/M11,0),0) -> 0 | R11: =ROUND((S11/1.004),0) -> 0
B12: 3 | Q12: =ROUND(IFERROR(R12/M12,0),0) -> 0 | R12: =ROUND((S12/1.004),0) -> 0
B13: 4 | Q13: =ROUND(IFERROR(R13/M13,0),0) -> 0 | R13: =ROUND((S13/1.004),0) -> 0
B14: 5 | Q14: =ROUND(IFERROR(R14/M14,0),0) -> 0 | R14: =ROUND((S14/1.004),0) -> 0
B15: 6 | Q15: =ROUND(IFERROR(R15/M15,0),0) -> 0 | R15: =ROUND((S15/1.004),0) -> 0
B16: 7 | Q16: =ROUND(IFERROR(R16/M16,0),0) -> 0 | R16: =ROUND((S16/1.004),0) -> 0
B17: 8 | Q17: =ROUND(IFERROR(R17/M17,0),0) -> 0 | R17: =ROUND((S17/1.004),0) -> 0
B18: 9 | Q18: =ROUND(IFERROR(R18/M18,0),0) -> 0 | R18: =ROUND((S18/1.004),0) -> 0
B19: 10 | Q19: =ROUND(IFERROR(R19/M19,0),0) -> 0 | R19: =ROUND((S19/1.004),0) -> 0
B20: 11 | Q20: =ROUND(IFERROR(R20/M20,0),0) -> 0 | R20: =ROUND((S20/1.004),0) -> 0
B21: 12 | Q21: =ROUND(IFERROR(R21/M21,0),0) -> 0 | R21: =ROUND((S21/1.004),0) -> 0
... B29: 20 | Q29: =ROUND(IFERROR(R29/M29,0),0) -> 0 | R29: =ROUND((S29/1.004),0) -> 0
P30: TOTAL CONTRACRÉDITO | S30: =SUM(S10:S29) -> 0
C32: CódigosUNSPSC (1) | D32: Código PAA (2) | E32: Centro de Costos/Dependencia (4) | F32: Grupo (6) | G32: Rubro Presupuestal y Nombre (7) | H32: Descripción (Max230Caracteres) (9) | J32: Tipo de Persona (10) | K32: Fecha estimada de inicio de proceso de selección(11) | L32: Fecha estimada de contratación (12) | M32: Duración estimada del contrato (Meses) (13) | N32: Modalidad de selección (14) | O32: Fuente de Financiación (15) | P32: Fuente Especifica (16) | Q32: Precio Unitario estimado (Mes) (17) | R32: Valor estimado sin 4*1000 (18) | S32: Valor estimado con 4*1000 (19) | T32: Nombre de la Persona Natural o Jurídica Quien Remplaza | U32: Código Producto | V32: Nombre del Proyecto de inversión | W32: Nombre Producto | X32: Actividad | Y32: JUSTIFICACIÓN DE LA MODIFICACIÓN
B33: 1 | E33: Gestión Comercial | O33: FUTIC | Q33: =ROUND(IFERROR(R33/M33,0),0) -> 0 | R33: =ROUND((S33/1.004),0) -> 0
B34: 2 | Q34: =ROUND(IFERROR(R34/M34,0),0) -> 0 | R34: =ROUND((S34/1.004),0) -> 0
B35: 3 | Q35: =ROUND(IFERROR(R35/M35,0),0) -> 0 | R35: =ROUND((S35/1.004),0) -> 0
B36: 4 | Q36: =ROUND(IFERROR(R36/M36,0),0) -> 0 | R36: =ROUND((S36/1.004),0) -> 0
B37: 5 | Q37: =ROUND(IFERROR(R37/M37,0),0) -> 0 | R37: =ROUND((S37/1.004),0) -> 0
B38: 6 | Q38: =ROUND(IFERROR(R38/M38,0),0) -> 0 | R38: =ROUND((S38/1.004),0) -> 0
B39: 7 | Q39: =ROUND(IFERROR(R39/M39,0),0) -> 0 | R39: =ROUND((S39/1.004),0) -> 0
B40: 8 | Q40: =ROUND(IFERROR(R40/M40,0),0) -> 0 | R40: =ROUND((S40/1.004),0) -> 0
B41: 9 | Q41: =ROUND(IFERROR(R41/M41,0),0) -> 0 | R41: =ROUND((S41/1.004),0) -> 0
B42: 10 | Q42: =ROUND(IFERROR(R42/M42,0),0) -> 0 | R42: =ROUND((S42/1.004),0) -> 0
B43: 11 | Q43: =ROUND(IFERROR(R43/M43,0),0) -> 0 | R43: =ROUND((S43/1.004),0) -> 0
B44: 12 | Q44: =ROUND(IFERROR(R44/M44,0),0) -> 0 | R44: =ROUND((S44/1.004),0) -> 0
B45: 13 | Q45: =ROUND(IFERROR(R45/M45,0),0) -> 0 | R45: =ROUND((S45/1.004),0) -> 0
... B52: 20 | Q52: =ROUND(IFERROR(R52/M52,0),0) -> 0 | R52: =ROUND((S52/1.004),0) -> 0
P53: TOTAL CRÉDITO | S53: =SUM(S33:S52) -> 0
B54: FIRMA DE QUIEN SOLICITA LA MODIFICACIÓN
B55: Aprobó | F55: Revisó | H55: Elaboró
D56: Gerente, subgerente, director, coordinador, jefe de oficina, asesor de oficina de control. | J56: Apoyo administrativo y o financiero
...

Sheet ACTUAL 
B2: DEPENDENCIA SOLICITANTE
B3: GERENTE, SUBGERENTE, COORDINADOR O JEFE DE LA DEPENDENCIA:
B4: FECHA DE LA SOLICITUD
B5: TIPO DE MODIFICACION EN EL PAA | H5: MODIFICACIÓN
B7: ITEM PAA A DISMINUIR EN VALOR EN EL PAA
B8: Códigos UNSPSC | C8: Código en el PAA | D8: Subgerencia | E8: Centro de Costos/Dependencia | F8: Nombre del Rubro | G8: Descripción No exceder los 235 caracteres | H8: Fecha estimada de inicio de proceso de selección (Radicación ECO) (dd/mm/aa) | I8: Fecha estimada de contratación (Registro Presupuestal) (dd/mm/aa) | J8: Persona Natural / Persona Juridica | K8: Duración estimada del contrato días | L8: Modalidad de selección | M8: Fuente de Financiación | N8: Fuente secundaria | O8: Precio Unitario estimado | P8: Valor total estimado | Q8: Valor total incluye 4 * mil | R8: JUSTIFICACIÓN
Q9: 100
J10: JURIDICA | Q10: 200
B14: ITEM PAA A CREAR O AUMENTAR Y/O MODIFICAR EN EL PAA
B15: Códigos UNSPSC | C15: Código en el PAA | D15: Subgerencia | E15: Centro de Costos/Dependencia | F15: Nombre del Rubro | G15: Descripción No exceder los 235 caracteres | H15: Fecha estimada de inicio de proceso de selección (Radicación ECO) (dd/mm/aa) | I15: Fecha estimada de contratación (Registro Presupuestal) (dd/mm/aa) | J15: Persona Natural / Persona Juridica | K15: Duración estimada del contrato días | L15: Modalidad de selección | M15: Fuente de Financiación | N15: Fuente secundaria | O15: Precio Unitario estimado | P15: Valor total estimado | Q15: Valor total incluye 4 * mil | R15: JUSTIFICACIÓN
B22: *Las solicitudes realizadas, no deben tener números en decimales
B23: * Este formato debe diligenciarse completamente, de lo contrario será una causal de devolución.

Sheet GERENCIA
D1: 1 | E1: Enero | F1: 2019 | G1: Mod. y/o creación.(Valores) | I1: ACUERDO MARCO DE PRECIOS | M1: CONTRACREDITO | O1: Gerencia
D2: 2 | E2: Febrero | F2: 2020 | G2: Vigencias Futuras | I2: CONCURSO DE MERITOS | M2: La necesidad de este Item se encuentra cubierta, el valor corresponde a saldos y/ o ahorros de la contratación realizada. | O2: Subgerencia de Radio
D3: 3 | E3: Marzo | F3: 2021 | I3: CONTRATACIÓN DIRECTA | M3: Los recursos se encuentran en este item y debido a necesidades misionales se iran programando para atender clientes RTVC | O3: Subgerencia de Soporte Corporativo
D4: 4 | E4: Abril | F4: 2022 | I4: CONVOCATORIA ABIERTA | M4: Debido a revisiones y/o directrices los recursos ya no seran destinados para esta contratación | O4: Subgerencia de Televisión
D5: 5 | E5: Mayo | F5: 2023 | I5: GRANDES ALMACENES | M5: Liberación de saldos del PAA, corresponde a saldos de procesos, ahorros o procesos que por tiempo no se alcanzo a contratar. | O5: Tecnologías Convergentes
D6: 6 | E6: Junio | F6: 2024 | I6: INVITACIÓN ABIERTA
D7: 7 | E7: Julio | F7: 2025 | I7: LICITACIÓN PÚBLICA
D8: 8 | E8: Agosto | F8: 2026 | I8: MENOR CUANTÍA
D9: 9 | E9: Septiembre | F9: 2027 | I9: MÍNIMA CUANTÍA
D10: 10 | E10: Octubre | F10: 2028 | I10: ORDEN DE COMPRA Y/O SERVICIO | M10: CREDITO
D11: 11 | E11: Noviembre | F11: 2029 | I11: SELECCIÓN ABREVIADA DE MENOR CUANTIA | M11: Se requiere ajustes en los recursos programados y poder atender las necesidades de la dependencia.
C12: FUTIC | D12: 12 | E12: Diciembre | F12: 2030 | I12: SELECCIÓN ABREVIADA DE MINIMA CUANTIA | M12: Se requiere adicionar recursos debido al aumento de producciones y o consumos.
C13: LEY 14 -1991 | D13: 13 | F13: 2031 | I13: SELECCIÓN ABREVIADA MISIONAL | M13: Por necesidades del servicio se requiere esta contratación
C14: RECURSOS PROPIOS | D14: 14 | F14: 2032 | I14: SUBASTA | M14: Se requiere ajustes en los recursos para atender necesidades de los clientes misionales
D15: 15 | F15: 2033 | I15: OTRA | M15: Los recursos fueron destinados por FUTIC para atender eventos y o transmisiones
D16: 16 | F16: 2034 | M16: Se requiere para realizar devolución de recursos al Futic
D17: 17 | F17: 2035 | I17: NATURAL
D18: 18 | F18: 2036 | I18: JURÍDICA
D19: 19 | F19: 2037
D20: 20 | F20: 2038
D21: 21 | F21: 2039
D22: 22 | F22: 2040
D23: 23 | P23: VIGENCIA FUTURA | R23: NATURAL
D24: 24 | P24: CREACIÓN | R24: JURIDICA
D25: 25 | P25: MODIFICACIÓN
D26: 26
D27: 27
D28: 28
D29: 29
D30: 30
D31: 31
A34: Gestión Comercial
A35: Canal Institucional
A36: Comunicaciones
A37: Contabilidad
A38: Contratación Minima Cuantia
A39: Control Interno
A40: Control Interno Disiplinario
A41: Emisión de Radio
A42: Gestión de Emisión TV
...

Sheet Otras_Modificaciones
F1: GESTIÓN FINANCIERA | V1: Código: GF-F-004
F2: FORMATO | V2: Versión: 1
F3: PLANTILLA MODIFICACIÓNES Y SEGUIMIENTO AL PLAN DE ADQUISICIONES | V3: Fecha: 05/10/2026
V4: Página: 2 de 2
B5: FECHA DE LA SOLICITUD
B6: TIPO DE MODIFICACION | E6: Otras Modificaciones
C8: Códigos UNSPSC (1) | D8: Código PAA (2) | E8: Centro de Costos/Dependencia (4) | F8: Grupo (6) | G8: Rubro Presupuestal y Nombre (7) | H8: Descripción (Max230Caracteres) (9) | I8: Tipo de Persona (10) | J8: Fecha estimada de inicio de proceso de selección(11) | K8: Fecha estimada de contratación (12) | L8: Duración estimada del contrato (Meses) (13) | M8: Modalidad de selección (14) | N8: Fuente de Financiación (15) | O8: Fuente Especifica (16) | P8: Nombre de la Persona Natural o Juridica | Q8: Codigo Producto | R8: Nombre del Proyecto | S8: Nombre del Proyecto de inversión | T8: Actividad | U8: JUSTIFICACIÓN DE LA MODIFICACIÓN
B9: 1
B10: 2
B11: 3
B12: 4
B13: 5
B14: 6
B15: 7
B16: 8
B17: 9
B18: 10
B19: 11
B20: 12
... B28: 20
C31: CódigosUNSPSC (1) | D31: Código PAA (2) | E31: Centro de Costos/Dependencia (4) | F31: Grupo (6) | G31: Rubro Presupuestal y Nombre (7) | H31: Descripción (Max230Caracteres) (9) | I31: Tipo de Persona (10) | J31: Fecha estimada de inicio de proceso de selección(11) | K31: Fecha estimada de contratación (12) | L31: Duración estimada del contrato (Meses) (13) | M31: Modalidad de selección (14) | N31: Fuente de Financiación (15) | O31: Fuente Especifica (16) | P31: Nombre de la Persona Natural o Juridica Quien Remplaza | Q31: Codigo Producto | R31: Nombre del Proyecto | S31: Nombre del Proyecto de inversión | T31: Actividad | U31: JUSTIFICACIÓN DE LA MODIFICACIÓN
B32: 1
B33: 2
B34: 3
B35: 4
B36: 5
B37: 6
B38: 7
B39: 8
B40: 9
B41: 10
B42: 11
B43: 12
... B51: 20
B52: FIRMA DE QUIEN SOLICITA LA MODIFICACIÓN
B53: Aprobó | F53: Revisó | H53: Elaboró
D54: Gerente, subgerente, director, coordinador, jefe de oficina, Asesor de oficina de control. | I54: Apoyo administrativo y o financiero
B55: Nota 1: Se acepta la firma física, firma digital o a través de la aceptación mediante medios digitales (correo electrónico), estos últimos, como mecanismos idóneos conforme a lo establecido en los artículos 6 y 7 de la Ley 527 de 1999. Nota 2: Si la aprobación de este formato se realiza a través de correo electrónico, se deben archivar los correos junto con el formato diligenciado como evidencia de la aprobación. Así mismo se aclara que esta información no se debe imprimir, esta debe conservarse digitalmente en formato PDFY C
B56: Instrucciones para el diligenciamiento
B57: • Las solicitudes se debe remitir por el Gerente, Subgerente, Director, Coordinador, Jefe de Oficina o Asesor de oficina de control, al correo electrónico de la Coordinación de Presupuesto, adjuntando el presente formato en medio magnético y en PDF firmados. Cualquier solicitud enviadas a otros correos no se adelantará el trámite.
...

Sheet LINEAMIENTOS_PAA
B1: GESTIÓN FINANCIERA | C1: Código: GF-F-004
B2: FORMATO | C2: Versión: 1
B3: PLANTILLA MODIFICACIONES Y SEGUIMIENTO AL PLAN DE ADQUISICIONES | C3: Fecha: 05/10/2026
C4: Página: 1 de 1
B5: INSTRUCCIONES -MODIFICACIONES AL PLAN ANUAL DE ADQUISICIONES-RTVC
B6: La creación y o modificación de un código del PAA debe obedecer a un proceso de planeación al interior de cada dependencia, donde previamente se ha validado y revisado toda la información de los distintos campos que conforman cada código del PAA (código naciones unidas, descripción, tipo de persona, modalidad de contratación, valores, VF, etc.). Por lo tanto, es importante considerar los siguientes aspectos:
B7: 1.Los códigos del PAA contemplan necesidades con fuentes de financiación específicas, si se desea modificar y/o destinar recursos a otros códigos se debe mantener la fuente de financiación de donde provienen los recursos.
B8: 2. Se deben definir controles y validaciones al interior de cada dependencia con la finalidad de que exista un control previo antes de remitir la solitud de creación del código PAA respectivo, validando entre otros los siguientes campos: descripción a contratar, fechas estimadas de contratación, tipo de persona, proyección de valores, etc. Lo anterior, con el fin de evitar reprocesos y agilizar la realización de las modificaciones.
B9: 3. Las solicitudes de modificación de códigos en el PAA deben estar debidamente justificadas, señalando la razón por la cual ya no son requeridos los recursos (Contracrédito) y de igual forma, indicando el motivo por el cual se requieren los recursos en el código a crear y/o adicionar (Crédito). Adicionalmente, se debe relacionar el motivo por el cual inicialmente no fue contemplado en el PAA la necesidad en los términos de la modificación requerida.
B10: 4. Se debe revisar y planear detalladamente las modificaciones de los códigos al PAA, ya que un código del PAA planeado y programado no debería contar con múltiples modificaciones.
B11: 5. Las solicitudes de modificación al PAA se deben revisar y programar de manera integral analizando todas las modificaciones pendientes, de manera tal, que se evite al máximo hacer solicitudes individuales por cada necesidad o contratista, se invita a revisar y programar todas las modificaciones requeridas para que sean presentadas de manera consolidada y en forma periódica (semanal, quincenal, mensual o trimestralmente).
B14: TENER EN CUENTA EL MANUAL DE CONTRATACIÓN DE FECHA MARZO DE 2021, CAPÍTULO XI. DEL COMITÉ DE CONTRATACIÓN, MATERIAS SUJETAS A COMITÉ, DONDE SE ESTABLECE:
B16: NOTA 1: Con relación a las modificaciones del Plan Anual de Adquisiciones señaladas en el numeral (11) estarán exentas de ir al Comité de Contratación, las siguientes temáticas:
B17: a) Modificaciones de códigos de naciones unidas de ítems ya creados. b) Modificación de fechas de contratación de ítems ya creados. c) Modificación de modalidades de selección de ítems ya creados. d) Traslados entre ítems ya creados hasta por un 50% del valor de la mínima cuantía., e) Modificación de objetos de ítems ya creados, (tener en cuenta que el Ítem no debe tener ya asociado un proceso de contratación) f) Modificaciones con presupuesto aprobado para vigencias futuras autorizadas por la Junta Directiva. g) Creación de nuevos ÍTEMS producto de resoluciones y/o Convenios suscritos con el Fondo Único de las Tecnologías de la Información y las Comunicaciones – FUTIC. h) Creación de nuevos ÍTEMS producto de Convenios y/o Contratos Interadministrativos firmados con clientes. (Este proceso se realiza directamente una sola vez, luego cualquier modificación a lo ya creado sin solicitud expresa del cliente y/o FUTIC debe surtir el trámite ante el comité de contratación). i) Creación de nuevos ítems relacionados con devolución de Recursos al FUTIC j) Modificación de ítems ya creados por diferencial cambiario.
B18: NOTA 2: Las anteriores modificaciones las realizará directamente la Coordinación de Presupuesto, previa solicitud realizada por el área correspondiente y posteriormente se informará de dichas modificaciones al comité de contratación.
B19: NOTA 3: Cualquier solicitud de modificación al Plan Anual de Adquisiciones, diferente a las señaladas anteriormente, debe ser puesta en conocimiento del Comité de Contratación.

Sheet Control de Cambios
B1: GESTIÓN FINANCIERA | D1: Código: GF-F-004
B2: FORMATO | D2: Versión: 1
B3: PLANTILLA MODIFICACIONES Y SEGUIMIENTO AL PLAN DE ADQUISICIONES | D3: Fecha: 05/10/2026
D4: Página: 1 de 1
A8: Versión | B8: Descripción del cambio | C8: Área productora | D8: Fecha de Publicación
A9: 1 | B9: Creación. Se actualiza el código de acuerdo con la implementación de la herramienta SUITE VISION, actualización de mapa de procesos e imagen institucional. Igualmente se agregó columna "Nombre de la Persona Natural o Jurídica" en las hojas MOD_PAA_Valores y Otras Modificaciones | C9: Coordinación de Presupuesto | D9: 10/06/2026
B10: Se incorpora el logo de RTVC, en cumplimiento de los lineamientos establecidos en el Manual de Marca V2 | C10: Coordinacion de Planeacion | D10: 46300

Sheet TIPOS 
A1: RUBRO | B1: A | C1: B | D1: D
A2: A-01-01-01-001-001-01 | B2: A-01-01-01-001-001-01Sueldo Basico | C2: B-05-01-01-004-005-01Máquinas Para Oficina Y Contabilidad, Y Sus Partes Y Accesorios | D2: D-400-01-0-2301008-02-01-01-004-007-02Aparatos Transmisores De Television Y Radio; Television, Video Y Camaras Digitales; Telefonos
A3: A-01-01-01-001-003-01 | B3: A-01-01-01-001-003-01Prima Tecnica Salarial | C3: B-05-01-01-004-005-02Maquinaria De Informática Y Sus Partes, Piezas Y Accesorios | D3: D-400-01-0-2301008-02-02-02-008-004-06Servicios De Programación, Distribución Y Transmisión De Programas
A4: A-01-01-01-001-006-01 | B4: A-01-01-01-001-006-01Bonificacion por Servicios Pestados | C4: B-05-01-01-004-007-02Aparatos Transmisores De Television Y Radio;Television Video Y Camaras Digitales | D4: D-400-02-0-2302026-02-02-02-008-004-05Servicios De Bibliotecas Y Archivos
A5: A-01-01-01-001-007-01 | B5: A-01-01-01-001-007-01Prima de Servicios | C5: B-05-01-01-004-007-05Discos, Cintas, Dispositivos De Almacenamiento En Estado Sólido No Volátiles Y Otros Medios, No Grabados | D5: D-400-02-0-2302044-02-02-02-008-004-05Servicios De Bibliotecas Y Archivos
A6: A-01-01-01-001-008-01 | B6: A-01-01-01-001-008-01Horas Extras, Dominicales, Festivos y Recargos | C6: B-05-01-01-004-007-08Paquetes De Software | D6: D-400-02-0-2302084-02-02-02-008-004-05Servicios De Bibliotecas Y Archivos
A7: A-01-01-01-001-009-01 | B7: A-01-01-01-001-009-01Prima de Navidad | C7: B-05-01-02-007-001-03-5-01Servicios De Seguros De Vehiculos Automotores | D7: D-400-02-0-2302085-02-02-02-008-004-05Servicios De Bibliotecas Y Archivos
A8: A-01-01-01-001-010-01 | B8: A-01-01-01-001-010-01Prima de Vacaciones | C8: B-05-01-02-007-001-03-5-04Servicios De Seguros Contra Incendio, Terremoto O Sustraccion | D8: D-400-03-0-2302074-02-02-02-009-006-01Servicios Audiovisuales Y Servicios Conexos
A9: A-01-01-01-001-012-01 | B9: A-01-01-01-001-012-01Auxilio De Conectividad | C9: B-05-01-02-007-001-03-5-05Servicios De Seguros Generales De Responsabilidad Civil | D9: D-400-04-0-2301022-02-01-01-004-007-02Aparatos Transmisores De Television Y Radio; Television, Video Y Camaras Digitales; Telefonos
A10: A-01-01-02-001-001-01 | B10: A-01-01-02-001-001-01Pensiones | C10: B-05-01-02-007-001-03-5-06Servicios De Seguros De Cumplimiento | D10: D-400-04-0-2301022-02-01-01-004-007-03Radiorreceptores Y Receptores De Television; Aparatos Para La Grabacion Y Reproduccion De Sonido Y Video; Microfonos, Altavoces, Amplificadores, Etc.
A11: A-01-01-02-002-001-01 | B11: A-01-01-02-002-001-01Salud | C11: B-05-01-02-007-001-03-5-07Servicios De Seguro Obligatorio De Accidentes De Transito (Soat) | D11: D-400-04-0-2301022-02-02-02-008-003-09Otros Servicios Profesionales Y Tecnicos N.C.P.
A12: A-01-01-02-003-001-01 | B12: A-01-01-02-003-001-01Aportes de Cesantias | C12: B-05-01-02-007-001-03-5-09Otros Servicios De Seguros Distintos De Los Seguros De Vida N.C.P. | D12: D-400-04-0-2301022-02-02-02-008-004-06Servicios De Programacion, Distribucion Y Transmision De Programas
... A31: A-02-02-01-003-006-03 | B31: A-02-02-01-003-006-03 Semimanufacturas De Plastico | C31: B-05-01-02-009-006-01-4Apropiacion de Contenidos | D31: D-400-08-0-2399055-02-02-02-008-003-09Otros Servicios Profesionales Y Técnicos N.C.P.
A32: A-02-02-01-003-006-09 | B32: A-02-02-01-003-006-09 Otros Productos Plasticos | D32: D-400-08-0-2399063-02-01-01-004-005-02Maquinaria De Informatica Y Sus Partes, Piezas Y Accesorios
A33: A-02-02-01-003-007-02 | B33: A-02-02-01-003-007-02 Articulos De Ceramica No Estructural | D33: D-400-08-0-2399063-02-01-01-004-006-03Hilos Y Cables Aislados; Cable De Fibra Optica
A34: A-02-02-01-003-007-04 | B34: A-02-02-01-003-007-04 Yeso, Cal Y Cemento | D34: D-400-08-0-2399063-02-01-01-004-007-02Aparatos Transmisores De Television Y Radio; Television, Video Y Camaras Digitales; Telefonos
A35: A-02-02-01-003-007-09 | B35: A-02-02-01-003-007-09 Otros Productos Minerales No Metalicos N.C.P. | D35: D-400-08-0-2399063-02-01-01-004-007-03Radiorreceptores Y Receptores De Television; Aparatos Para La Grabacion Y Reproduccion De Sonido Y Video; Microfonos, Altavoces, Amplificadores, Etc.
A36: A-02-02-01-003-008-09 | B36: A-02-02-01-003-008-09 Otros Articulos Manufacturados N.C.P. | D36: D-400-08-0-2399063-02-01-01-004-007-04Partes Y Piezas De Los Productos De Las Clases 4721 A 4733 Y 4822
A37: A-02-02-01-004-001-01 | B37: A-02-02-01-004-001-01 Metales Basicos | D37: D-400-08-0-2399063-02-02-01-004-007-08Paquetes De Software
A38: A-02-02-01-004-002-01 | B38: A-02-02-01-004-002-01 Productos Metalicos Elaborados (Excepto Maquinaria Y Equipo) | D38: D-400-08-0-2399063-02-02-02-005-004-05Servicios Especiales De Construccion
A39: A-02-02-01-004-004-09 | B39: A-02-02-01-004-004-09Otra maquinaria para usos especiales y sus partes y piezas | D39: D-400-08-0-2399063-02-02-02-008-002-01Servicios Juridicos
A40: A-02-02-01-004-005-02 | B40: A-02-02-01-004-005-02 Maquinaria De Informatica Y Sus Partes, Piezas Y Accesorios | D40: D-400-08-0-2399063-02-02-02-008-003-01-3Servicios De Tecnología De La Información (Ti) De Consultoría Y De Apoyo
A41: A-02-02-01-004-006-02 | B41: A-02-02-01-004-006-02 Aparatos De Control Electrico Y Distribucion De Electricidad Y Sus Partes Y Piezas | D41: D-400-08-0-2399063-02-02-02-008-003-06Servicios De Publicidad Y El Suministro De Espacio O Tiempo Publicitarios
A42: A-02-02-01-004-006-03 | B42: A-02-02-01-004-006-03 Hilos Y Cables Aislados; Cable De Fibra optica | D42: D-400-08-0-2399063-02-02-02-008-003-09Otros Servicios Profesionales Y Tecnicos N.C.P.
A43: A-02-02-01-004-006-05 | B43: A-02-02-01-004-006-05 Lamparas Electricas De Incandescencia O Descarga; Lamparas De Arco, Equipo Para Alumbrado Electrico; Sus Partes Y Piezas | D43: D-400-08-0-2399063-02-02-02-008-004-01Servicios De Telefonía Y Otras Telecomunicaciones
... A57: A-02-02-02-007-001-03-5-09 | B57: A-02-02-02-007-001-03-5-09Otros Servicios De Seguros Distintos De Los Seguros De Vida N.C.P. | D57: D-400-10-0-2399063-02-02-02-008-004-03 Servicios De Contenidos En Línea (On-Line)
A58: A-02-02-02-007-003-01 | B58: A-02-02-02-007-003-01 Servicios De Arrendamiento O Alquiler De Maquinaria Y Equipo Sin Operario
A59: A-02-02-02-008-002-01 | B59: A-02-02-02-008-002-01 Servicios Juridicos
A60: A-02-02-02-008-002-02 | B60: A-02-02-02-008-002-02 Servicios De Contabilidad, Auditoria Y Teneduria De Libros
A61: A-02-02-02-008-003-09 | B61: A-02-02-02-008-003-09Otros Servicios Profesionales Y Tecnicos N.C.P.
A62: A-02-02-02-008-004-01 | B62: A-02-02-02-008-004-01 Servicios De Telefonia Y Otras Telecomunicaciones
A63: A-02-02-02-008-004-02 | B63: A-02-02-02-008-004-02Servicios De Telecomunicaciones A Través De Internet
A64: A-02-02-02-008-004-03 | B64: A-02-02-02-008-004-03 Servicios De Contenidos En Linea (On-Line)
A65: A-02-02-02-008-004-06 | B65: A-02-02-02-008-004-06 Servicios De Programacion, Distribucion Y Transmision De Programas
A66: A-02-02-02-008-005-02 | B66: A-02-02-02-008-005-02 Servicios De Investigacion Y Seguridad
A67: A-02-02-02-008-005-03 | B67: A-02-02-02-008-005-03 Servicios De Limpieza
A68: A-02-02-02-008-005-09-4 | B68: A-02-02-02-008-005-09-4Servicios Administrativos Combinados de Oficina
A69: A-02-02-02-008-007-01-4 | B69: A-02-02-02-008-007-01-4Servicios De Mantenimiento Y Reparación De Maquinaria Y Equipo De Transporte
... A89: A-08-04-12-001-001-01 | B89: A-08-04-12-001-001-01Arancel Judicial Csj- Ley 1653 De 2013

Sheet EJECUCIÓN
A1: Rubro | B1: Nombre de Rubro | C1: Apropiación Inicial | D1: Total Modificaciones | E1: Apropiación Definitiva | F1: C.D.P.S Expe. Noviembre | G1: Acumulado C.D.P.S | H1: Saldos C.D.P.S | I1: Saldo Disponible | J1: R.P.S Expe Noviembre | K1: Acumulado Registros | L1: Pagos Noviembre | M1: Acumulado Pagos | N1: Saldo R.P.S - PAGOS | O1: Compr Vs Aprop | P1: Compr Vs CDP`s | Q1: Pagos Vs Compr
A2: A | B2: GASTOS DE FUNCIONAMIENTO | C2: 22028428664 | D2: 0 | E2: 22028428664 | F2: 94251552 | G2: 20855871904 | H2: 1639401562 | I2: 1172556760 | J2: 1484351392 | K2: 19216470342 | L2: 2337606079 | M2: 1.7326885e+10 | N2: 1.8895853e+09 | O2: 87.234867 | P2: 92.139377 | Q2: 90.166845
A3: A-01 | B3: GASTOS DE PERSONAL | C3: 9131065170 | D3: 0 | E3: 9131065170 | F3: 0 | G3: 9087041070 | H3: 1136656607 | I3: 44024100 | J3: 1222189235 | K3: 7950384463 | L3: 1139536258 | M3: 7867731486 | N3: 82652977 | O3: 87.069628 | P3: 87.491455 | Q3: 98.96039
A4: A-01-01 | B4: PLANTA DE PERSONAL PERMANENTE | C4: 9032339782 | D4: 0 | E4: 9032339782 | F4: 0 | G4: 9032339764 | H4: 1115114092 | I4: 18 | J4: 1219156155 | K4: 7917225672 | L4: 1136503178 | M4: 7834572695 | N4: 82652977 | O4: 87.654205 | P4: 87.654206 | Q4: 98.956036
A5: A-01-01-01 | B5: SALARIO | C5: 7110943450 | D5: 0 | E5: 7110943450 | F5: 0 | G5: 7110943441 | H5: 872841609 | I5: 9 | J5: 986219283 | K5: 6238101832 | L5: 986219283 | M5: 6238101832 | N5: 0 | O5: 87.725375 | P5: 87.725375 | Q5: 100
A6: A-01-01-01-001 | B6: FACTORES SALARIALES COMUNES | C6: 7110943450 | D6: 0 | E6: 7110943450 | F6: 0 | G6: 7110943441 | H6: 872841609 | I6: 9 | J6: 986219283 | K6: 6238101832 | L6: 986219283 | M6: 6238101832 | N6: 0 | O6: 87.725375 | P6: 87.725375 | Q6: 100
A7: A-01-01-01-001-001 | B7: SUELDO BASICO | C7: 5112961324 | D7: 0 | E7: 5112961324 | F7: 0 | G7: 5112961324 | H7: 355144134 | I7: 0 | J7: 429582687 | K7: 4757817190 | L7: 429582687 | M7: 4757817190 | N7: 0 | O7: 93.054042 | P7: 93.054042 | Q7: 100
A8: A-01-01-01-001-001-01 | B8: Sueldo Basico | C8: 5112961324 | D8: 0 | E8: 5112961324 | F8: 0 | G8: 5112961324 | H8: 355144134 | I8: 0 | J8: 429582687 | K8: 4757817190 | L8: 429582687 | M8: 4757817190 | N8: 0 | O8: 93.054042 | P8: 93.054042 | Q8: 100
A9: A-01-01-01-001-003 | B9: PRIMA TECNICA SALARIAL | C9: 364123440 | D9: 0 | E9: 364123440 | F9: 0 | G9: 364123439 | H9: 39761610 | I9: 1 | J9: 28694858 | K9: 324361829 | L9: 28694858 | M9: 324361829 | N9: 0 | O9: 89.080184 | P9: 89.080184 | Q9: 100
A10: A-01-01-01-001-003-01 | B10: Prima Tecnica Salarial | C10: 364123440 | D10: 0 | E10: 364123440 | F10: 0 | G10: 364123439 | H10: 39761610 | I10: 1 | J10: 28694858 | K10: 324361829 | L10: 28694858 | M10: 324361829 | N10: 0 | O10: 89.080184 | P10: 89.080184 | Q10: 100
A11: A-01-01-01-001-006 | B11: BONIFICACION POR SERVICIOS PESTADOS | C11: 26184446 | D11: 0 | E11: 26184446 | F11: 0 | G11: 26184444 | H11: 6013856 | I11: 2 | J11: 0 | K11: 20170588 | L11: 0 | M11: 20170588 | N11: 0 | O11: 77.032709 | P11: 77.032715 | Q11: 100
A12: A-01-01-01-001-006-01 | B12: Bonificacion por Servicios Pestados | C12: 26184446 | D12: 0 | E12: 26184446 | F12: 0 | G12: 26184444 | H12: 6013856 | I12: 2 | J12: 0 | K12: 20170588 | L12: 0 | M12: 20170588 | N12: 0 | O12: 77.032709 | P12: 77.032715 | Q12: 100
A13: A-01-01-01-001-007 | B13: PRIMA DE SERVICIOS | C13: 214131074 | D13: 15060000 | E13: 229191074 | F13: 0 | G13: 229191073 | H13: 8290310 | I13: 1 | J13: 0 | K13: 220900763 | L13: 0 | M13: 220900763 | N13: 0 | O13: 96.382795 | P13: 96.382795 | Q13: 100
... A263: B-05-01-02-008-007-01 | B263: SERVICIOS DE MANTENIMIENTO Y REPARACION DE PRODUCTOS METALICOS ELABORADOS, MAQUINARIA Y EQUIPO | C263: 749891650 | D263: -711739650 | E263: 38152000 | F263: 0 | G263: 0 | H263: 0 | I263: 38152000 | J263: 0 | K263: 0 | L263: 0 | M263: 0 | N263: 0 | O263: 0 | P263: 0 | Q263: 0
A264: 1
A265: B-05-01-02-008-007-01-5 | B265: Servicios De Mantenimiento Y Reparación De Otra Maquinaria Y Otro Equipo | C265: 70280000 | D265: -32128000 | E265: 38152000 | F265: 0 | G265: 0 | H265: 0 | I265: 38152000 | J265: 0 | K265: 0 | L265: 0 | M265: 0 | N265: 0 | O265: 0 | P265: 0 | Q265: 0
A266: B-05-01-02-009 | B266: SERVICIOS PARA LA COMUNIDAD, SOCIALES Y PERSONALES | C266: 79571520407 | D266: 5962833335 | E266: 85534353742 | F266: 2868211540 | G266: 84209048293 | H266: 1881988466 | I266: 1325305449 | J266: 3637355468 | K266: 82327059827 | L266: 8899909254 | M266: 61636983112 | N266: 20690076715 | O266: 96.250286 | P266: 97.765099 | Q266: 74.868437
A267: B-05-01-02-009-002 | B267: SERVICIOS DE EDUCACION | C267: 226606 | D267: 28915200 | E267: 29141806 | F267: 0 | G267: 29141804 | H267: 2730880 | I267: 2 | J267: 0 | K267: 26410924 | L267: 6907520 | M267: 7134124 | N267: 19276800 | O267: 90.628988 | P267: 90.628995 | Q267: 27.01202
A268: B-05-01-02-009-002-09 | B268: Otros Tipos De Educacion Y Servicios De Apoyo Educativo | C268: 226606 | D268: 28915200 | E268: 29141806 | F268: 0 | G268: 29141804 | H268: 2730880 | I268: 2 | J268: 0 | K268: 26410924 | L268: 6907520 | M268: 7134124 | N268: 19276800 | O268: 90.628988 | P268: 90.628995 | Q268: 27.01202
A269: B-05-01-02-009-005 | B269: SERVICIOS DE ASOCIACIONES | C269: 743034166 | D269: -197285789 | E269: 545748377 | F269: 0 | G269: 543292674 | H269: 0 | I269: 2455703 | J269: 0 | K269: 543292674 | L269: 0 | M269: 543292674 | N269: 0 | O269: 99.55003 | P269: 100 | Q269: 100
A270: B-05-01-02-009-005-01 | B270: Servicios Proporcionados Por Organizaciones Gremiales, Comerciales Y Organizaciones De Empleadores Y De Profesionales | C270: 743034166 | D270: -197285789 | E270: 545748377 | F270: 0 | G270: 543292674 | H270: 0 | I270: 2455703 | J270: 0 | K270: 543292674 | L270: 0 | M270: 543292674 | N270: 0 | O270: 99.55003 | P270: 100 | Q270: 100
A271: B-05-01-02-009-006 | B271: SERVICIOS AUDIOVISUALES Y SERVICIOS CONEXOS | C271: 78828259635 | D271: 6131203924 | E271: 84959463559 | F271: 2868211540 | G271: 83636613815 | H271: 1879257586 | I271: 1322849744 | J271: 3637355468 | K271: 81757356229 | L271: 8893001734 | M271: 61086556314 | N271: 20670799915 | O271: 96.231017 | P271: 97.753068 | Q271: 74.716893
A272: B-05-01-02-009-006-01 | B272: SERVICIOS AUDIOVISUALES Y SERVICIOS CONEXOS | C272: 78828259635 | D272: 6131203924 | E272: 84959463559 | F272: 2868211540 | G272: 83636613815 | H272: 1879257586 | I272: 1322849744 | J272: 3637355468 | K272: 81757356229 | L272: 8893001734 | M272: 61086556314 | N272: 20670799915 | O272: 96.231017 | P272: 97.753068 | Q272: 74.716893
A273: B-05-01-02-009-006-01-1 | B273: Produccion | C273: 77938763239 | D273: 5671714945 | E273: 83610478184 | F273: 2799767992 | G273: 82291440189 | H273: 1852439030 | I273: 1319037995 | J273: 3587155468 | K273: 80439001159 | L273: 8853461233 | M273: 59901772481 | N273: 20537228678 | O273: 96.206843 | P273: 97.748929 | Q273: 74.468568
A274: B-05-01-02-009-006-01-4 | B274: Apropiacion de Contenidos | C274: 889496396 | D274: 459488979 | E274: 1348985375 | F274: 68443548 | G274: 1345173626 | H274: 26818556 | I274: 3811749 | J274: 50200000 | K274: 1318355070 | L274: 39540501 | M274: 1184783833 | N274: 133571237 | O274: 97.729382 | P274: 98.006313 | Q274: 89.868341
A275: D | B275: INVERSIÓN | C275: 77221239772 | D275: 0 | E275: 77221239772 | F275: 333963743 | G275: 77051276048 | H275: 284679191 | I275: 169963724 | J275: 860653269 | K275: 76766596857 | L275: 10431642550 | M275: 57772836831 | N275: 18993760026 | O275: 99.411246 | P275: 99.630533 | Q275: 75.25778
A276: D-400-01-0-2301008 | B276: FACILITAR EL ACCESO Y USO DE LAS TIC EN TODO EL TERRITORIO NACIONAL-EXTENSION ,DESCENTRALIZACION Y COBERTURA DE LA RADIO PUBLICA NACIONAL-ESTACIONES DE RADIODIFUSION | C276: 11175821184 | D276: 0 | E276: 11175821184 | F276: 0 | G276: 11175821181 | H276: 0 | I276: 3 | J276: 0 | K276: 11175821181 | L276: 3904227220 | M276: 7643425126 | N276: 3532396055 | O276: 100 | P276: 100 | Q276: 68.392515
... A512: D-400-10-0-2399063-02-02-02-008-004-03 | B512: Servicios De Contenidos En Línea (On-Line) | C512: 67120138 | D512: 0 | E512: 67120138 | F512: 0 | G512: 58889080 | H512: 0 | I512: 8231058 | J512: 0 | K512: 58889080 | L512: 0 | M512: 58889080 | N512: 0 | O512: 87.736828 | P512: 100 | Q512: 100
A513: TOTAL | C513: 267612920599 | D513: 5200476969 | E513: 272813397568 | F513: 3607521840 | G513: 268551839214 | H513: 4389388331 | I513: 4261558354 | J513: 7947638302 | K513: 264162450883 | L513: 30428225395 | M513: 1.9765119e+11 | N513: 6.6511262e+10
A518: FECHA REPORTE SEVEN 30/11/2021
A519: 44530

Sheet Listado de Rubros_Seven 
A1: RUBRO | B1: NOMBRE | C1: RUBRO Y NOMBRE
A2: A-01-01-01-001-001-01 | B2: =VLOOKUP(A2,EJECUCIÓN!A2:B512,2,FALSE) -> Sueldo Basico | C2: =CONCATENATE(A2," ",B2) -> A-01-01-01-001-001-01 Sueldo Basico
A3: A-01-01-01-001-003-01 | B3: =VLOOKUP(A3,EJECUCIÓN!A3:B513,2,FALSE) -> Prima Tecnica Salarial | C3: =CONCATENATE(A3," ",B3) -> A-01-01-01-001-003-01 Prima Tecnica Salarial
A4: A-01-01-01-001-006-01 | B4: =VLOOKUP(A4,EJECUCIÓN!A4:B514,2,FALSE) -> Bonificacion por Servicios Pestados | C4: =CONCATENATE(A4," ",B4) -> A-01-01-01-001-006-01 Bonificacion por Servicios Pestados
A5: A-01-01-01-001-007-01 | B5: =VLOOKUP(A5,EJECUCIÓN!A5:B515,2,FALSE) -> Prima de Servicios | C5: =CONCATENATE(A5," ",B5) -> A-01-01-01-001-007-01 Prima de Servicios
A6: A-01-01-01-001-008-01 | B6: =VLOOKUP(A6,EJECUCIÓN!A6:B516,2,FALSE) -> Horas Extras, Dominicales, Festivos y Recargos | C6: =CONCATENATE(A6," ",B6) -> A-01-01-01-001-008-01 Horas Extras, Dominicales, Festivos y Recargos
A7: A-01-01-01-001-009-01 | B7: =VLOOKUP(A7,EJECUCIÓN!A7:B517,2,FALSE) -> Prima de Navidad | C7: =CONCATENATE(A7," ",B7) -> A-01-01-01-001-009-01 Prima de Navidad
A8: A-01-01-01-001-010-01 | B8: =VLOOKUP(A8,EJECUCIÓN!A8:B518,2,FALSE) -> Prima de Vacaciones | C8: =CONCATENATE(A8," ",B8) -> A-01-01-01-001-010-01 Prima de Vacaciones
A9: A-01-01-01-001-012-01 | B9: =VLOOKUP(A9,EJECUCIÓN!A9:B519,2,FALSE) -> Auxilio De Conectividad | C9: =CONCATENATE(A9," ",B9) -> A-01-01-01-001-012-01 Auxilio De Conectividad
A10: A-01-01-02-001-001-01 | B10: =VLOOKUP(A10,EJECUCIÓN!A10:B520,2,FALSE) -> Pensiones | C10: =CONCATENATE(A10," ",B10) -> A-01-01-02-001-001-01 Pensiones
A11: A-01-01-02-002-001-01 | B11: =VLOOKUP(A11,EJECUCIÓN!A11:B521,2,FALSE) -> Salud | C11: =CONCATENATE(A11," ",B11) -> A-01-01-02-002-001-01 Salud
A12: A-01-01-02-003-001-01 | B12: =VLOOKUP(A12,EJECUCIÓN!A12:B522,2,FALSE) -> Aportes de Cesantias | C12: =CONCATENATE(A12," ",B12) -> A-01-01-02-003-001-01 Aportes de Cesantias
A13: A-01-01-02-004-001-01 | B13: =VLOOKUP(A13,EJECUCIÓN!A13:B523,2,FALSE) -> Cajas de Compensacion Familiar | C13: =CONCATENATE(A13," ",B13) -> A-01-01-02-004-001-01 Cajas de Compensacion Familiar
... A175: D-400-10-0-2399063-02-02-02-008-004-03 | B175: =VLOOKUP(A175,EJECUCIÓN!A175:B685,2,FALSE) -> Servicios De Contenidos En Línea (On-Line) | C175: =CONCATENATE(A175," ",B175) -> D-400-10-0-2399063-02-02-02-008-004-03 Servicios De Contenidos En Línea (On-Line)
A176: Total | C176: =SUBTOTAL(103,'Listado de Rubros_Seven '!$C$2:$C$175) -> 174
A180: Notas:
A181: 174 Rubros creados en seven, revisar si para el 2022 hay nuevos rubros por crear
A182: Tener en cuenta al concatenar rubro y nombre, cuantos espacios se deja, se propone un solo espacio. Tanto para el PAA como para hacert el cruce con seven en los archivos del PAA, unificar con oplan
A183: Tratar y Nombrar los rubros tal cual estan creados en seven, con tilde, sin tilde….....
