Workbook

Sheet Total tally
A1: Summary Sheet
A2: Spreadsheet Rosa Labs soylent Blend 443.9g Pouch Kosher RFI-HC2300001
A3: oat flour conv | B3: =Oat_flour!B10 -> 121.1497419 | C3: liters
A4: Sweetener, maltodextrin, Maltrin M100 | B4: =Oat_flour!B11 -> 42.35236316 | C4: liters
A5: rice protein 80% ultra (correct sat fat) | B5: 289.03804 | C5: liters
A6: vitamin and mineral premix/gum acacica rosa/ sea salt/ vanill flavor/ sweetener/Gum etc. | B6: =Gums_Artificial!B8 -> 73.83828877 | C6: liters
A7: Oil, soybean lecithin | B7: =Gums_Artificial!B9 -> 8.77439552 | C7: liters
A8: Canola and fish oil: | B8: =Gums_Artificial!B10 -> 120.748844 | C8: liters
A9: Total, 1 serving of SoyLent: | B9: =SUM(B3:B8) -> 655.9016691 | C9: liters
A10: Total, 1 day, 3 servings of SoyLent: | B10: =3*B9 -> 1967.705007 | C10: liters
A11: Standard American diet: | B11: 3997.393 | C11: liters
A12: Daily water savings from SoyLent relative to SAD: | B12: =B11-B10 -> 2029.687953 | C12: liters
A13: Water footprint as a percent of SAD, 1 day's consumption: | B13: =B10/B11 -> 49.2%

Sheet Ingredients
A1: Spreadsheet: Spreadsheet Rosa Labs soylent Blend 443.9g Pouch Kosher RFI-HC2300001
A2: Spreadsheet
A3: Item Name | B3: Quantity | C3: Measure | D3: Wgt (g) | E3: Cals (kcal) | F3: FatCals (kcal) | G3: SatCals (kcal) | H3: Prot (g) | I3: Carb (g) | J3: Fib (g) | K3: SolFib (g) | L3: Sugar (g) | M3: MonSac (g) | N3: Disacc (g) | O3: OCarb (g) | P3: Fat (g) | Q3: SatFat (g) | R3: MonoFat (g) | S3: PolyFat (g) | T3: TransFat (g) | U3: Chol (mg) | V3: Water (g) | W3: Vit A-IU (IU) | X3: Vit A-RE (RE) | Y3: Vit A-RAE (RAE) | Z3: Caroten (RE) | AA3: Retinol (RE) | AB3: BetaCaro (mcg) | AC3: Vit B1 (mg) | AD3: Vit B2 (mg) | AE3: Vit B3 (mg) | AF3: Vit B3-NE (mg) | AG3: Vit B6 (mg) | AH3: Vit B12 (mcg) | AI3: Biot (mcg) | AJ3: Vit C (mg) | AK3: Vit D-IU (IU) | AL3: Vit D-mcg (mcg) | AM3: Vit E-a-Toco (mg) | AN3: Folate (mcg) | AO3: Fol_DFE (mcg) | AP3: Vit K (mcg) | AQ3: Panto (mg) | AR3: Calc (mg) | AS3: Chrom (mcg) | AT3: Copp (mg) | AU3: Fluor (mg) | AV3: Iodine (mcg) | AW3: Iron (mg) | AX3: Magn (mg) | AY3: Mang (mg) | AZ3: Moly (mcg) | BA3: Phos (mg) | BB3: Pot (mg) | BC3: Sel (mcg) | BD3: Sod (mg) | BE3: Zinc (mg) | BF3: Omega3 (g) | BG3: Omega6 (g) | BH3: Alc (g) | BI3: Caff (mg) | BJ3: Chln (mg)
A4: Spreadsheet Rosa Labs soylent Blend 443.9g Pouch Kosher RFI-HC2300001
A5: oat flour conv | B5: 36.67 | C5: Gram | D5: 36.67 | E5: 124.68 | F5: 23.1 | G5: 4.95 | H5: 5.5 | I5: 23.1 | J5: 3.67 | K5: 0 | L5: 0 | M5: 0 | N5: 0 | O5: 0 | P5: 2.57 | Q5: 0.55 | R5: 1.06 | S5: 1.21 | T5: 0 | U5: 0 | V5: 0 | W5: 0 | X5: 0 | Y5: 0 | Z5: 0 | AA5: 0 | AB5: 0 | AC5: 0 | AD5: 0 | AE5: 0 | AF5: 0 | AG5: 0 | AH5: 0 | AI5: 0 | AJ5: 0 | AK5: 0 | AL5: 0 | AM5: 0 | AN5: 0 | AO5: 0 | AP5: 0 | AQ5: 0 | AR5: 16.5 | AS5: 0 | AT5: 0 | AU5: 0 | AV5: 0 | AW5: 1.65 | AX5: 52.8 | AY5: 0 | AZ5: 0 | BA5: 165.75 | BB5: 136.05 | BC5: 0 | BD5: 1.83 | BE5: 0 | BF5: 0 | BG5: 0 | BH5: 0 | BI5: 0 | BJ5: 0
A6: Sweetener, maltodextrin, Maltrin M100 | B6: 55 | C6: Gram | D6: 55 | E6: 206.8 | F6: 0.49 | G6: 0 | H6: 0.05 | I6: 51.97 | J6: 0.05 | K6: 0 | L6: 1.92 | M6: 0 | N6: 0 | O6: 49.99 | P6: 0.05 | Q6: 0 | R6: 0 | S6: 0 | T6: 0 | U6: 0 | V6: 2.56 | W6: 0 | X6: 0 | Y6: 0 | Z6: 0 | AA6: 0 | AB6: 0 | AC6: 0 | AD6: 0 | AE6: 0 | AF6: 0 | AG6: 0 | AH6: 0 | AI6: 0 | AJ6: 0 | AK6: 0 | AL6: 0 | AM6: 0 | AN6: 0 | AO6: 0 | AP6: 0 | AQ6: 0 | AR6: 13.75 | AS6: 0 | AT6: 0.03 | AU6: 0 | AV6: 30.25 | AW6: 0.14 | AX6: 4.95 | AY6: 0 | AZ6: 0 | BA6: 2.75 | BB6: 0.55 | BC6: 0 | BD6: 44 | BE6: 0.03 | BF6: 0 | BG6: 0 | BH6: 0 | BI6: 0 | BJ6: 0
A7: rice protein 80% ultra (correct sat fat) | B7: 40 | C7: Gram | D7: 40 | E7: 155.2 | F7: 7.2 | G7: 3.24 | H7: 32 | I7: 4.8 | J7: 1.6 | K7: 0 | L7: 0 | M7: 0 | N7: 0 | O7: 3.2 | P7: 0.8 | Q7: 0.36 | R7: 0 | S7: 0 | T7: 0 | U7: 0 | V7: 1.35 | W7: 0 | X7: 0 | Y7: 0 | Z7: 0 | AA7: 0 | AB7: 0 | AC7: 0 | AD7: 0 | AE7: 0 | AF7: 0 | AG7: 0 | AH7: 0 | AI7: 0 | AJ7: 0 | AK7: 0 | AL7: 0 | AM7: 0 | AN7: 0 | AO7: 0 | AP7: 0 | AQ7: 0 | AR7: 95.6 | AS7: 0 | AT7: 0 | AU7: 0 | AV7: 0 | AW7: 5.6 | AX7: 0 | AY7: 0 | AZ7: 0 | BA7: 0 | BB7: 0 | BC7: 0 | BD7: 1.2 | BE7: 0 | BF7: 0 | BG7: 0 | BH7: 0 | BI7: 0 | BJ7: 0
A8: vitamin and mineral premix FT139459 | B8: 9.3 | C8: Grams | D8: 9.31 | E8: 0 | F8: 0 | G8: 0 | H8: 0 | I8: 0 | J8: 0 | K8: 0 | L8: 0 | M8: 0 | N8: 0 | O8: 0 | P8: 0 | Q8: 0 | R8: 0 | S8: 0 | T8: 0 | U8: 0 | V8: 0 | W8: 1832.68 | X8: 0 | Y8: 0 | Z8: 0 | AA8: 0 | AB8: 0 | AC8: 0.55 | AD8: 0.62 | AE8: 7.33 | AF8: 7.33 | AG8: 0.73 | AH8: 2.2 | AI8: 109.96 | AJ8: 21.99 | AK8: 146.61 | AL8: 0 | AM8: 7.33 | AN8: 146.61 | AO8: 0 | AP8: 29.32 | AQ8: 3.67 | AR8: 288.1 | AS8: 43.98 | AT8: 0.73 | AU8: 0 | AV8: 54.98 | AW8: 0 | AX8: 84.3 | AY8: 0.73 | AZ8: 27.49 | BA8: 0 | BB8: 1143.59 | BC8: 25.66 | BD8: 0 | BE8: 5.5 | BF8: 0 | BG8: 0 | BH8: 0 | BI8: 0 | BJ8: 503.99
A9: Oil, soybean lecithin | B9: 2 | C9: Gram | D9: 2 | E9: 15.26 | F9: 15.26 | G9: 2.7 | H9: 0 | I9: 0 | J9: 0 | K9: 0 | L9: 0 | M9: 0 | N9: 0 | O9: 0 | P9: 2 | Q9: 0.3 | R9: 0.22 | S9: 0.91 | T9: 0 | U9: 0 | V9: 0 | W9: 0 | X9: 0 | Y9: 0 | Z9: 0 | AA9: 0 | AB9: 0 | AC9: 0 | AD9: 0 | AE9: 0 | AF9: 0 | AG9: 0 | AH9: 0 | AI9: 0 | AJ9: 0 | AK9: 0 | AL9: 0 | AM9: 0.16 | AN9: 0 | AO9: 0 | AP9: 3.68 | AQ9: 0 | AR9: 0 | AS9: 0 | AT9: 0 | AU9: 0 | AV9: 0 | AW9: 0 | AX9: 0 | AY9: 0 | AZ9: 0 | BA9: 0 | BB9: 0 | BC9: 0 | BD9: 0 | BE9: 0 | BF9: 0.1 | BG9: 0.8 | BH9: 0 | BI9: 0 | BJ9: 7
A10: gum acacia rosa | B10: 3.5 | C10: Gram | D10: 3.5 | E10: 5.95 | F10: 0 | G10: 0 | H10: 0 | I10: 3.15 | J10: 3.15 | K10: 0 | L10: 0 | M10: 0 | N10: 0 | O10: 0 | P10: 0 | Q10: 0 | R10: 0 | S10: 0 | T10: 0 | U10: 0 | V10: 0 | W10: 0 | X10: 0 | Y10: 0 | Z10: 0 | AA10: 0 | AB10: 0 | AC10: 0 | AD10: 0 | AE10: 0 | AF10: 0 | AG10: 0 | AH10: 0 | AI10: 0 | AJ10: 0 | AK10: 0 | AL10: 0 | AM10: 0 | AN10: 0 | AO10: 0 | AP10: 0 | AQ10: 0 | AR10: 17.5 | AS10: 0 | AT10: 0 | AU10: 0 | AV10: 0 | AW10: 0 | AX10: 0 | AY10: 0 | AZ10: 0 | BA10: 0 | BB10: 0 | BC10: 0 | BD10: 24.5 | BE10: 0 | BF10: 0 | BG10: 0 | BH10: 0 | BI10: 0 | BJ10: 0
A11: Salt, sea | B11: 0.7 | C11: grams | D11: 0.7 | E11: 0 | F11: 0 | G11: 0 | H11: 0 | I11: 0 | J11: 0 | K11: 0 | L11: 0 | M11: 0 | N11: 0 | O11: 0 | P11: 0 | Q11: 0 | R11: 0 | S11: 0 | T11: 0 | U11: 0 | V11: 0 | W11: 0 | X11: 0 | Y11: 0 | Z11: 0 | AA11: 0 | AB11: 0 | AC11: 0 | AD11: 0 | AE11: 0 | AF11: 0 | AG11: 0 | AH11: 0 | AI11: 0 | AJ11: 0 | AK11: 0 | AL11: 0 | AM11: 0 | AN11: 0 | AO11: 0 | AP11: 0 | AQ11: 0 | AR11: 0.21 | AS11: 0 | AT11: 0 | AU11: 0 | AV11: 0 | AW11: 0 | AX11: 1.01 | AY11: 0 | AZ11: 0 | BA11: 0 | BB11: 0 | BC11: 0 | BD11: 275.28 | BE11: 0 | BF11: 0 | BG11: 0 | BH11: 0 | BI11: 0 | BJ11: 0
A12: artificial vanilla flavor | B12: 0.6 | C12: grams | D12: 0.6 | E12: 1.9 | F12: 0 | G12: 0 | H12: 0 | I12: 0.47 | J12: 0 | K12: 0 | L12: 0.4 | M12: 0 | N12: 0 | O12: 0 | P12: 0 | Q12: 0 | R12: 0 | S12: 0 | T12: 0 | U12: 0 | V12: 0 | W12: 0.04 | X12: 0 | Y12: 0 | Z12: 0 | AA12: 0 | AB12: 0 | AC12: 0 | AD12: 0 | AE12: 0 | AF12: 0 | AG12: 0 | AH12: 0 | AI12: 0 | AJ12: 0 | AK12: 0 | AL12: 0 | AM12: 0 | AN12: 0 | AO12: 0 | AP12: 0 | AQ12: 0 | AR12: 0.04 | AS12: 0 | AT12: 0 | AU12: 0 | AV12: 0 | AW12: 0.03 | AX12: 0 | AY12: 0 | AZ12: 0 | BA12: 0 | BB12: 0 | BC12: 0 | BD12: 0.18 | BE12: 0 | BF12: 0 | BG12: 0 | BH12: 0 | BI12: 0 | BJ12: 0
A13: Sweetener, sucralose, Splenda | B13: 0.2 | C13: grams | D13: 0.02 | E13: 0.07 | F13: 0 | G13: 0 | H13: 0 | I13: 0.02 | J13: 0 | K13: 0 | L13: 0.02 | M13: 0 | N13: 0 | O13: 0 | P13: 0 | Q13: 0 | R13: 0 | S13: 0 | T13: 0 | U13: 0 | V13: 0 | W13: 0 | X13: 0 | Y13: 0 | Z13: 0 | AA13: 0 | AB13: 0 | AC13: 0 | AD13: 0 | AE13: 0 | AF13: 0 | AG13: 0 | AH13: 0 | AI13: 0 | AJ13: 0 | AK13: 0 | AL13: 0 | AM13: 0 | AN13: 0 | AO13: 0 | AP13: 0 | AQ13: 0 | AR13: 0 | AS13: 0 | AT13: 0 | AU13: 0 | AV13: 0 | AW13: 0 | AX13: 0 | AY13: 0 | AZ13: 0 | BA13: 0 | BB13: 0 | BC13: 0 | BD13: 0 | BE13: 0 | BF13: 0 | BG13: 0 | BH13: 0 | BI13: 0 | BJ13: 0
A14: Gum, xanthan, Ticaxan, pwd | B14: 0.167 | C14: grams | D14: 0.17 | E14: 0.57 | F14: 0 | G14: 0 | H14: 0 | I14: 0.14 | J14: 0.14 | K14: 0.14 | L14: 0 | M14: 0 | N14: 0 | O14: 0 | P14: 0 | Q14: 0 | R14: 0 | S14: 0 | T14: 0 | U14: 0 | V14: 0 | W14: 0 | X14: 0 | Y14: 0 | Z14: 0 | AA14: 0 | AB14: 0 | AC14: 0 | AD14: 0 | AE14: 0 | AF14: 0 | AG14: 0 | AH14: 0 | AI14: 0 | AJ14: 0 | AK14: 0 | AL14: 0 | AM14: 0 | AN14: 0 | AO14: 0 | AP14: 0 | AQ14: 0 | AR14: 0.07 | AS14: 0 | AT14: 0 | AU14: 0 | AV14: 0 | AW14: 0 | AX14: 0 | AY14: 0 | AZ14: 0 | BA14: 0 | BB14: 4.28 | BC14: 0 | BD14: 2.92 | BE14: 0 | BF14: 0 | BG14: 0 | BH14: 0 | BI14: 0 | BJ14: 0
A15: Oil, canola | B15: 16 | C15: Gram | D15: 16 | E15: 141.44 | F15: 141.44 | G15: 10.61 | H15: 0 | I15: 0 | J15: 0 | K15: 0 | L15: 0 | M15: 0 | N15: 0 | O15: 0 | P15: 16 | Q15: 1.18 | R15: 10.12 | S15: 4.5 | T15: 0.06 | U15: 0 | V15: 0 | W15: 0 | X15: 0 | Y15: 0 | Z15: 0 | AA15: 0 | AB15: 0 | AC15: 0 | AD15: 0 | AE15: 0 | AF15: 0 | AG15: 0 | AH15: 0 | AI15: 0 | AJ15: 0 | AK15: 0 | AL15: 0 | AM15: 2.79 | AN15: 0 | AO15: 0 | AP15: 11.41 | AQ15: 0 | AR15: 0 | AS15: 0 | AT15: 0 | AU15: 0 | AV15: 0 | AW15: 0 | AX15: 0 | AY15: 0 | AZ15: 0 | BA15: 0 | BB15: 0 | BC15: 0 | BD15: 0 | BE15: 0 | BF15: 1.46 | BG15: 3.04 | BH15: 0 | BI15: 0 | BJ15: 0.03
A16: Oil, fish, sardine | B16: 2.223 | C16: Gram | D16: 2.22 | E16: 20.05 | F16: 20.01 | G16: 5.98 | H16: 0 | I16: 0 | J16: 0 | K16: 0 | L16: 0 | M16: 0 | N16: 0 | O16: 0 | P16: 2.22 | Q16: 0.66 | R16: 0.75 | S16: 0.71 | T16: 0 | U16: 15.78 | V16: 0 | W16: 0 | X16: 0 | Y16: 0 | Z16: 0 | AA16: 0 | AB16: 0 | AC16: 0 | AD16: 0 | AE16: 0 | AF16: 0 | AG16: 0 | AH16: 0 | AI16: 0 | AJ16: 0 | AK16: 7.38 | AL16: 0.18 | AM16: 0 | AN16: 0 | AO16: 0 | AP16: 0 | AQ16: 0 | AR16: 0 | AS16: 0 | AT16: 0 | AU16: 0 | AV16: 0 | AW16: 0 | AX16: 0 | AY16: 0 | AZ16: 0 | BA16: 0 | BB16: 0 | BC16: 0 | BD16: 0 | BE16: 0 | BF16: 0.6 | BG16: 0.08 | BH16: 0 | BI16: 0 | BJ16: 0
A17: Total | D17: 166.19 | E17: 671.91 | F17: 207.5 | G17: 27.48 | H17: 37.56 | I17: 83.66 | J17: 8.61 | K17: 0.14 | L17: 2.34 | M17: 0 | N17: 0 | O17: 53.2 | P17: 23.64 | Q17: 3.05 | R17: 12.16 | S17: 7.33 | T17: 0.06 | U17: 15.78 | V17: 3.91 | W17: 1832.72 | X17: 0 | Y17: 0 | Z17: 0 | AA17: 0 | AB17: 0 | AC17: 0.55 | AD17: 0.62 | AE17: 7.33 | AF17: 7.33 | AG17: 0.73 | AH17: 2.2 | AI17: 109.96 | AJ17: 21.99 | AK17: 153.99 | AL17: 0.18 | AM17: 10.29 | AN17: 146.61 | AO17: 0 | AP17: 44.41 | AQ17: 3.67 | AR17: 431.76 | AS17: 43.98 | AT17: 0.76 | AU17: 0 | AV17: 85.23 | AW17: 7.42 | AX17: 143.07 | AY17: 0.73 | AZ17: 27.49 | BA17: 168.5 | BB17: 1284.46 | BC17: 25.66 | BD17: 349.91 | BE17: 5.53 | BF17: 2.17 | BG17: 3.93 | BH17: 0 | BI17: 0 | BJ17: 511.02

Sheet Rice_protein
B1: Quantity | C1: Units | D1: Source | E1: Notes
A2: Water intensitvitiy of rice: | B2: 971 | C2: cubic meters | D2: http://www.waterfootprint.org/Reports/Report40-WaterFootprintRice.pdf | E2: Using figure for Chinese rice water footprint on page 22
A3: Grams per ton | B3: 907185 | C3: grams
A4: Intensivity per gram: | B4: =B2/B3 -> 0.001070343976 | C4: cubic meters
A5: Protein per 100g of raw brown rice | B5: 11.85 | C5: grams | D5: "Studies on the Extraction and Composition of Rice Proteins" Cagampang et al
A6: Protein per 1g of raw brown rice | B6: =B5/100 -> 0.1185
A7: grams of protein from BRP in 1 day of Soylent: | B7: =0.8*Ingredients!B7 -> 32 | C7: grams | E7: <--assumes protein content is 80% of listed rice protein on sheet 1
A8: grams of rice required for Soylent protein | B8: =B7/B6 -> 270.0421941
A9: Water to produce rice protein for 1 day Soylent: | B9: =B8*B4 -> 0.2890380358 | C9: cubic meters of water
A10: Liters of water per 1 cubic meter: | B10: 1000
A11: Liters of water for 1 serving of SoyLent's rice protein: | B11: =B10*B9 -> 289.0380358 | C11: liters
A12: Liters of water for 1 day/3 serving SoyLent's rice protein: | B12: =B11*3 -> 867.1141073 | C12: liters

Sheet Oat_flour
B1: Quantity | C1: Units | D1: Source | E1: Notes
A2: Water intensitvitiy of oats: | B2: 2098 | C2: cubic meters/ton | D2: http://www.waterfootprint.org/Reports/Mekonnen-Hoekstra-2011-WaterFootprintCrops.pdf | E2: This assumes the global average water intensivity of oat groats, which are the last form of oats before they become oat flour, regardless of which process they become oat flour by.
A3: Grams per ton | B3: 907185 | C3: grams
A4: Intensivity per gram | B4: =B2/B3 -> 0.002312648468 | C4: cubic meters per gram
A5: Carbs from oat flour in SoyLent: | B5: =Ingredients!B5 -> 36.67 | C5: grams | D5: "Studies on the Extraction and Composition of Rice Proteins" Cagampang et al
A6: Ratio of grams carbs to physical grams: | B6: 0.7
A7: Physical grams of oats required: | B7: =B5/B6 -> 52.38571429
A8: Water intensitivity per serving of SoyLent: | B8: =B7*B4 -> 0.1211497419 | C8: cubic meters per gram
A9: Liters of water per 1 cubic meter: | B9: 1000
A10: Liters of water for 1 serving SoyLent's rice protein: | B10: =B9*B8 -> 121.1497419 | C10: liters
A11: Liters of water for 1 day/3 serving SoyLent's rice protein: | B11: =B10*3 -> 363.4492256 | C11: gallons

Sheet Maltodextrin
B1: Quantity | C1: Units | D1: Source | E1: Notes
A2: Water intensitvitiy of US maize/corn: | B2: 489 | C2: cubic meters/ton | D2: http://www.waterfootprint.org/Reports/Hoekstra_and_Chapagain_2006.pdf | E2: This is the value for USA grown maize/corn, which is notably lower than the values for other countries but seems like it is the most likely to be relevant
A3: Grams per ton | B3: 907185 | C3: grams
A4: Intensivity per physical gram | B4: =B2/B3 -> 0.0005390300766 | C4: cubic meters per gram
A5: Grams of carbohydates from malto per serving: | B5: =Ingredients!B6 -> 55 | C5: grams | D5: "Studies on the Extraction and Composition of Rice Proteins" Cagampang et al
A6: Ratio of physical grams per gram of carbohydrate: | B6: 0.7
A7: Physical grams required to produce carbs: | B7: =B5/B6 -> 78.57142857
A8: Water intensitivity per serving of SoyLent: | B8: =B7*B4 -> 0.04235236316 | C8: cubic meters per gram
A9: Liters of water per 1 cubic meter: | B9: 1000
A10: Liters of water for 1 serving SoyLent's maltodextrin: | B10: =B9*B8 -> 42.35236316 | C10: liters
A11: Liters of water for 1 day/3 serving SoyLent's maltodextrin: | B11: =B10*3 -> 127.0570895 | C11: liters

Sheet Soybean oil
B1: Quantity | C1: Units | D1: Source | E1: Notes
A2: Water intensitvitiy of refined soybean oil | B2: 3980 | C2: cubic meters per ton | D2: http://www.waterfootprint.org/Reports/Mekonnen-Hoekstra-2011-WaterFootprintCrops.pdf
A3: One ton, in grams: | B3: 907185 | C3: grams
A4: Water intensivity of soybean oil per gram: | B4: =B2/B3 -> 0.00438719776 | C4: cubic meters per gram
A5: Grams of soybean oil in 1 unit of soylent: | B5: =Ingredients!B9 -> 2 | C5: grams
A6: Water intensivity of soybean oil per SoyLent serving: | B6: =B5*B4 -> 0.00877439552 | C6: cubic meters of water
A7: Liters per cubitc meter: | B7: 1000 | C7: liters
A8: Water footprint from gum in 1 serving of SoyLent, liters: | B8: =B7*B6 -> 8.77439552 | C8: liters
A9: Liters of water for 1 day/3 serving SoyLent's soybean oil: | B9: =B8*3 -> 26.32318656

Sheet Other oils
B1: Quantity | C1: Units | D1: Source | E1: Notes
A2: Water intensitvitiy of refined soybean oil | B2: 3980 | C2: cubic meters per ton | D2: http://www.waterfootprint.org/Reports/Mekonnen-Hoekstra-2011-WaterFootprintCrops.pdf
A3: One ton, in grams: | B3: 907185 | C3: grams
A4: Water intensivity of soybean oil per gram: | B4: =B2/B3 -> 0.00438719776 | C4: cubic meters per gram
A5: Grams of other oils in 1 unit of soylent: | B5: =Ingredients!B15+Ingredients!B16+Ingredients!B8 -> 27.523 | C5: grams
A6: Water intensivity of other oils per SoyLent serving: | B6: =B5*B4 -> 0.120748844 | C6: cubic meters of water
A7: Liters per cubitc meter: | B7: 1000 | C7: liters
A8: Water footprint from other oils in 1 serving of SoyLent, liters: | B8: =B7*B6 -> 120.748844 | C8: liters
A9: Liters of water for 1 day/3 serving SoyLent's other oils: | B9: =B8*3 -> 362.2465319 | C9: liters
A11: Note: this spreadsheet estimates the water footprint of canola oil, fish oil, and the vitamin premix by assuming they each have the water intensivity of soybean oil, which is a relatively but not extremely lower water footprint oil.

Sheet Gums_Artificial
B1: Quantity | C1: Units | D1: Source | E1: Notes
A2: Water intensitvitiy of gum: | B2: 12964 | C2: cubic meters per ton | D2: http://www.waterfootprint.org/Reports/Mekonnen-Hoekstra-2011-WaterFootprintCrops.pdf
A3: One ton, in grams: | B3: 907185 | C3: grams
A4: Water intensivity of soybean oil per gram: | B4: =B2/B3 -> 0.01429035974 | C4: cubic meters per gram
A5: Grams of "other stuff" in 1 unit of soylent: | B5: =Ingredients!B10+Ingredients!B11+Ingredients!B12+Ingredients!B13+Ingredients!B14 -> 5.167 | C5: grams
A6: Water intensivity of "other stuff" per SoyLent serving: | B6: =B5*B4 -> 0.07383828877 | C6: cubic meters of water
A7: Liters per cubitc meter: | B7: 1000 | C7: liters
A8: Water footprint from "other stuff" in 1 serving of SoyLent, liters: | B8: =B7*B6 -> 73.83828877 | C8: liters
A9: Liters of water for 1 day/3 serving SoyLent's "other stuff": | B9: =B8*3 -> 221.5148663 | C9: liters
A11: Note: there is a credible estimate for the water footprint of gum. For the sake of tying down the estimate of things like sucralose and gum aca rosa to something, I've accounted for them as gum here.
