Workbook

Sheet Contents
B8: Natural gas imports and exports
B10: Publication date: | E10: 42488
B11: Data period: | E11: New data for February 2016
B12: Next Update | E12: 42516
B14: Contents
B15: Main points | E15: Highlights
B16: Tables | E16: Main table (GWh)
E17: Main table (Million m3)
B18: Historic data | E18: Annual (GWh) | G18: 2000 - 2015
E19: Annual (Million m3) | G19: 2000 - 2015
E20: Quarter (GWh) | G20: Q1 2000 - Q4 2015
E21: Quarter (Million m3) | G21: Q1 2000 - Q4 2015
E22: Month (GWh) | G22: January 2000 - February 2016
E23: Month (Million m3) | G23: January 2000 - February 2016
E24: Calculated calorific values | G24: January 2000 - February 2016
B26: Background
B27: Data on UK natural gas imports and exports. Monthly data published two months in arrears in both Gigawatt hours and Million cubic metres.
B29: Further information
B30: Website | E30: Energy Trends: gas
B31: Data sources & methodology | E31: Gas production and trade: upstream gas methodology note
E32: Downstream gas statistics: data sources and methodologies
B33: Revisions policy | E33: Energy statistics revisions policy
B34: Glossary and acronyms | E34: Digest of United Kingdom Energy Statistics (DUKES): glossary and acronyms
B36: Contacts | E36: DECC Press Office (media enquiries) | I36: tel: 0300 060 4000 | L36: e-mail: | M36: pressoffice@decc.gsi.gov.uk
E37: Statistician: Warren Evans | I37: tel: 0300 068 5059 | L37: e-mail: | M37: warren.evans@decc.gsi.gov.uk

Sheet Highlights
B1: GAS
B2: Table 4.3 Natural gas imports and exports
B3: 42488
B5: Provisional 2015 data compared with 2014:
B6: Increased production, stable imports and demand has given rise to significantly higher exports. Total imports are up by 4.5 per cent whilst exports are up by 34 per cent.
B8: The overall trend masks some underlying differences. Despite a small increase in overall imports, pipeline imports from the Netherlands and Belgium have decreased by half compared with last year and the additional volumes are sourced from Norway (up 11.9 per cent on last year) and Liquified Natural Gas (up a fifth on last year).
B10: Whilst export volumes are up a third there are again country-by-country differences. Exports to Belgium are showing the most substantial increase (up 76 per cent). There has been a 10.3 per cent increase in exports to the Netherlands whilst exports to the Republic of Ireland were relatively steady (up 2.3 per cent)
B12: In the latest 3 months:
B13: The last three months has seen a contraction of imports from Europe, with a small rise in LNG imports (1.7 per cent up). Overall, imports have decreased by 6.9 per cent on the same period a year ago, a result of strong UK production and relatively muted demand.
B15: Total exports were up nearly a fifth on the same period last year, with the most notable change being Belgian exports which increased nearly three fold to match the exports of gas to the Republic of Ireland.
B17: Further details on gas imports can be found within Table 4.4
B19: Please note that the imports and exports in Table 4.3 differ from those in Table 4.2 because this table uses the physical flows through the Bacton-Zeebrugge Interconnector and BBL pipeline, as opposed to the commercial flows in Table 4.2. Commercial flows are the amounts of gas that companies requested be supplied through the pipeline. The overall net trade is the same in both tables.
B21: Return to contents page

Sheet Main Table (GWh)
A1: GAS
A2: TABLE 4.3 Natural gas imports and exports | P2: GWh
F5: Imports | K5: Exports
D6: From | E6: From the | F6: From | G6: Liquefied | H6: Total | J6: To | K6: To the | L6: To | M6: To the | N6: Total | P6: Net
D7: Belgium1 | E7: Netherlands2 | F7: Norway3 | G7: Natural Gas4 | H7: Imports | J7: Belgium1 | K7: Netherlands5 | L7: Norway6 | M7: Republic of | N7: Exports | P7: Imports7
M8: Ireland
A9: 2011 | D9: ='Annual (GWh)'!B23 -> 4031.5961 | E9: ='Annual (GWh)'!C23 -> 69001.094 | F9: ='Annual (GWh)'!D23 -> 234193.66 | G9: ='Annual (GWh)'!E23 -> 274794.23 | H9: ='Annual (GWh)'!F23 -> 582020.58 | J9: ='Annual (GWh)'!G23 -> 101526.25 | K9: ='Annual (GWh)'!H23 -> 17543.681 | L9: ='Annual (GWh)'!I23 -> 120.03889 | M9: ='Annual (GWh)'!J23 -> 58041.478 | N9: ='Annual (GWh)'!K23 -> 177231.45 | P9: ='Annual (GWh)'!L23 -> 404789.13
A10: 2012 | D10: ='Annual (GWh)'!B24 -> 14263.62 | E10: ='Annual (GWh)'!C24 -> 78258.46 | F10: ='Annual (GWh)'!D24 -> 294585.81 | G10: ='Annual (GWh)'!E24 -> 150097.68 | H10: ='Annual (GWh)'!F24 -> 537205.57 | J10: ='Annual (GWh)'!G24 -> 50343.123 | K10: ='Annual (GWh)'!H24 -> 23728.535 | L10: ='Annual (GWh)'!I24 -> 49.318444 | M10: ='Annual (GWh)'!J24 -> 57589.642 | N10: ='Annual (GWh)'!K24 -> 131710.62 | P10: ='Annual (GWh)'!L24 -> 405494.95
A11: 2013 | D11: ='Annual (GWh)'!B25 -> 35366.849 | E11: ='Annual (GWh)'!C25 -> 81519.42 | F11: ='Annual (GWh)'!D25 -> 305515.79 | G11: ='Annual (GWh)'!E25 -> 102620.34 | H11: ='Annual (GWh)'!F25 -> 525022.4 | J11: ='Annual (GWh)'!G25 -> 27457.824 | K11: ='Annual (GWh)'!H25 -> 18597.045 | L11: ='Annual (GWh)'!I25 -> 19.552444 | M11: ='Annual (GWh)'!J25 -> 53507.585 | N11: ='Annual (GWh)'!K25 -> 99582.006 | P11: ='Annual (GWh)'!L25 -> 425440.39
A12: 2014 | D12: ='Annual (GWh)'!B26 -> 3948.5761 | E12: ='Annual (GWh)'!C26 -> 70292.615 | F12: ='Annual (GWh)'!D26 -> 267041.95 | G12: ='Annual (GWh)'!E26 -> 123912.39 | H12: ='Annual (GWh)'!F26 -> 465195.53 | J12: ='Annual (GWh)'!G26 -> 48073.764 | K12: ='Annual (GWh)'!H26 -> 18851.7 | L12: ='Annual (GWh)'!I26 -> 8.8924444 | M12: ='Annual (GWh)'!J26 -> 49004.134 | N12: ='Annual (GWh)'!K26 -> 115938.49 | P12: ='Annual (GWh)'!L26 -> 349257.04
A13: 2015 | D13: ='Annual (GWh)'!B27 -> 2116.2019 | E13: ='Annual (GWh)'!C27 -> 35932.863 | F13: ='Annual (GWh)'!D27 -> 298772.79 | G13: ='Annual (GWh)'!E27 -> 149364.16 | H13: ='Annual (GWh)'!F27 -> 486186.02 | J13: ='Annual (GWh)'!G27 -> 84465.071 | K13: ='Annual (GWh)'!H27 -> 20789.249 | L13: ='Annual (GWh)'!I27 -> 3.3255556 | M13: ='Annual (GWh)'!J27 -> 50120.757 | N13: ='Annual (GWh)'!K27 -> 155378.4 | P13: ='Annual (GWh)'!L27 -> 330807.61
A14: Per cent change | D14: -46.4 | E14: -48.9 | F14: +11.9 | G14: +20.5 | H14: +4.5 | J14: +75.7 | K14: +10.3 | L14: -62.6 | M14: +2.3 | N14: +34.0 | P14: -5.3
A15: 2015 | B15: January - | C15: February | D15: =SUM('Month (GWh)'!C192:C193) -> 1877.4572 | E15: =SUM('Month (GWh)'!D192:D193) -> 16463.151 | F15: =SUM('Month (GWh)'!E192:E193) -> 63999.785 | G15: =SUM('Month (GWh)'!F192:F193) -> 21201.333 | H15: =SUM('Month (GWh)'!G192:G193) -> 103541.73 | J15: =SUM('Month (GWh)'!H192:H193) -> 2371.0758 | K15: =SUM('Month (GWh)'!I192:I193) -> 3812.8396 | L15: =SUM('Month (GWh)'!J192:J193) -> 0.35533333 | M15: =SUM('Month (GWh)'!K192:K193) -> 8724.6277 | N15: =SUM('Month (GWh)'!L192:L193) -> 14908.898 | P15: =SUM('Month (GWh)'!M192:M193) -> 88632.828
A16: 2016 | B16: February - | C16: January | D16: =SUM('Month (GWh)'!C204:C205) -> 477.35296 | E16: =SUM('Month (GWh)'!D204:D205) -> 13678.629 | F16: =SUM('Month (GWh)'!E204:E205) -> 63197.952 | G16: =SUM('Month (GWh)'!F204:F205) -> 23795.728 | H16: =SUM('Month (GWh)'!G204:G205) -> 101149.66 | J16: =SUM('Month (GWh)'!H204:H205) -> 3537.4613 | K16: =SUM('Month (GWh)'!I204:I205) -> 3867.6779 | L16: =SUM('Month (GWh)'!J204:J205) -> 0.35533333 | M16: =SUM('Month (GWh)'!K204:K205) -> 5724.0776 | N16: =SUM('Month (GWh)'!L204:L205) -> 13129.572 | P16: =SUM('Month (GWh)'!M204:M205) -> 88020.09
A17: Per cent change | D17: -74.6 | E17: -16.9 | F17: -1.3 | G17: +12.2 | H17: -2.3 | J17: +49.2 | K17: +1.4 | L17: - | M17: -34.4 | N17: -11.9 | P17: -0.7
A18: 2014 | B18: December | D18: ='Month (GWh)'!C191 -> 385.74806 | E18: ='Month (GWh)'!D191 -> 7608.0796 | F18: ='Month (GWh)'!E191 -> 35944.684 | G18: ='Month (GWh)'!F191 -> 11785.473 | H18: ='Month (GWh)'!G191 -> 55723.984 | J18: ='Month (GWh)'!H191 -> 427.46472 | K18: ='Month (GWh)'!I191 -> 972.20425 | L18: ='Month (GWh)'!J191 -> 0 | M18: ='Month (GWh)'!K191 -> 4091.1515 | N18: ='Month (GWh)'!L191 -> 5490.8205 | P18: ='Month (GWh)'!M191 -> 50233.164
A19: 2015 | B19: January | D19: ='Month (GWh)'!C192 -> 773.09722 | E19: ='Month (GWh)'!D192 -> 9338.6943 | F19: ='Month (GWh)'!E192 -> 31247.32 | G19: ='Month (GWh)'!F192 -> 11927.398 | H19: ='Month (GWh)'!G192 -> 53286.51 | J19: ='Month (GWh)'!H192 -> 1784.5883 | K19: ='Month (GWh)'!I192 -> 1845.9273 | L19: ='Month (GWh)'!J192 -> 0.35533333 | M19: ='Month (GWh)'!K192 -> 4507.39 | N19: ='Month (GWh)'!L192 -> 8138.2609 | P19: ='Month (GWh)'!M192 -> 45148.249
B20: February | D20: ='Month (GWh)'!C193 -> 1104.36 | E20: ='Month (GWh)'!D193 -> 7124.4569 | F20: ='Month (GWh)'!E193 -> 32752.465 | G20: ='Month (GWh)'!F193 -> 9273.9345 | H20: ='Month (GWh)'!G193 -> 50255.217 | J20: ='Month (GWh)'!H193 -> 586.4875 | K20: ='Month (GWh)'!I193 -> 1966.9124 | L20: ='Month (GWh)'!J193 -> 0 | M20: ='Month (GWh)'!K193 -> 4217.2377 | N20: ='Month (GWh)'!L193 -> 6770.6376 | P20: ='Month (GWh)'!M193 -> 43484.579
A21: Total | D21: =SUM(D18:D20) -> 2263.2053 | E21: =SUM(E18:E20) -> 24071.231 | F21: =SUM(F18:F20) -> 99944.47 | G21: =SUM(G18:G20) -> 32986.805 | H21: =SUM(H18:H20) -> 159265.71 | J21: =SUM(J18:J20) -> 2798.5406 | K21: =SUM(K18:K20) -> 4785.0439 | L21: =SUM(L18:L20) -> 0.35533333 | M21: =SUM(M18:M20) -> 12815.779 | N21: =SUM(N18:N20) -> 20399.719 | P21: =SUM(P18:P20) -> 138865.99
A22: 2015 | B22: December | D22: ='Month (GWh)'!C203 -> 0 | E22: ='Month (GWh)'!D203 -> 6432.1931 | F22: ='Month (GWh)'!E203 -> 30961.174 | G22: ='Month (GWh)'!F203 -> 9762.3603 | H22: ='Month (GWh)'!G203 -> 47155.728 | J22: ='Month (GWh)'!H203 -> 5832.3847 | K22: ='Month (GWh)'!I203 -> 1765.8925 | L22: ='Month (GWh)'!J203 -> -0.25511111 | M22: ='Month (GWh)'!K203 -> 3654.8824 | N22: ='Month (GWh)'!L203 -> 11252.905 | P22: ='Month (GWh)'!M203 -> 35902.823
A23: 2016 | B23: January | D23: ='Month (GWh)'!C204 -> 249.37633 | E23: ='Month (GWh)'!D204 -> 6949.856 | F23: ='Month (GWh)'!E204 -> 33011.563 | G23: ='Month (GWh)'!F204 -> 9602.4251 | H23: ='Month (GWh)'!G204 -> 49813.221 | J23: ='Month (GWh)'!H204 -> 2202.9581 | K23: ='Month (GWh)'!I204 -> 2075.37 | L23: ='Month (GWh)'!J204 -> 0.35533333 | M23: ='Month (GWh)'!K204 -> 2983.527 | N23: ='Month (GWh)'!L204 -> 7262.2105 | P23: ='Month (GWh)'!M204 -> 42551.01
B24: February | D24: ='Month (GWh)'!C205 -> 227.97663 | E24: ='Month (GWh)'!D205 -> 6728.7728 | F24: ='Month (GWh)'!E205 -> 30186.389 | G24: ='Month (GWh)'!F205 -> 14193.303 | H24: ='Month (GWh)'!G205 -> 51336.442 | J24: ='Month (GWh)'!H205 -> 1334.5032 | K24: ='Month (GWh)'!I205 -> 1792.3079 | L24: ='Month (GWh)'!J205 -> 0 | M24: ='Month (GWh)'!K205 -> 2740.5505 | N24: ='Month (GWh)'!L205 -> 5867.3616 | P24: ='Month (GWh)'!M205 -> 45469.08
A25: Total | D25: =SUM(D22:D24)+0.0000001 -> 477.35296 | E25: =SUM(E22:E24) -> 20110.822 | F25: =SUM(F22:F24) -> 94159.127 | G25: =SUM(G22:G24) -> 33558.089 | H25: =SUM(H22:H24) -> 148305.39 | J25: =SUM(J22:J24) -> 9369.846 | K25: =SUM(K22:K24) -> 5633.5704 | L25: =SUM(L22:L24) -> 0.10022222 | M25: =SUM(M22:M24) -> 9378.96 | N25: =SUM(N22:N24) -> 24382.477 | P25: =SUM(P22:P24) -> 123922.91
A26: Per cent change8 | D26: -78.9 | E26: -16.5 | F26: -5.8 | G26: +1.7 | H26: -6.9 | J26: (+) | K26: +17.7 | M26: -26.8 | N26: +19.5 | P26: -10.8
A28: 1. | B28: Physical flows of gas through the Bacton-Zeebrugge Interconnector.
A29: 2. | B29: Physical flows via the BBL pipeline.
A30: 3. | B30: Via the Langeled and Vesterled pipelines, and the Tampen Link (from Statfjord to FLAGS).
A31: 4. | B31: From various sources to Milford Haven (South Hook and Dragon), Isle of Grain and Gasport Teesside
A32: 5. | B32: Direct exports from the Chiswick, Grove, Markham, Minke Stamford, Windermere and Wingate offshore gas fields.
A33: 6. | B33: Injection into the Norwegian Ula field.
A34: 7. | B34: A negative figure means the the UK was a net exporter of gas.
A35: 8. | B35: Percentage change between the most recent quarter and the same quarter a year earlier; (+) represents a positive percentage change greater than 100%.
A37: Return to contents page

Sheet Annual (GWh)
A1: GAS
A2: TABLE 4.3 Natural gas imports and exports | L2: GWh
D6: Imports | I6: Exports
B7: From | C7: From the | D7: From | E7: Liquefied | F7: Total | G7: To | H7: To the | I7: To | J7: To the | K7: Total | L7: Net
B8: Belgium | C8: Netherlands | D8: Norway | E8: Natural Gas | F8: Imports | G8: Belgium | H8: Netherlands | I8: Norway | J8: Republic of | K8: Exports | L8: Imports
J9: Ireland
A11: YEAR
A12: 2000 | B12: =SUM('Quarter (GWh)'!C12:C15) -> 2955 | C12: =SUM('Quarter (GWh)'!D12:D15) -> 0 | D12: =SUM('Quarter (GWh)'!E12:E15) -> 11279 | E12: =SUM('Quarter (GWh)'!F12:F15) -> 0 | F12: =SUM('Quarter (GWh)'!G12:G15) -> 14234 | G12: =SUM('Quarter (GWh)'!H12:H15) -> 94574 | H12: =SUM('Quarter (GWh)'!I12:I15) -> 7723 | I12: =SUM('Quarter (GWh)'!J12:J15) -> 0 | ... L12: =SUM('Quarter (GWh)'!M12:M15) -> -120311
A13: 2001 | B13: =SUM('Quarter (GWh)'!C16:C19) -> 4015 | C13: =SUM('Quarter (GWh)'!D16:D19) -> 0 | D13: =SUM('Quarter (GWh)'!E16:E19) -> 12734 | E13: =SUM('Quarter (GWh)'!F16:F19) -> 0 | F13: =SUM('Quarter (GWh)'!G16:G19) -> 16749 | G13: =SUM('Quarter (GWh)'!H16:H19) -> 80846 | H13: =SUM('Quarter (GWh)'!I16:I19) -> 5640 | I13: =SUM('Quarter (GWh)'!J16:J19) -> 0 | ... L13: =SUM('Quarter (GWh)'!M16:M19) -> -107865
A14: 2002 | B14: =SUM('Quarter (GWh)'!C20:C23) -> 6645 | C14: =SUM('Quarter (GWh)'!D20:D23) -> 0 | D14: =SUM('Quarter (GWh)'!E20:E23) -> 37883 | E14: =SUM('Quarter (GWh)'!F20:F23) -> 0 | F14: =SUM('Quarter (GWh)'!G20:G23) -> 44528 | G14: =SUM('Quarter (GWh)'!H20:H23) -> 91189 | H14: =SUM('Quarter (GWh)'!I20:I23) -> 4837 | I14: =SUM('Quarter (GWh)'!J20:J23) -> 0 | ... L14: =SUM('Quarter (GWh)'!M20:M23) -> -90238
A15: 2003 | B15: =SUM('Quarter (GWh)'!C24:C27) -> 4387 | C15: =SUM('Quarter (GWh)'!D24:D27) -> 0 | D15: =SUM('Quarter (GWh)'!E24:E27) -> 71755 | E15: =SUM('Quarter (GWh)'!F24:F27) -> 0 | F15: =SUM('Quarter (GWh)'!G24:G27) -> 76142 | G15: =SUM('Quarter (GWh)'!H24:H27) -> 122651 | H15: =SUM('Quarter (GWh)'!I24:I27) -> 3424 | I15: =SUM('Quarter (GWh)'!J24:J27) -> 0 | ... L15: =SUM('Quarter (GWh)'!M24:M27) -> -90739
A16: 2004 | B16: =SUM('Quarter (GWh)'!C28:C31) -> 25592 | C16: =SUM('Quarter (GWh)'!D28:D31) -> 0 | D16: =SUM('Quarter (GWh)'!E28:E31) -> 95363 | E16: =SUM('Quarter (GWh)'!F28:F31) -> 0 | F16: =SUM('Quarter (GWh)'!G28:G31) -> 120955 | G16: =SUM('Quarter (GWh)'!H28:H31) -> 60060 | H16: =SUM('Quarter (GWh)'!I28:I31) -> 2887 | I16: =SUM('Quarter (GWh)'!J28:J31) -> 0 | ... L16: =SUM('Quarter (GWh)'!M28:M31) -> 18924
A17: 2005 | B17: =SUM('Quarter (GWh)'!C32:C35) -> 24108 | C17: =SUM('Quarter (GWh)'!D32:D35) -> 0 | D17: =SUM('Quarter (GWh)'!E32:E35) -> 127894 | E17: =SUM('Quarter (GWh)'!F32:F35) -> 5453 | F17: =SUM('Quarter (GWh)'!G32:G35) -> 157455 | G17: =SUM('Quarter (GWh)'!H32:H35) -> 36640 | H17: =SUM('Quarter (GWh)'!I32:I35) -> 4261 | I17: =SUM('Quarter (GWh)'!J32:J35) -> 0 | ... L17: =SUM('Quarter (GWh)'!M32:M35) -> 77147
A18: 2006 | B18: =SUM('Quarter (GWh)'!C36:C39) -> 30505 | C18: =SUM('Quarter (GWh)'!D36:D39) -> 9135 | D18: =SUM('Quarter (GWh)'!E36:E39) -> 157036 | E18: =SUM('Quarter (GWh)'!F36:F39) -> 37576 | F18: =SUM('Quarter (GWh)'!G36:G39) -> 234252 | G18: =SUM('Quarter (GWh)'!H36:H39) -> 60194 | H18: =SUM('Quarter (GWh)'!I36:I39) -> 3371 | I18: =SUM('Quarter (GWh)'!J36:J39) -> 0 | ... L18: =SUM('Quarter (GWh)'!M36:M39) -> 123440
A19: 2007 | B19: =SUM('Quarter (GWh)'!C40:C43) -> 6471.1621 | C19: =SUM('Quarter (GWh)'!D40:D43) -> 76602.423 | D19: =SUM('Quarter (GWh)'!E40:E43) -> 225764 | E19: =SUM('Quarter (GWh)'!F40:F43) -> 14903.154 | F19: =SUM('Quarter (GWh)'!G40:G43) -> 323740.74 | G19: =SUM('Quarter (GWh)'!H40:H43) -> 51389.868 | H19: =SUM('Quarter (GWh)'!I40:I43) -> 6357.5712 | I19: =SUM('Quarter (GWh)'!J40:J43) -> 152.53993 | ... L19: =SUM('Quarter (GWh)'!M40:M43) -> 214868.93
A20: 2008 | B20: =SUM('Quarter (GWh)'!C44:C47) -> 12174.127 | C20: =SUM('Quarter (GWh)'!D44:D47) -> 90563.084 | D20: =SUM('Quarter (GWh)'!E44:E47) -> 283721.67 | E20: =SUM('Quarter (GWh)'!F44:F47) -> 9045.4727 | F20: =SUM('Quarter (GWh)'!G44:G47) -> 395504.35 | G20: =SUM('Quarter (GWh)'!H44:H47) -> 45949.377 | H20: =SUM('Quarter (GWh)'!I44:I47) -> 10388.697 | I20: =SUM('Quarter (GWh)'!J44:J47) -> 389.09227 | ... L20: =SUM('Quarter (GWh)'!M44:M47) -> 284517.04
A21: 2009 | B21: =SUM('Quarter (GWh)'!C48:C51) -> 7945.2292 | C21: =SUM('Quarter (GWh)'!D48:D51) -> 69528.567 | D21: =SUM('Quarter (GWh)'!E48:E51) -> 260437.51 | E21: =SUM('Quarter (GWh)'!F48:F51) -> 112237.54 | F21: =SUM('Quarter (GWh)'!G48:G51) -> 450148.84 | G21: =SUM('Quarter (GWh)'!H48:H51) -> 62084.165 | H21: =SUM('Quarter (GWh)'!I48:I51) -> 13094.117 | I21: =SUM('Quarter (GWh)'!J48:J51) -> 267.91913 | ... L21: =SUM('Quarter (GWh)'!M48:M51) -> 320345.5
A22: 2010 | B22: =SUM('Quarter (GWh)'!C52:C55) -> 13568.2 | C22: =SUM('Quarter (GWh)'!D52:D55) -> 87119.957 | D22: =SUM('Quarter (GWh)'!E52:E55) -> 276806.65 | E22: =SUM('Quarter (GWh)'!F52:F55) -> 206845.99 | F22: =SUM('Quarter (GWh)'!G52:G55) -> 584340.8 | G22: =SUM('Quarter (GWh)'!H52:H55) -> 95932.342 | H22: =SUM('Quarter (GWh)'!I52:I55) -> 15830.424 | I22: =SUM('Quarter (GWh)'!J52:J55) -> 157.522 | ... L22: =SUM('Quarter (GWh)'!M52:M55) -> 416154.81
A23: 2011 | B23: =SUM('Quarter (GWh)'!C56:C59) -> 4031.5961 | C23: =SUM('Quarter (GWh)'!D56:D59) -> 69001.094 | D23: =SUM('Quarter (GWh)'!E56:E59) -> 234193.66 | E23: =SUM('Quarter (GWh)'!F56:F59) -> 274794.23 | F23: =SUM('Quarter (GWh)'!G56:G59) -> 582020.58 | G23: =SUM('Quarter (GWh)'!H56:H59) -> 101526.25 | H23: =SUM('Quarter (GWh)'!I56:I59) -> 17543.681 | I23: =SUM('Quarter (GWh)'!J56:J59) -> 120.03889 | ... L23: =SUM('Quarter (GWh)'!M56:M59) -> 404789.13
A24: 2012 | B24: =SUM('Quarter (GWh)'!C60:C63) -> 14263.62 | C24: =SUM('Quarter (GWh)'!D60:D63) -> 78258.46 | D24: =SUM('Quarter (GWh)'!E60:E63) -> 294585.81 | E24: =SUM('Quarter (GWh)'!F60:F63) -> 150097.68 | F24: =SUM('Quarter (GWh)'!G60:G63) -> 537205.57 | G24: =SUM('Quarter (GWh)'!H60:H63) -> 50343.123 | H24: =SUM('Quarter (GWh)'!I60:I63) -> 23728.535 | I24: =SUM('Quarter (GWh)'!J60:J63) -> 49.318444 | ... L24: =SUM('Quarter (GWh)'!M60:M63) -> 405494.95
A25: 2013 | B25: =SUM('Quarter (GWh)'!C64:C67) -> 35366.849 | C25: =SUM('Quarter (GWh)'!D64:D67) -> 81519.42 | D25: =SUM('Quarter (GWh)'!E64:E67) -> 305515.79 | E25: =SUM('Quarter (GWh)'!F64:F67) -> 102620.34 | F25: =SUM('Quarter (GWh)'!G64:G67) -> 525022.4 | G25: =SUM('Quarter (GWh)'!H64:H67) -> 27457.824 | H25: =SUM('Quarter (GWh)'!I64:I67) -> 18597.045 | I25: =SUM('Quarter (GWh)'!J64:J67) -> 19.552444 | ... L25: =SUM('Quarter (GWh)'!M64:M67) -> 425440.39
A26: 2014 | B26: =SUM('Quarter (GWh)'!C68:C71) -> 3948.5761 | C26: =SUM('Quarter (GWh)'!D68:D71) -> 70292.615 | D26: =SUM('Quarter (GWh)'!E68:E71) -> 267041.95 | E26: =SUM('Quarter (GWh)'!F68:F71) -> 123912.39 | F26: =SUM('Quarter (GWh)'!G68:G71) -> 465195.53 | G26: =SUM('Quarter (GWh)'!H68:H71) -> 48073.764 | H26: =SUM('Quarter (GWh)'!I68:I71) -> 18851.7 | I26: =SUM('Quarter (GWh)'!J68:J71) -> 8.8924444 | ... L26: =SUM('Quarter (GWh)'!M68:M71) -> 349257.04
A27: 2015 | B27: =SUM('Quarter (GWh)'!C72:C75) -> 2116.2019 | C27: =SUM('Quarter (GWh)'!D72:D75) -> 35932.863 | D27: =SUM('Quarter (GWh)'!E72:E75) -> 298772.79 | E27: =SUM('Quarter (GWh)'!F72:F75) -> 149364.16 | F27: =SUM('Quarter (GWh)'!G72:G75) -> 486186.02 | G27: =SUM('Quarter (GWh)'!H72:H75) -> 84465.071 | H27: =SUM('Quarter (GWh)'!I72:I75) -> 20789.249 | I27: =SUM('Quarter (GWh)'!J72:J75) -> 3.3255556 | ... L27: =SUM('Quarter (GWh)'!M72:M75) -> 330807.61
A30: Return to contents page

Sheet Quarter (GWh)
A1: GAS | B1: Natural gas production and supply
A2: TABLE 4.3 Natural gas imports and exports | M2: GWh
E6: Imports | J6: Exports
C7: From | D7: From the | E7: From | F7: Liquefied | G7: Total | H7: To | I7: To the | J7: To | K7: To the | L7: Total | M7: Net
C8: Belgium | D8: Netherlands | E8: Norway | F8: Natural Gas | G8: Imports | H8: Belgium | I8: Netherlands | J8: Norway | K8: Republic of | L8: Exports | M8: Imports
K9: Ireland
A11: YEAR | B11: MONTH
A12: 2000 | B12: Quarter 1 | C12: =SUM('Month (GWh)'!C12:C14) -> 0 | D12: =SUM('Month (GWh)'!D12:D14) -> 0 | E12: =SUM('Month (GWh)'!E12:E14) -> 3074 | F12: =SUM('Month (GWh)'!F12:F14) -> 0 | G12: =SUM('Month (GWh)'!G12:G14) -> 3074 | H12: =SUM('Month (GWh)'!H12:H14) -> 21214 | I12: =SUM('Month (GWh)'!I12:I14) -> 2728 | J12: =SUM('Month (GWh)'!J12:J14) -> 0 | ... M12: =SUM('Month (GWh)'!M12:M14) -> -29603
A13: 2000 | B13: Quarter 2 | C13: =SUM('Month (GWh)'!C15:C17) -> 0 | D13: =SUM('Month (GWh)'!D15:D17) -> 0 | E13: =SUM('Month (GWh)'!E15:E17) -> 2429 | F13: =SUM('Month (GWh)'!F15:F17) -> 0 | G13: =SUM('Month (GWh)'!G15:G17) -> 2429 | H13: =SUM('Month (GWh)'!H15:H17) -> 34401 | I13: =SUM('Month (GWh)'!I15:I17) -> 2154 | J13: =SUM('Month (GWh)'!J15:J17) -> 0 | ... M13: =SUM('Month (GWh)'!M15:M17) -> -42294
A14: 2000 | B14: Quarter 3 | C14: =SUM('Month (GWh)'!C18:C20) -> 0 | D14: =SUM('Month (GWh)'!D18:D20) -> 0 | E14: =SUM('Month (GWh)'!E18:E20) -> 2462 | F14: =SUM('Month (GWh)'!F18:F20) -> 0 | G14: =SUM('Month (GWh)'!G18:G20) -> 2462 | H14: =SUM('Month (GWh)'!H18:H20) -> 32397 | I14: =SUM('Month (GWh)'!I18:I20) -> 1204 | J14: =SUM('Month (GWh)'!J18:J20) -> 0 | ... M14: =SUM('Month (GWh)'!M18:M20) -> -37802
A15: 2000 | B15: Quarter 4 | C15: =SUM('Month (GWh)'!C21:C23) -> 2955 | D15: =SUM('Month (GWh)'!D21:D23) -> 0 | E15: =SUM('Month (GWh)'!E21:E23) -> 3314 | F15: =SUM('Month (GWh)'!F21:F23) -> 0 | G15: =SUM('Month (GWh)'!G21:G23) -> 6269 | H15: =SUM('Month (GWh)'!H21:H23) -> 6562 | I15: =SUM('Month (GWh)'!I21:I23) -> 1637 | J15: =SUM('Month (GWh)'!J21:J23) -> 0 | ... M15: =SUM('Month (GWh)'!M21:M23) -> -10612
A16: 2001 | B16: Quarter 1 | C16: =SUM('Month (GWh)'!C24:C26) -> 3080 | D16: =SUM('Month (GWh)'!D24:D26) -> 0 | E16: =SUM('Month (GWh)'!E24:E26) -> 2873 | F16: =SUM('Month (GWh)'!F24:F26) -> 0 | G16: =SUM('Month (GWh)'!G24:G26) -> 5953 | H16: =SUM('Month (GWh)'!H24:H26) -> 2332 | I16: =SUM('Month (GWh)'!I24:I26) -> 1522 | J16: =SUM('Month (GWh)'!J24:J26) -> 0 | ... M16: =SUM('Month (GWh)'!M24:M26) -> -8405
A17: 2001 | B17: Quarter 2 | C17: =SUM('Month (GWh)'!C27:C29) -> 0 | D17: =SUM('Month (GWh)'!D27:D29) -> 0 | E17: =SUM('Month (GWh)'!E27:E29) -> 2096 | F17: =SUM('Month (GWh)'!F27:F29) -> 0 | G17: =SUM('Month (GWh)'!G27:G29) -> 2096 | H17: =SUM('Month (GWh)'!H27:H29) -> 26846 | I17: =SUM('Month (GWh)'!I27:I29) -> 1049 | J17: =SUM('Month (GWh)'!J27:J29) -> 0 | ... M17: =SUM('Month (GWh)'!M27:M29) -> -35225
A18: 2001 | B18: Quarter 3 | C18: =SUM('Month (GWh)'!C30:C32) -> 0 | D18: =SUM('Month (GWh)'!D30:D32) -> 0 | E18: =SUM('Month (GWh)'!E30:E32) -> 1420 | F18: =SUM('Month (GWh)'!F30:F32) -> 0 | G18: =SUM('Month (GWh)'!G30:G32) -> 1420 | H18: =SUM('Month (GWh)'!H30:H32) -> 35329 | I18: =SUM('Month (GWh)'!I30:I32) -> 1359 | J18: =SUM('Month (GWh)'!J30:J32) -> 0 | ... M18: =SUM('Month (GWh)'!M30:M32) -> -44366
A19: 2001 | B19: Quarter 4 | C19: =SUM('Month (GWh)'!C33:C35) -> 935 | D19: =SUM('Month (GWh)'!D33:D35) -> 0 | E19: =SUM('Month (GWh)'!E33:E35) -> 6345 | F19: =SUM('Month (GWh)'!F33:F35) -> 0 | G19: =SUM('Month (GWh)'!G33:G35) -> 7280 | H19: =SUM('Month (GWh)'!H33:H35) -> 16339 | I19: =SUM('Month (GWh)'!I33:I35) -> 1710 | J19: =SUM('Month (GWh)'!J33:J35) -> 0 | ... M19: =SUM('Month (GWh)'!M33:M35) -> -19869
A20: 2002 | B20: Quarter 1 | C20: =SUM('Month (GWh)'!C36:C38) -> 5548 | D20: =SUM('Month (GWh)'!D36:D38) -> 0 | E20: =SUM('Month (GWh)'!E36:E38) -> 11939 | F20: =SUM('Month (GWh)'!F36:F38) -> 0 | G20: =SUM('Month (GWh)'!G36:G38) -> 17487 | H20: =SUM('Month (GWh)'!H36:H38) -> 5527 | I20: =SUM('Month (GWh)'!I36:I38) -> 1429 | J20: =SUM('Month (GWh)'!J36:J38) -> 0 | ... M20: =SUM('Month (GWh)'!M36:M38) -> 1330
A21: 2002 | B21: Quarter 2 | C21: =SUM('Month (GWh)'!C39:C41) -> 0 | D21: =SUM('Month (GWh)'!D39:D41) -> 0 | E21: =SUM('Month (GWh)'!E39:E41) -> 4449 | F21: =SUM('Month (GWh)'!F39:F41) -> 0 | G21: =SUM('Month (GWh)'!G39:G41) -> 4449 | H21: =SUM('Month (GWh)'!H39:H41) -> 38565 | I21: =SUM('Month (GWh)'!I39:I41) -> 1363 | J21: =SUM('Month (GWh)'!J39:J41) -> 0 | ... M21: =SUM('Month (GWh)'!M39:M41) -> -45551
A22: 2002 | B22: Quarter 3 | C22: =SUM('Month (GWh)'!C42:C44) -> 775 | D22: =SUM('Month (GWh)'!D42:D44) -> 0 | E22: =SUM('Month (GWh)'!E42:E44) -> 5087 | F22: =SUM('Month (GWh)'!F42:F44) -> 0 | G22: =SUM('Month (GWh)'!G42:G44) -> 5862 | H22: =SUM('Month (GWh)'!H42:H44) -> 23154 | I22: =SUM('Month (GWh)'!I42:I44) -> 1021 | J22: =SUM('Month (GWh)'!J42:J44) -> 0 | ... M22: =SUM('Month (GWh)'!M42:M44) -> -27515
A23: 2002 | B23: Quarter 4 | C23: =SUM('Month (GWh)'!C45:C47) -> 322 | D23: =SUM('Month (GWh)'!D45:D47) -> 0 | E23: =SUM('Month (GWh)'!E45:E47) -> 16408 | F23: =SUM('Month (GWh)'!F45:F47) -> 0 | G23: =SUM('Month (GWh)'!G45:G47) -> 16730 | H23: =SUM('Month (GWh)'!H45:H47) -> 23943 | I23: =SUM('Month (GWh)'!I45:I47) -> 1024 | J23: =SUM('Month (GWh)'!J45:J47) -> 0 | ... M23: =SUM('Month (GWh)'!M45:M47) -> -18502
A24: 2003 | B24: Quarter 1 | C24: =SUM('Month (GWh)'!C48:C50) -> 0 | D24: =SUM('Month (GWh)'!D48:D50) -> 0 | E24: =SUM('Month (GWh)'!E48:E50) -> 19642 | F24: =SUM('Month (GWh)'!F48:F50) -> 0 | G24: =SUM('Month (GWh)'!G48:G50) -> 19642 | H24: =SUM('Month (GWh)'!H48:H50) -> 21610 | I24: =SUM('Month (GWh)'!I48:I50) -> 1023 | J24: =SUM('Month (GWh)'!J48:J50) -> 0 | ... M24: =SUM('Month (GWh)'!M48:M50) -> -14223
A25: 2003 | B25: Quarter 2 | C25: =SUM('Month (GWh)'!C51:C53) -> 0 | D25: =SUM('Month (GWh)'!D51:D53) -> 0 | E25: =SUM('Month (GWh)'!E51:E53) -> 13370 | F25: =SUM('Month (GWh)'!F51:F53) -> 0 | G25: =SUM('Month (GWh)'!G51:G53) -> 13370 | H25: =SUM('Month (GWh)'!H51:H53) -> 52715 | I25: =SUM('Month (GWh)'!I51:I53) -> 721 | J25: =SUM('Month (GWh)'!J51:J53) -> 0 | ... M25: =SUM('Month (GWh)'!M51:M53) -> -50058
A26: 2003 | B26: Quarter 3 | C26: =SUM('Month (GWh)'!C54:C56) -> 0 | D26: =SUM('Month (GWh)'!D54:D56) -> 0 | E26: =SUM('Month (GWh)'!E54:E56) -> 10549 | F26: =SUM('Month (GWh)'!F54:F56) -> 0 | G26: =SUM('Month (GWh)'!G54:G56) -> 10549 | H26: =SUM('Month (GWh)'!H54:H56) -> 40698 | I26: =SUM('Month (GWh)'!I54:I56) -> 875 | J26: =SUM('Month (GWh)'!J54:J56) -> 0 | ... M26: =SUM('Month (GWh)'!M54:M56) -> -40229
A27: 2003 | B27: Quarter 4 | C27: =SUM('Month (GWh)'!C57:C59) -> 4387 | D27: =SUM('Month (GWh)'!D57:D59) -> 0 | E27: =SUM('Month (GWh)'!E57:E59) -> 28194 | F27: =SUM('Month (GWh)'!F57:F59) -> 0 | G27: =SUM('Month (GWh)'!G57:G59) -> 32581 | H27: =SUM('Month (GWh)'!H57:H59) -> 7628 | I27: =SUM('Month (GWh)'!I57:I59) -> 805 | J27: =SUM('Month (GWh)'!J57:J59) -> 0 | ... M27: =SUM('Month (GWh)'!M57:M59) -> 13771
A28: 2004 | B28: Quarter 1 | C28: =SUM('Month (GWh)'!C60:C62) -> 14475 | D28: =SUM('Month (GWh)'!D60:D62) -> 0 | E28: =SUM('Month (GWh)'!E60:E62) -> 30147 | F28: =SUM('Month (GWh)'!F60:F62) -> 0 | G28: =SUM('Month (GWh)'!G60:G62) -> 44622 | H28: =SUM('Month (GWh)'!H60:H62) -> 1045 | I28: =SUM('Month (GWh)'!I60:I62) -> 815 | J28: =SUM('Month (GWh)'!J60:J62) -> 0 | ... M28: =SUM('Month (GWh)'!M60:M62) -> 32844
A29: 2004 | B29: Quarter 2 | C29: =SUM('Month (GWh)'!C63:C65) -> 0 | D29: =SUM('Month (GWh)'!D63:D65) -> 0 | E29: =SUM('Month (GWh)'!E63:E65) -> 15054 | F29: =SUM('Month (GWh)'!F63:F65) -> 0 | G29: =SUM('Month (GWh)'!G63:G65) -> 15054 | H29: =SUM('Month (GWh)'!H63:H65) -> 33681 | I29: =SUM('Month (GWh)'!I63:I65) -> 784 | J29: =SUM('Month (GWh)'!J63:J65) -> 0 | ... M29: =SUM('Month (GWh)'!M63:M65) -> -29016
A30: 2004 | B30: Quarter 3 | C30: =SUM('Month (GWh)'!C66:C68) -> 224 | D30: =SUM('Month (GWh)'!D66:D68) -> 0 | E30: =SUM('Month (GWh)'!E66:E68) -> 15991 | F30: =SUM('Month (GWh)'!F66:F68) -> 0 | G30: =SUM('Month (GWh)'!G66:G68) -> 16215 | H30: =SUM('Month (GWh)'!H66:H68) -> 25334 | I30: =SUM('Month (GWh)'!I66:I68) -> 618 | J30: =SUM('Month (GWh)'!J66:J68) -> 0 | ... M30: =SUM('Month (GWh)'!M66:M68) -> -18894
A31: 2004 | B31: Quarter 4 | C31: =SUM('Month (GWh)'!C69:C71) -> 10893 | D31: =SUM('Month (GWh)'!D69:D71) -> 0 | E31: =SUM('Month (GWh)'!E69:E71) -> 34171 | F31: =SUM('Month (GWh)'!F69:F71) -> 0 | G31: =SUM('Month (GWh)'!G69:G71) -> 45064 | H31: =SUM('Month (GWh)'!H69:H71) -> 0 | I31: =SUM('Month (GWh)'!I69:I71) -> 670 | J31: =SUM('Month (GWh)'!J69:J71) -> 0 | ... M31: =SUM('Month (GWh)'!M69:M71) -> 33990
A32: 2005 | B32: Quarter 1 | C32: =SUM('Month (GWh)'!C72:C74) -> 9924 | D32: =SUM('Month (GWh)'!D72:D74) -> 0 | E32: =SUM('Month (GWh)'!E72:E74) -> 38222 | F32: =SUM('Month (GWh)'!F72:F74) -> 0 | G32: =SUM('Month (GWh)'!G72:G74) -> 48146 | H32: =SUM('Month (GWh)'!H72:H74) -> 1919 | I32: =SUM('Month (GWh)'!I72:I74) -> 878 | J32: =SUM('Month (GWh)'!J72:J74) -> 0 | ... M32: =SUM('Month (GWh)'!M72:M74) -> 35871
A33: 2005 | B33: Quarter 2 | C33: =SUM('Month (GWh)'!C75:C77) -> 0 | D33: =SUM('Month (GWh)'!D75:D77) -> 0 | E33: =SUM('Month (GWh)'!E75:E77) -> 24566 | F33: =SUM('Month (GWh)'!F75:F77) -> 0 | G33: =SUM('Month (GWh)'!G75:G77) -> 24566 | H33: =SUM('Month (GWh)'!H75:H77) -> 19880 | I33: =SUM('Month (GWh)'!I75:I77) -> 1240 | J33: =SUM('Month (GWh)'!J75:J77) -> 0 | ... M33: =SUM('Month (GWh)'!M75:M77) -> -6564
A34: 2005 | B34: Quarter 3 | C34: =SUM('Month (GWh)'!C78:C80) -> 1271 | D34: =SUM('Month (GWh)'!D78:D80) -> 0 | E34: =SUM('Month (GWh)'!E78:E80) -> 29573 | F34: =SUM('Month (GWh)'!F78:F80) -> 1224 | G34: =SUM('Month (GWh)'!G78:G80) -> 32068 | H34: =SUM('Month (GWh)'!H78:H80) -> 12278 | I34: =SUM('Month (GWh)'!I78:I80) -> 951 | J34: =SUM('Month (GWh)'!J78:J80) -> 0 | ... M34: =SUM('Month (GWh)'!M78:M80) -> 9268
A35: 2005 | B35: Quarter 4 | C35: =SUM('Month (GWh)'!C81:C83) -> 12913 | D35: =SUM('Month (GWh)'!D81:D83) -> 0 | E35: =SUM('Month (GWh)'!E81:E83) -> 35533 | F35: =SUM('Month (GWh)'!F81:F83) -> 4229 | G35: =SUM('Month (GWh)'!G81:G83) -> 52675 | H35: =SUM('Month (GWh)'!H81:H83) -> 2563 | I35: =SUM('Month (GWh)'!I81:I83) -> 1192 | J35: =SUM('Month (GWh)'!J81:J83) -> 0 | ... M35: =SUM('Month (GWh)'!M81:M83) -> 38572
A36: 2006 | B36: Quarter 1 | C36: =SUM('Month (GWh)'!C84:C86) -> 26660 | D36: =SUM('Month (GWh)'!D84:D86) -> 0 | E36: =SUM('Month (GWh)'!E84:E86) -> 34476 | F36: =SUM('Month (GWh)'!F84:F86) -> 10845 | G36: =SUM('Month (GWh)'!G84:G86) -> 71981 | H36: =SUM('Month (GWh)'!H84:H86) -> 0 | I36: =SUM('Month (GWh)'!I84:I86) -> 1093 | J36: =SUM('Month (GWh)'!J84:J86) -> 0 | ... M36: =SUM('Month (GWh)'!M84:M86) -> 59823
A37: 2006 | B37: Quarter 2 | C37: =SUM('Month (GWh)'!C87:C89) -> 998 | D37: =SUM('Month (GWh)'!D87:D89) -> 0 | E37: =SUM('Month (GWh)'!E87:E89) -> 24929 | F37: =SUM('Month (GWh)'!F87:F89) -> 7424 | G37: =SUM('Month (GWh)'!G87:G89) -> 33351 | H37: =SUM('Month (GWh)'!H87:H89) -> 20487 | I37: =SUM('Month (GWh)'!I87:I89) -> 845 | J37: =SUM('Month (GWh)'!J87:J89) -> 0 | ... M37: =SUM('Month (GWh)'!M87:M89) -> -471
A38: 2006 | B38: Quarter 3 | C38: =SUM('Month (GWh)'!C90:C92) -> 771 | D38: =SUM('Month (GWh)'!D90:D92) -> 0 | E38: =SUM('Month (GWh)'!E90:E92) -> 30569 | F38: =SUM('Month (GWh)'!F90:F92) -> 7048 | G38: =SUM('Month (GWh)'!G90:G92) -> 38388 | H38: =SUM('Month (GWh)'!H90:H92) -> 28252 | I38: =SUM('Month (GWh)'!I90:I92) -> 524 | J38: =SUM('Month (GWh)'!J90:J92) -> 0 | ... M38: =SUM('Month (GWh)'!M90:M92) -> -1855
A39: 2006 | B39: Quarter 4 | C39: =SUM('Month (GWh)'!C93:C95) -> 2076 | D39: =SUM('Month (GWh)'!D93:D95) -> 9135 | E39: =SUM('Month (GWh)'!E93:E95) -> 67062 | F39: =SUM('Month (GWh)'!F93:F95) -> 12259 | G39: =SUM('Month (GWh)'!G93:G95) -> 90532 | H39: =SUM('Month (GWh)'!H93:H95) -> 11455 | I39: =SUM('Month (GWh)'!I93:I95) -> 909 | J39: =SUM('Month (GWh)'!J93:J95) -> 0 | ... M39: =SUM('Month (GWh)'!M93:M95) -> 65943
A40: 2007 | B40: Quarter 1 | C40: =SUM('Month (GWh)'!C96:C98) -> 3480 | D40: =SUM('Month (GWh)'!D96:D98) -> 23417.015 | E40: =SUM('Month (GWh)'!E96:E98) -> 76742.855 | F40: =SUM('Month (GWh)'!F96:F98) -> 8144.2328 | G40: =SUM('Month (GWh)'!G96:G98) -> 111784.1 | H40: =SUM('Month (GWh)'!H96:H98) -> 6136 | I40: =SUM('Month (GWh)'!I96:I98) -> 848.34767 | J40: =SUM('Month (GWh)'!J96:J98) -> 0 | ... M40: =SUM('Month (GWh)'!M96:M98) -> 91172.456
A41: 2007 | B41: Quarter 2 | C41: =SUM('Month (GWh)'!C99:C101) -> 477 | D41: =SUM('Month (GWh)'!D99:D101) -> 14927.26 | E41: =SUM('Month (GWh)'!E99:E101) -> 45203.177 | F41: =SUM('Month (GWh)'!F99:F101) -> 765.93954 | G41: =SUM('Month (GWh)'!G99:G101) -> 61373.376 | H41: =SUM('Month (GWh)'!H99:H101) -> 24168 | I41: =SUM('Month (GWh)'!I99:I101) -> 1002.103 | J41: =SUM('Month (GWh)'!J99:J101) -> 0 | ... M41: =SUM('Month (GWh)'!M99:M101) -> 24887.815
A42: 2007 | B42: Quarter 3 | C42: =SUM('Month (GWh)'!C102:C104) -> 68 | D42: =SUM('Month (GWh)'!D102:D104) -> 10811.303 | E42: =SUM('Month (GWh)'!E102:E104) -> 37100.887 | F42: =SUM('Month (GWh)'!F102:F104) -> 796.61485 | G42: =SUM('Month (GWh)'!G102:G104) -> 48776.806 | H42: =SUM('Month (GWh)'!H102:H104) -> 13039 | I42: =SUM('Month (GWh)'!I102:I104) -> 1754.5643 | J42: =SUM('Month (GWh)'!J102:J104) -> 24.200211 | ... M42: =SUM('Month (GWh)'!M102:M104) -> 21626.759
A43: 2007 | B43: Quarter 4 | C43: =SUM('Month (GWh)'!C105:C107) -> 2446.1621 | D43: =SUM('Month (GWh)'!D105:D107) -> 27446.845 | E43: =SUM('Month (GWh)'!E105:E107) -> 66717.083 | F43: =SUM('Month (GWh)'!F105:F107) -> 5196.3664 | G43: =SUM('Month (GWh)'!G105:G107) -> 101806.46 | H43: =SUM('Month (GWh)'!H105:H107) -> 8046.8683 | I43: =SUM('Month (GWh)'!I105:I107) -> 2752.5562 | J43: =SUM('Month (GWh)'!J105:J107) -> 128.33972 | ... M43: =SUM('Month (GWh)'!M105:M107) -> 77181.903
A44: 2008 | B44: Quarter 1 | C44: =SUM('Month (GWh)'!C108:C110) -> 8528.9517 | D44: =SUM('Month (GWh)'!D108:D110) -> 33762.929 | E44: =SUM('Month (GWh)'!E108:E110) -> 82485.71 | F44: =SUM('Month (GWh)'!F108:F110) -> 2094.1461 | G44: =SUM('Month (GWh)'!G108:G110) -> 126871.74 | H44: =SUM('Month (GWh)'!H108:H110) -> 719.61194 | I44: =SUM('Month (GWh)'!I108:I110) -> 2428.8596 | J44: =SUM('Month (GWh)'!J108:J110) -> 114.00968 | ... M44: =SUM('Month (GWh)'!M108:M110) -> 109218.57
...

Sheet Month (GWh)
A1: GAS | B1: Natural gas production and supply
A2: TABLE 4.3 Natural gas imports and exports | M2: GWh
E6: Imports | J6: Exports
C7: From | D7: From the | E7: From | F7: Liquefied | G7: Total | H7: To | I7: To the | J7: To | K7: To the | L7: Total | M7: Net
C8: Belgium | D8: Netherlands | E8: Norway | F8: Natural Gas | G8: Imports | H8: Belgium | I8: Netherlands | J8: Norway | K8: Republic of | L8: Exports | M8: Imports
K9: Ireland
A11: YEAR | B11: MONTH
A12: 2000 | B12: January | C12: 0 | D12: 0 | E12: 1040 | F12: 0 | G12: 1040 | H12: 5884 | I12: 974 | J12: 0 | K12: 3051 | L12: 9909 | M12: -8869
A13: 2000 | B13: February | C13: 0 | D13: 0 | E13: 971 | F13: 0 | G13: 971 | H13: 7111 | I13: 846 | J13: 0 | K13: 2841 | L13: 10798 | M13: -9827
A14: 2000 | B14: March | C14: 0 | D14: 0 | E14: 1063 | F14: 0 | G14: 1063 | H14: 8219 | I14: 908 | J14: 0 | K14: 2843 | L14: 11970 | M14: -10907
A15: 2000 | B15: April | C15: 0 | D15: 0 | E15: 975 | F15: 0 | G15: 975 | H15: 11783 | I15: 814 | J15: 0 | K15: 2778 | L15: 15375 | M15: -14400
A16: 2000 | B16: May | C16: 0 | D16: 0 | E16: 859 | F16: 0 | G16: 859 | H16: 12055 | I16: 689 | J16: 0 | K16: 2514 | L16: 15258 | M16: -14399
A17: 2000 | B17: June | C17: 0 | D17: 0 | E17: 595 | F17: 0 | G17: 595 | H17: 10563 | I17: 651 | J17: 0 | K17: 2876 | L17: 14090 | M17: -13495
A18: 2000 | B18: July | C18: 0 | D18: 0 | E18: 549 | F18: 0 | G18: 549 | H18: 8706 | I18: 342 | J18: 0 | K18: 2382 | L18: 11430 | M18: -10881
A19: 2000 | B19: August | C19: 0 | D19: 0 | E19: 920 | F19: 0 | G19: 920 | H19: 12397 | I19: 446 | J19: 0 | K19: 2108 | L19: 14951 | M19: -14031
A20: 2000 | B20: September | C20: 0 | D20: 0 | E20: 993 | F20: 0 | G20: 993 | H20: 11294 | I20: 416 | J20: 0 | K20: 2173 | L20: 13883 | M20: -12890
A21: 2000 | B21: October | C21: 0 | D21: 0 | E21: 1105 | F21: 0 | G21: 1105 | H21: 4459 | I21: 468 | J21: 0 | K21: 2481 | L21: 7408 | M21: -6303
A22: 2000 | B22: November | C22: 351 | D22: 0 | E22: 1087 | F22: 0 | G22: 1438 | H22: 2103 | I22: 635 | J22: 0 | K22: 2888 | L22: 5626 | M22: -4188
A23: 2000 | B23: December | C23: 2604 | D23: 0 | E23: 1122 | F23: 0 | G23: 3726 | H23: 0 | I23: 534 | J23: 0 | K23: 3313 | L23: 3847 | M23: -121
... A78: 2005 | B78: July | C78: 39 | D78: 0 | E78: 5138 | F78: 0 | G78: 5177 | H78: 2788 | I78: 419 | J78: 0 | K78: 2281 | L78: 5488 | M78: -311
A79: 2005 | B79: August | C79: 1232 | D79: 0 | E79: 12817 | F79: 875 | G79: 14924 | H79: 889 | I79: 351 | J79: 0 | K79: 3655 | L79: 4895 | M79: =G79-L79 -> 10029
A80: 2005 | B80: September | C80: 0 | D80: 0 | E80: 11618 | F80: 349 | G80: 11967 | H80: 8601 | I80: 181 | J80: 0 | K80: 3635 | L80: 12417 | M80: =G80-L80 -> -450
A81: 2005 | B81: October | C81: 405 | D81: 0 | E81: 10439 | F81: 479 | G81: 11323 | H81: 2414 | I81: 416 | J81: 0 | K81: 3289 | L81: 6119 | M81: =G81-L81 -> 5204
A82: 2005 | B82: November | C82: 6067 | D82: 0 | E82: 12203 | F82: 732 | G82: 19002 | H82: 149 | I82: 388 | J82: 0 | K82: 3304 | L82: 3841 | M82: =G82-L82 -> 15161
A83: 2005 | B83: December | C83: 6441 | D83: 0 | E83: 12891 | F83: 3018 | G83: 22350 | H83: 0 | I83: 388 | J83: 0 | K83: 3755 | L83: 4143 | M83: =G83-L83 -> 18207
A84: 2006 | B84: January | C84: 7685 | D84: 0 | E84: 12227 | F84: 3084 | G84: 22996 | H84: 0 | I84: 380 | J84: 0 | K84: 3608 | L84: 3988 | M84: =G84-L84 -> 19008
A85: 2006 | B85: February | C85: 10569 | D85: 0 | E85: 10996 | F85: 3531 | G85: 25096 | H85: 0 | I85: 354 | J85: 0 | K85: 3401 | L85: 3755 | M85: =G85-L85 -> 21341
A86: 2006 | B86: March | C86: 8406 | D86: 0 | E86: 11253 | F86: 4230 | G86: 23889 | H86: 0 | I86: 359 | J86: 0 | K86: 4056 | L86: 4415 | M86: =G86-L86 -> 19474
A87: 2006 | B87: April | C87: 998 | D87: 0 | E87: 10029 | F87: 3819 | G87: 14846 | H87: 3938 | I87: 282 | J87: 0 | K87: 4176 | L87: 8396 | M87: =G87-L87 -> 6450
A88: 2006 | B88: May | C88: 0 | D88: 0 | E88: 10148 | F88: 1795 | G88: 11943 | H88: 10238 | I88: 264 | J88: 0 | K88: 4287 | L88: 14789 | M88: =G88-L88 -> -2846
A89: 2006 | B89: June | C89: 0 | D89: 0 | E89: 4752 | F89: 1810 | G89: 6562 | H89: 6311 | I89: 299 | J89: 0 | K89: 4027 | L89: 10637 | M89: =G89-L89 -> -4075
A90: 2006 | B90: July | C90: 436 | D90: 0 | E90: 10479 | F90: 2287 | G90: 13202 | H90: 9119 | I90: 292 | J90: 0 | K90: 3732 | L90: 13143 | M90: =G90-L90 -> 59
... A107: 2007 | B107: December | C107: 1799.5124 | D107: 12263.984 | E107: 22762.143 | F107: 1864.9151 | G107: 38690.554 | H107: 720.6775 | I107: 926.27638 | J107: 44.333544 | K107: 4515.4814 | L107: 6206.7688 | M107: =G107-L107 -> 32483.785
A108: 2008 | B108: January | C108: 4855.9769 | D108: 11996.111 | E108: 24361.946 | F108: 1874.3802 | G108: =SUM(C108:F108) -> 43088.415 | H108: 127.325 | I108: 1051.7661 | J108: 39.480707 | K108: 4602.9927 | L108: 5821.5645 | M108: =G108-L108 -> 37266.85
A109: 2008 | B109: February | C109: 1787.96 | D109: 10564.681 | E109: 27974.824 | F109: 129.06544 | G109: =SUM(C109:F109) -> 40456.53 | H109: 339.84305 | I109: 589.44705 | J109: 34.43595 | K109: 4725.7282 | L109: 5689.4543 | M109: =G109-L109 -> 34767.076
A110: 2008 | B110: March | C110: 1885.0147 | D110: 11202.137 | E110: 30148.94 | F110: 90.700453 | G110: =SUM(C110:F110) -> 43326.792 | H110: 252.44389 | I110: 787.64642 | J110: 40.093024 | K110: 5061.9622 | L110: 6142.1456 | M110: =G110-L110 -> 37184.647
A111: 2008 | B111: April | C111: 3000.0186 | D111: 9155.8373 | E111: 22594.631 | F111: 583.625 | G111: =SUM(C111:F111) -> 35334.112 | H111: 450.83639 | I111: 929.10188 | J111: 20.663398 | K111: 4720.8978 | L111: 6121.4994 | M111: =G111-L111 -> 29212.612
A112: 2008 | B112: May | C112: 292.53278 | D112: 5976.5734 | E112: 17172.806 | F112: 283.185 | G112: =SUM(C112:F112) -> 23725.097 | H112: 4859.4383 | I112: 1245.2634 | J112: 32.69953 | K112: 4513.9348 | L112: 10651.336 | M112: =G112-L112 -> 13073.761
A113: 2008 | B113: June | C113: 0 | D113: 5656.6967 | E113: 12807.149 | F113: 94.395 | G113: =SUM(C113:F113) -> 18558.24 | H113: 5765.5842 | I113: 1100.5504 | J113: 28.833711 | K113: 3912.0217 | L113: 10806.99 | M113: =G113-L113 -> 7751.2503
A114: 2008 | B114: July | C114: 8.860278 | D114: 5723.9067 | E114: 26371.594 | F114: 234.465 | G114: =SUM(C114:F114) -> 32338.826 | H114: 6125.5281 | I114: 934.87137 | J114: 32.535027 | K114: 4265.974 | L114: 11358.908 | M114: =G114-L114 -> 20979.917
...

Sheet Calculation
A1: Natural gas production and supply
E3: Imports | J3: Exports
C4: From | D4: From the | E4: From | F4: Liquefied | G4: Total | H4: To | I4: To the | J4: To | K4: To the | L4: Total | M4: Net
C5: Belgium | D5: Netherlands | E5: Norway | F5: Natural Gas | G5: Imports | H5: Belgium | I5: Netherlands | J5: Norway | K5: Republic of | L5: Exports | M5: Imports
K6: Ireland
A7: YEAR | B7: MONTH | C7: GWh
A8: ='Month (GWh)'!A12 -> 2000 | B8: January | C8: ='Month (GWh)'!C12 -> 0 | D8: ='Month (GWh)'!D12 -> 0 | E8: ='Month (GWh)'!E12 -> 1040 | F8: ='Month (GWh)'!F12 -> 0 | G8: ='Month (GWh)'!G12 -> 1040 | H8: ='Month (GWh)'!H12 -> 5884 | I8: ='Month (GWh)'!I12 -> 974 | J8: ='Month (GWh)'!J12 -> 0 | ... M8: ='Month (GWh)'!M12 -> -8869 | O8: Year | P8: 2015 | R8: Annual!
A9: ='Month (GWh)'!A13 -> 2000 | B9: February | C9: ='Month (GWh)'!C13+C8 -> 0 | D9: ='Month (GWh)'!D13+D8 -> 0 | E9: ='Month (GWh)'!E13+E8 -> 2011 | F9: ='Month (GWh)'!F13+F8 -> 0 | G9: ='Month (GWh)'!G13+G8 -> 2011 | H9: ='Month (GWh)'!H13+H8 -> 12995 | I9: ='Month (GWh)'!I13+I8 -> 1820 | J9: ='Month (GWh)'!J13+J8 -> 0 | ... M9: ='Month (GWh)'!M13+M8 -> -18696 | O9: Month | P9: 10
A10: ='Month (GWh)'!A14 -> 2000 | B10: March | C10: ='Month (GWh)'!C14+C9 -> 0 | D10: ='Month (GWh)'!D14+D9 -> 0 | E10: ='Month (GWh)'!E14+E9 -> 3074 | F10: ='Month (GWh)'!F14+F9 -> 0 | G10: ='Month (GWh)'!G14+G9 -> 3074 | H10: ='Month (GWh)'!H14+H9 -> 21214 | I10: ='Month (GWh)'!I14+I9 -> 2728 | J10: ='Month (GWh)'!J14+J9 -> 0 | ... M10: ='Month (GWh)'!M14+M9 -> -29603
A11: ='Month (GWh)'!A15 -> 2000 | B11: April | C11: ='Month (GWh)'!C15+C10 -> 0 | D11: ='Month (GWh)'!D15+D10 -> 0 | E11: ='Month (GWh)'!E15+E10 -> 4049 | F11: ='Month (GWh)'!F15+F10 -> 0 | G11: ='Month (GWh)'!G15+G10 -> 4049 | H11: ='Month (GWh)'!H15+H10 -> 32997 | I11: ='Month (GWh)'!I15+I10 -> 3542 | J11: ='Month (GWh)'!J15+J10 -> 0 | ... M11: ='Month (GWh)'!M15+M10 -> -44003 | P11: A | Q11: B | R11: C | S11: D | T11: E | U11: F | V11: G | W11: H | X11: I | Y11: J | Z11: K | AA11: L
A12: ='Month (GWh)'!A16 -> 2000 | B12: May | C12: ='Month (GWh)'!C16+C11 -> 0 | D12: ='Month (GWh)'!D16+D11 -> 0 | E12: ='Month (GWh)'!E16+E11 -> 4908 | F12: ='Month (GWh)'!F16+F11 -> 0 | G12: ='Month (GWh)'!G16+G11 -> 4908 | H12: ='Month (GWh)'!H16+H11 -> 45052 | I12: ='Month (GWh)'!I16+I11 -> 4231 | J12: ='Month (GWh)'!J16+J11 -> 0 | ... M12: ='Month (GWh)'!M16+M11 -> -58402 | O12: 22 | P12: =$R$8&P$11&$O12 -> Annual!A22 | Q12: =$R$8&Q$11&$O12 -> Annual!B22 | R12: =$R$8&R$11&$O12 -> Annual!C22 | S12: =$R$8&S$11&$O12 -> Annual!D22 | T12: =$R$8&T$11&$O12 -> Annual!E22 | U12: =$R$8&U$11&$O12 -> Annual!F22 | V12: =$R$8&V$11&$O12 -> Annual!G22 | W12: =$R$8&W$11&$O12 -> Annual!H22 | ... AA12: =$R$8&AA$11&$O12 -> Annual!L22
A13: ='Month (GWh)'!A17 -> 2000 | B13: June | C13: ='Month (GWh)'!C17+C12 -> 0 | D13: ='Month (GWh)'!D17+D12 -> 0 | E13: ='Month (GWh)'!E17+E12 -> 5503 | F13: ='Month (GWh)'!F17+F12 -> 0 | G13: ='Month (GWh)'!G17+G12 -> 5503 | H13: ='Month (GWh)'!H17+H12 -> 55615 | I13: ='Month (GWh)'!I17+I12 -> 4882 | J13: ='Month (GWh)'!J17+J12 -> 0 | ... M13: ='Month (GWh)'!M17+M12 -> -71897 | O13: =O12+1 -> 23 | P13: =$R$8&P$11&$O13 -> Annual!A23 | Q13: =$R$8&Q$11&$O13 -> Annual!B23 | R13: =$R$8&R$11&$O13 -> Annual!C23 | S13: =$R$8&S$11&$O13 -> Annual!D23 | T13: =$R$8&T$11&$O13 -> Annual!E23 | U13: =$R$8&U$11&$O13 -> Annual!F23 | V13: =$R$8&V$11&$O13 -> Annual!G23 | W13: =$R$8&W$11&$O13 -> Annual!H23 | ... AA13: =$R$8&AA$11&$O13 -> Annual!L23
A14: ='Month (GWh)'!A18 -> 2000 | B14: July | C14: ='Month (GWh)'!C18+C13 -> 0 | D14: ='Month (GWh)'!D18+D13 -> 0 | E14: ='Month (GWh)'!E18+E13 -> 6052 | F14: ='Month (GWh)'!F18+F13 -> 0 | G14: ='Month (GWh)'!G18+G13 -> 6052 | H14: ='Month (GWh)'!H18+H13 -> 64321 | I14: ='Month (GWh)'!I18+I13 -> 5224 | J14: ='Month (GWh)'!J18+J13 -> 0 | ... M14: ='Month (GWh)'!M18+M13 -> -82778 | O14: =O13+1 -> 24 | P14: =$R$8&P$11&$O14 -> Annual!A24 | Q14: =$R$8&Q$11&$O14 -> Annual!B24 | R14: =$R$8&R$11&$O14 -> Annual!C24 | S14: =$R$8&S$11&$O14 -> Annual!D24 | T14: =$R$8&T$11&$O14 -> Annual!E24 | U14: =$R$8&U$11&$O14 -> Annual!F24 | V14: =$R$8&V$11&$O14 -> Annual!G24 | W14: =$R$8&W$11&$O14 -> Annual!H24 | ... AA14: =$R$8&AA$11&$O14 -> Annual!L24
A15: ='Month (GWh)'!A19 -> 2000 | B15: August | C15: ='Month (GWh)'!C19+C14 -> 0 | D15: ='Month (GWh)'!D19+D14 -> 0 | E15: ='Month (GWh)'!E19+E14 -> 6972 | F15: ='Month (GWh)'!F19+F14 -> 0 | G15: ='Month (GWh)'!G19+G14 -> 6972 | H15: ='Month (GWh)'!H19+H14 -> 76718 | I15: ='Month (GWh)'!I19+I14 -> 5670 | J15: ='Month (GWh)'!J19+J14 -> 0 | ... M15: ='Month (GWh)'!M19+M14 -> -96809 | O15: =O14+1 -> 25 | P15: =$R$8&P$11&$O15 -> Annual!A25 | Q15: =$R$8&Q$11&$O15 -> Annual!B25 | R15: =$R$8&R$11&$O15 -> Annual!C25 | S15: =$R$8&S$11&$O15 -> Annual!D25 | T15: =$R$8&T$11&$O15 -> Annual!E25 | U15: =$R$8&U$11&$O15 -> Annual!F25 | V15: =$R$8&V$11&$O15 -> Annual!G25 | W15: =$R$8&W$11&$O15 -> Annual!H25 | ... AA15: =$R$8&AA$11&$O15 -> Annual!L25
A16: ='Month (GWh)'!A20 -> 2000 | B16: September | C16: ='Month (GWh)'!C20+C15 -> 0 | D16: ='Month (GWh)'!D20+D15 -> 0 | E16: ='Month (GWh)'!E20+E15 -> 7965 | F16: ='Month (GWh)'!F20+F15 -> 0 | G16: ='Month (GWh)'!G20+G15 -> 7965 | H16: ='Month (GWh)'!H20+H15 -> 88012 | I16: ='Month (GWh)'!I20+I15 -> 6086 | J16: ='Month (GWh)'!J20+J15 -> 0 | ... M16: ='Month (GWh)'!M20+M15 -> -109699 | O16: =O15+1 -> 26 | P16: =$R$8&P$11&$O16 -> Annual!A26 | Q16: =$R$8&Q$11&$O16 -> Annual!B26 | R16: =$R$8&R$11&$O16 -> Annual!C26 | S16: =$R$8&S$11&$O16 -> Annual!D26 | T16: =$R$8&T$11&$O16 -> Annual!E26 | U16: =$R$8&U$11&$O16 -> Annual!F26 | V16: =$R$8&V$11&$O16 -> Annual!G26 | W16: =$R$8&W$11&$O16 -> Annual!H26 | ... AA16: =$R$8&AA$11&$O16 -> Annual!L26
A17: ='Month (GWh)'!A21 -> 2000 | B17: October | C17: ='Month (GWh)'!C21+C16 -> 0 | D17: ='Month (GWh)'!D21+D16 -> 0 | E17: ='Month (GWh)'!E21+E16 -> 9070 | F17: ='Month (GWh)'!F21+F16 -> 0 | G17: ='Month (GWh)'!G21+G16 -> 9070 | H17: ='Month (GWh)'!H21+H16 -> 92471 | I17: ='Month (GWh)'!I21+I16 -> 6554 | J17: ='Month (GWh)'!J21+J16 -> 0 | ... M17: ='Month (GWh)'!M21+M16 -> -116002
A18: ='Month (GWh)'!A22 -> 2000 | B18: November | C18: ='Month (GWh)'!C22+C17 -> 351 | D18: ='Month (GWh)'!D22+D17 -> 0 | E18: ='Month (GWh)'!E22+E17 -> 10157 | F18: ='Month (GWh)'!F22+F17 -> 0 | G18: ='Month (GWh)'!G22+G17 -> 10508 | H18: ='Month (GWh)'!H22+H17 -> 94574 | I18: ='Month (GWh)'!I22+I17 -> 7189 | J18: ='Month (GWh)'!J22+J17 -> 0 | ... M18: ='Month (GWh)'!M22+M17 -> -120190
A19: ='Month (GWh)'!A23 -> 2000 | B19: December | C19: ='Month (GWh)'!C23+C18 -> 2955 | D19: ='Month (GWh)'!D23+D18 -> 0 | E19: ='Month (GWh)'!E23+E18 -> 11279 | F19: ='Month (GWh)'!F23+F18 -> 0 | G19: ='Month (GWh)'!G23+G18 -> 14234 | H19: ='Month (GWh)'!H23+H18 -> 94574 | I19: ='Month (GWh)'!I23+I18 -> 7723 | J19: ='Month (GWh)'!J23+J18 -> 0 | ... M19: ='Month (GWh)'!M23+M18 -> -120311
A20: ='Month (GWh)'!A24 -> 2001 | B20: January | C20: ='Month (GWh)'!C24 -> 980 | D20: ='Month (GWh)'!D24 -> 0 | E20: ='Month (GWh)'!E24 -> 1063 | F20: ='Month (GWh)'!F24 -> 0 | G20: ='Month (GWh)'!G24 -> 2043 | H20: ='Month (GWh)'!H24 -> 137 | I20: ='Month (GWh)'!I24 -> 500 | J20: ='Month (GWh)'!J24 -> 0 | ... M20: ='Month (GWh)'!M24 -> -2433
A21: ='Month (GWh)'!A25 -> 2001 | B21: February | C21: ='Month (GWh)'!C25+C20 -> 2956 | D21: ='Month (GWh)'!D25+D20 -> 0 | E21: ='Month (GWh)'!E25+E20 -> 1990 | F21: ='Month (GWh)'!F25+F20 -> 0 | G21: ='Month (GWh)'!G25+G20 -> 4946 | H21: ='Month (GWh)'!H25+H20 -> 137 | I21: ='Month (GWh)'!I25+I20 -> 977 | J21: ='Month (GWh)'!J25+J20 -> 0 | ... M21: ='Month (GWh)'!M25+M20 -> -3173
A22: ='Month (GWh)'!A26 -> 2001 | B22: March | C22: ='Month (GWh)'!C26+C21 -> 3080 | D22: ='Month (GWh)'!D26+D21 -> 0 | E22: ='Month (GWh)'!E26+E21 -> 2873 | F22: ='Month (GWh)'!F26+F21 -> 0 | G22: ='Month (GWh)'!G26+G21 -> 5953 | H22: ='Month (GWh)'!H26+H21 -> 2332 | I22: ='Month (GWh)'!I26+I21 -> 1522 | J22: ='Month (GWh)'!J26+J21 -> 0 | ... M22: ='Month (GWh)'!M26+M21 -> -8405
A23: ='Month (GWh)'!A27 -> 2001 | B23: April | C23: ='Month (GWh)'!C27+C22 -> 3080 | D23: ='Month (GWh)'!D27+D22 -> 0 | E23: ='Month (GWh)'!E27+E22 -> 3554 | F23: ='Month (GWh)'!F27+F22 -> 0 | G23: ='Month (GWh)'!G27+G22 -> 6634 | H23: ='Month (GWh)'!H27+H22 -> 9407 | I23: ='Month (GWh)'!I27+I22 -> 2008 | J23: ='Month (GWh)'!J27+J22 -> 0 | ... M23: ='Month (GWh)'!M27+M22 -> -18652 | R23: Month!
A24: ='Month (GWh)'!A28 -> 2001 | B24: May | C24: ='Month (GWh)'!C28+C23 -> 3080 | D24: ='Month (GWh)'!D28+D23 -> 0 | E24: ='Month (GWh)'!E28+E23 -> 4273 | F24: ='Month (GWh)'!F28+F23 -> 0 | G24: ='Month (GWh)'!G28+G23 -> 7353 | H24: ='Month (GWh)'!H28+H23 -> 18807 | I24: ='Month (GWh)'!I28+I23 -> 2514 | J24: ='Month (GWh)'!J28+J23 -> 0 | ... M24: ='Month (GWh)'!M28+M23 -> -31025
A25: ='Month (GWh)'!A29 -> 2001 | B25: June | C25: ='Month (GWh)'!C29+C24 -> 3080 | D25: ='Month (GWh)'!D29+D24 -> 0 | E25: ='Month (GWh)'!E29+E24 -> 4969 | F25: ='Month (GWh)'!F29+F24 -> 0 | G25: ='Month (GWh)'!G29+G24 -> 8049 | H25: ='Month (GWh)'!H29+H24 -> 29178 | I25: ='Month (GWh)'!I29+I24 -> 2571 | J25: ='Month (GWh)'!J29+J24 -> 0 | ... M25: ='Month (GWh)'!M29+M24 -> -43630 | P25: c | Q25: d | R25: e | S25: f | T25: g | U25: h | V25: i | W25: j | X25: k | Y25: l | Z25: m
A26: ='Month (GWh)'!A30 -> 2001 | B26: July | C26: ='Month (GWh)'!C30+C25 -> 3080 | D26: ='Month (GWh)'!D30+D25 -> 0 | E26: ='Month (GWh)'!E30+E25 -> 4969 | F26: ='Month (GWh)'!F30+F25 -> 0 | G26: ='Month (GWh)'!G30+G25 -> 8049 | H26: ='Month (GWh)'!H30+H25 -> 43567 | I26: ='Month (GWh)'!I30+I25 -> 2857 | J26: ='Month (GWh)'!J30+J25 -> 0 | ... M26: ='Month (GWh)'!M30+M25 -> -61520 | O26: 187 | P26: =$R$23&P$25&$O26 -> Month!c187 | Q26: =$R$23&Q$25&$O26 -> Month!d187 | R26: =$R$23&R$25&$O26 -> Month!e187 | S26: =$R$23&S$25&$O26 -> Month!f187 | T26: =$R$23&T$25&$O26 -> Month!g187 | U26: =$R$23&U$25&$O26 -> Month!h187 | V26: =$R$23&V$25&$O26 -> Month!i187 | W26: =$R$23&W$25&$O26 -> Month!j187 | ... Z26: =$R$23&Z$25&$O26 -> Month!m187
A27: ='Month (GWh)'!A31 -> 2001 | B27: August | C27: ='Month (GWh)'!C31+C26 -> 3080 | D27: ='Month (GWh)'!D31+D26 -> 0 | E27: ='Month (GWh)'!E31+E26 -> 5690 | F27: ='Month (GWh)'!F31+F26 -> 0 | G27: ='Month (GWh)'!G31+G26 -> 8770 | H27: ='Month (GWh)'!H31+H26 -> 55650 | I27: ='Month (GWh)'!I31+I26 -> 3372 | J27: ='Month (GWh)'!J31+J26 -> 0 | ... M27: ='Month (GWh)'!M31+M26 -> -76534 | O27: =O26+1 -> 188 | P27: =$R$23&P$25&$O27 -> Month!c188 | Q27: =$R$23&Q$25&$O27 -> Month!d188 | R27: =$R$23&R$25&$O27 -> Month!e188 | S27: =$R$23&S$25&$O27 -> Month!f188 | T27: =$R$23&T$25&$O27 -> Month!g188 | U27: =$R$23&U$25&$O27 -> Month!h188 | V27: =$R$23&V$25&$O27 -> Month!i188 | W27: =$R$23&W$25&$O27 -> Month!j188 | ... Z27: =$R$23&Z$25&$O27 -> Month!m188
A28: ='Month (GWh)'!A32 -> 2001 | B28: September | C28: ='Month (GWh)'!C32+C27 -> 3080 | D28: ='Month (GWh)'!D32+D27 -> 0 | E28: ='Month (GWh)'!E32+E27 -> 6389 | F28: ='Month (GWh)'!F32+F27 -> 0 | G28: ='Month (GWh)'!G32+G27 -> 9469 | H28: ='Month (GWh)'!H32+H27 -> 64507 | I28: ='Month (GWh)'!I32+I27 -> 3930 | J28: ='Month (GWh)'!J32+J27 -> 0 | ... M28: ='Month (GWh)'!M32+M27 -> -87996 | O28: =O27+1 -> 189 | P28: =$R$23&P$25&$O28 -> Month!c189 | Q28: =$R$23&Q$25&$O28 -> Month!d189 | R28: =$R$23&R$25&$O28 -> Month!e189 | S28: =$R$23&S$25&$O28 -> Month!f189 | T28: =$R$23&T$25&$O28 -> Month!g189 | U28: =$R$23&U$25&$O28 -> Month!h189 | V28: =$R$23&V$25&$O28 -> Month!i189 | W28: =$R$23&W$25&$O28 -> Month!j189 | ... Z28: =$R$23&Z$25&$O28 -> Month!m189
A29: ='Month (GWh)'!A33 -> 2001 | B29: October | C29: ='Month (GWh)'!C33+C28 -> 3080 | D29: ='Month (GWh)'!D33+D28 -> 0 | E29: ='Month (GWh)'!E33+E28 -> 7946 | F29: ='Month (GWh)'!F33+F28 -> 0 | G29: ='Month (GWh)'!G33+G28 -> 11026 | H29: ='Month (GWh)'!H33+H28 -> 74605 | I29: ='Month (GWh)'!I33+I28 -> 4503 | J29: ='Month (GWh)'!J33+J28 -> 0 | ... M29: ='Month (GWh)'!M33+M28 -> -100008 | O29: =O28+1 -> 190 | P29: =$R$23&P$25&$O29 -> Month!c190 | Q29: =$R$23&Q$25&$O29 -> Month!d190 | R29: =$R$23&R$25&$O29 -> Month!e190 | S29: =$R$23&S$25&$O29 -> Month!f190 | T29: =$R$23&T$25&$O29 -> Month!g190 | U29: =$R$23&U$25&$O29 -> Month!h190 | V29: =$R$23&V$25&$O29 -> Month!i190 | W29: =$R$23&W$25&$O29 -> Month!j190 | ... Z29: =$R$23&Z$25&$O29 -> Month!m190
A30: ='Month (GWh)'!A34 -> 2001 | B30: November | C30: ='Month (GWh)'!C34+C29 -> 3080 | D30: ='Month (GWh)'!D34+D29 -> 0 | E30: ='Month (GWh)'!E34+E29 -> 9684 | F30: ='Month (GWh)'!F34+F29 -> 0 | G30: ='Month (GWh)'!G34+G29 -> 12764 | H30: ='Month (GWh)'!H34+H29 -> 79789 | I30: ='Month (GWh)'!I34+I29 -> 5056 | J30: ='Month (GWh)'!J34+J29 -> 0 | ... M30: ='Month (GWh)'!M34+M29 -> -106909 | O30: =O29+1 -> 191 | P30: =$R$23&P$25&$O30 -> Month!c191 | Q30: =$R$23&Q$25&$O30 -> Month!d191 | R30: =$R$23&R$25&$O30 -> Month!e191 | S30: =$R$23&S$25&$O30 -> Month!f191 | T30: =$R$23&T$25&$O30 -> Month!g191 | U30: =$R$23&U$25&$O30 -> Month!h191 | V30: =$R$23&V$25&$O30 -> Month!i191 | W30: =$R$23&W$25&$O30 -> Month!j191 | ... Z30: =$R$23&Z$25&$O30 -> Month!m191
A31: ='Month (GWh)'!A35 -> 2001 | B31: December | C31: ='Month (GWh)'!C35+C30 -> 4015 | D31: ='Month (GWh)'!D35+D30 -> 0 | E31: ='Month (GWh)'!E35+E30 -> 12734 | F31: ='Month (GWh)'!F35+F30 -> 0 | G31: ='Month (GWh)'!G35+G30 -> 16749 | H31: ='Month (GWh)'!H35+H30 -> 80846 | I31: ='Month (GWh)'!I35+I30 -> 5640 | J31: ='Month (GWh)'!J35+J30 -> 0 | ... M31: ='Month (GWh)'!M35+M30 -> -107865 | O31: =O30+1 -> 192 | P31: =$R$23&P$25&$O31 -> Month!c192 | Q31: =$R$23&Q$25&$O31 -> Month!d192 | R31: =$R$23&R$25&$O31 -> Month!e192 | S31: =$R$23&S$25&$O31 -> Month!f192 | T31: =$R$23&T$25&$O31 -> Month!g192 | U31: =$R$23&U$25&$O31 -> Month!h192 | V31: =$R$23&V$25&$O31 -> Month!i192 | W31: =$R$23&W$25&$O31 -> Month!j192 | ... Z31: =$R$23&Z$25&$O31 -> Month!m192
A32: ='Month (GWh)'!A36 -> 2002 | B32: January | C32: ='Month (GWh)'!C36 -> 4035 | D32: ='Month (GWh)'!D36 -> 0 | E32: ='Month (GWh)'!E36 -> 3120 | F32: ='Month (GWh)'!F36 -> 0 | G32: ='Month (GWh)'!G36 -> 7155 | H32: ='Month (GWh)'!H36 -> 0 | I32: ='Month (GWh)'!I36 -> 566 | J32: ='Month (GWh)'!J36 -> 0 | ... M32: ='Month (GWh)'!M36 -> 3655 | O32: =O31+1 -> 193 | P32: =$R$23&P$25&$O32 -> Month!c193 | Q32: =$R$23&Q$25&$O32 -> Month!d193 | R32: =$R$23&R$25&$O32 -> Month!e193 | S32: =$R$23&S$25&$O32 -> Month!f193 | T32: =$R$23&T$25&$O32 -> Month!g193 | U32: =$R$23&U$25&$O32 -> Month!h193 | V32: =$R$23&V$25&$O32 -> Month!i193 | W32: =$R$23&W$25&$O32 -> Month!j193 | ... Z32: =$R$23&Z$25&$O32 -> Month!m193
A33: ='Month (GWh)'!A37 -> 2002 | B33: February | C33: ='Month (GWh)'!C37+C32 -> 5548 | D33: ='Month (GWh)'!D37+D32 -> 0 | E33: ='Month (GWh)'!E37+E32 -> 7290 | F33: ='Month (GWh)'!F37+F32 -> 0 | G33: ='Month (GWh)'!G37+G32 -> 12838 | H33: ='Month (GWh)'!H37+H32 -> 0 | I33: ='Month (GWh)'!I37+I32 -> 920 | J33: ='Month (GWh)'!J37+J32 -> 0 | ... M33: ='Month (GWh)'!M37+M32 -> 6167 | O33: =O32+1 -> 194 | P33: =$R$23&P$25&$O33 -> Month!c194 | Q33: =$R$23&Q$25&$O33 -> Month!d194 | R33: =$R$23&R$25&$O33 -> Month!e194 | S33: =$R$23&S$25&$O33 -> Month!f194 | T33: =$R$23&T$25&$O33 -> Month!g194 | U33: =$R$23&U$25&$O33 -> Month!h194 | V33: =$R$23&V$25&$O33 -> Month!i194 | W33: =$R$23&W$25&$O33 -> Month!j194 | ... Z33: =$R$23&Z$25&$O33 -> Month!m194
A34: ='Month (GWh)'!A38 -> 2002 | B34: March | C34: ='Month (GWh)'!C38+C33 -> 5548 | D34: ='Month (GWh)'!D38+D33 -> 0 | E34: ='Month (GWh)'!E38+E33 -> 11939 | F34: ='Month (GWh)'!F38+F33 -> 0 | G34: ='Month (GWh)'!G38+G33 -> 17487 | H34: ='Month (GWh)'!H38+H33 -> 5527 | I34: ='Month (GWh)'!I38+I33 -> 1429 | J34: ='Month (GWh)'!J38+J33 -> 0 | ... M34: ='Month (GWh)'!M38+M33 -> 1330 | O34: =O33+1 -> 195 | P34: =$R$23&P$25&$O34 -> Month!c195 | Q34: =$R$23&Q$25&$O34 -> Month!d195 | R34: =$R$23&R$25&$O34 -> Month!e195 | S34: =$R$23&S$25&$O34 -> Month!f195 | T34: =$R$23&T$25&$O34 -> Month!g195 | U34: =$R$23&U$25&$O34 -> Month!h195 | V34: =$R$23&V$25&$O34 -> Month!i195 | W34: =$R$23&W$25&$O34 -> Month!j195 | ... Z34: =$R$23&Z$25&$O34 -> Month!m195
A35: ='Month (GWh)'!A39 -> 2002 | B35: April | C35: ='Month (GWh)'!C39+C34 -> 5548 | D35: ='Month (GWh)'!D39+D34 -> 0 | E35: ='Month (GWh)'!E39+E34 -> 14141 | F35: ='Month (GWh)'!F39+F34 -> 0 | G35: ='Month (GWh)'!G39+G34 -> 19689 | H35: ='Month (GWh)'!H39+H34 -> 15292 | I35: ='Month (GWh)'!I39+I34 -> 1890 | J35: ='Month (GWh)'!J39+J34 -> 0 | ... M35: ='Month (GWh)'!M39+M34 -> -10632 | O35: =O34+1 -> 196 | P35: =$R$23&P$25&$O35 -> Month!c196 | Q35: =$R$23&Q$25&$O35 -> Month!d196 | R35: =$R$23&R$25&$O35 -> Month!e196 | S35: =$R$23&S$25&$O35 -> Month!f196 | T35: =$R$23&T$25&$O35 -> Month!g196 | U35: =$R$23&U$25&$O35 -> Month!h196 | V35: =$R$23&V$25&$O35 -> Month!i196 | W35: =$R$23&W$25&$O35 -> Month!j196 | ... Z35: =$R$23&Z$25&$O35 -> Month!m196
A36: ='Month (GWh)'!A40 -> 2002 | B36: May | C36: ='Month (GWh)'!C40+C35 -> 5548 | D36: ='Month (GWh)'!D40+D35 -> 0 | E36: ='Month (GWh)'!E40+E35 -> 14884 | F36: ='Month (GWh)'!F40+F35 -> 0 | G36: ='Month (GWh)'!G40+G35 -> 20432 | H36: ='Month (GWh)'!H40+H35 -> 30455 | I36: ='Month (GWh)'!I40+I35 -> 2349 | J36: ='Month (GWh)'!J40+J35 -> 0 | ... M36: ='Month (GWh)'!M40+M35 -> -28783 | O36: =O35+1 -> 197 | P36: =$R$23&P$25&$O36 -> Month!c197 | Q36: =$R$23&Q$25&$O36 -> Month!d197 | R36: =$R$23&R$25&$O36 -> Month!e197 | S36: =$R$23&S$25&$O36 -> Month!f197 | T36: =$R$23&T$25&$O36 -> Month!g197 | U36: =$R$23&U$25&$O36 -> Month!h197 | V36: =$R$23&V$25&$O36 -> Month!i197 | W36: =$R$23&W$25&$O36 -> Month!j197 | ... Z36: =$R$23&Z$25&$O36 -> Month!m197
A37: ='Month (GWh)'!A41 -> 2002 | B37: June | C37: ='Month (GWh)'!C41+C36 -> 5548 | D37: ='Month (GWh)'!D41+D36 -> 0 | E37: ='Month (GWh)'!E41+E36 -> 16388 | F37: ='Month (GWh)'!F41+F36 -> 0 | G37: ='Month (GWh)'!G41+G36 -> 21936 | H37: ='Month (GWh)'!H41+H36 -> 44092 | I37: ='Month (GWh)'!I41+I36 -> 2792 | J37: ='Month (GWh)'!J41+J36 -> 0 | ... M37: ='Month (GWh)'!M41+M36 -> -44221 | O37: =O36+1 -> 198 | P37: =$R$23&P$25&$O37 -> Month!c198 | Q37: =$R$23&Q$25&$O37 -> Month!d198 | R37: =$R$23&R$25&$O37 -> Month!e198 | S37: =$R$23&S$25&$O37 -> Month!f198 | T37: =$R$23&T$25&$O37 -> Month!g198 | U37: =$R$23&U$25&$O37 -> Month!h198 | V37: =$R$23&V$25&$O37 -> Month!i198 | W37: =$R$23&W$25&$O37 -> Month!j198 | ... Z37: =$R$23&Z$25&$O37 -> Month!m198
A38: ='Month (GWh)'!A42 -> 2002 | B38: July | C38: ='Month (GWh)'!C42+C37 -> 6303 | D38: ='Month (GWh)'!D42+D37 -> 0 | E38: ='Month (GWh)'!E42+E37 -> 18184 | F38: ='Month (GWh)'!F42+F37 -> 0 | G38: ='Month (GWh)'!G42+G37 -> 24487 | H38: ='Month (GWh)'!H42+H37 -> 45004 | I38: ='Month (GWh)'!I42+I37 -> 3224 | J38: ='Month (GWh)'!J42+J37 -> 0 | ... M38: ='Month (GWh)'!M42+M37 -> -45865 | O38: =O37+1 -> 199 | P38: =$R$23&P$25&$O38 -> Month!c199 | Q38: =$R$23&Q$25&$O38 -> Month!d199 | R38: =$R$23&R$25&$O38 -> Month!e199 | S38: =$R$23&S$25&$O38 -> Month!f199 | T38: =$R$23&T$25&$O38 -> Month!g199 | U38: =$R$23&U$25&$O38 -> Month!h199 | V38: =$R$23&V$25&$O38 -> Month!i199 | W38: =$R$23&W$25&$O38 -> Month!j199 | ... Z38: =$R$23&Z$25&$O38 -> Month!m199
