Workbook

Sheet Contents
B8: Natural gas imports and exports
B10: Publication date: | E10: 42488
B11: Data period: | E11: New data for February 2016
B12: Next Update | E12: 42516
B14: Contents
B15: Main points | E15: Highlights
B16: Tables | E16: Main table (GWh)
E17: Main table (Million m3)
B18: Historic data | E18: Annual (GWh) | G18: 2000 - 2015
E19: Annual (Million m3) | G19: 2000 - 2015
E20: Quarter (GWh) | G20: Q1 2000 - Q4 2015
E21: Quarter (Million m3) | G21: Q1 2000 - Q4 2015
E22: Month (GWh) | G22: January 2000 - February 2016
E23: Month (Million m3) | G23: January 2000 - February 2016
E24: Calculated calorific values | G24: January 2000 - February 2016
B26: Background
B27: Data on UK natural gas imports and exports. Monthly data published two months in arrears in both Gigawatt hours and Million cubic metres.
B29: Further information
B30: Website | E30: Energy Trends: gas
B31: Data sources & methodology | E31: Gas production and trade: upstream gas methodology note
E32: Downstream gas statistics: data sources and methodologies
B33: Revisions policy | E33: Energy statistics revisions policy
B34: Glossary and acronyms | E34: Digest of United Kingdom Energy Statistics (DUKES): glossary and acronyms
B36: Contacts | E36: DECC Press Office (media enquiries) | I36: tel: 0300 060 4000 | L36: e-mail: | M36: pressoffice@decc.gsi.gov.uk
E37: Statistician: Warren Evans | I37: tel: 0300 068 5059 | L37: e-mail: | M37: warren.evans@decc.gsi.gov.uk

Sheet Highlights
B1: GAS
B2: Table 4.3 Natural gas imports and exports
B3: 42488
B5: Provisional 2015 data compared with 2014:
B6: Increased production, stable imports and demand has given rise to significantly higher exports. Total imports are up by 4.5 per cent whilst exports are up by 34 per cent.
B8: The overall trend masks some underlying differences. Despite a small increase in overall imports, pipeline imports from the Netherlands and Belgium have decreased by half compared with last year and the additional volumes are sourced from Norway (up 11.9 per cent on last year) and Liquified Natural Gas (up a fifth on last year).
B10: Whilst export volumes are up a third there are again country-by-country differences. Exports to Belgium are showing the most substantial increase (up 76 per cent). There has been a 10.3 per cent increase in exports to the Netherlands whilst exports to the Republic of Ireland were relatively steady (up 2.3 per cent)
B12: In the latest 3 months:
B13: The last three months has seen a contraction of imports from Europe, with a small rise in LNG imports (1.7 per cent up). Overall, imports have decreased by 6.9 per cent on the same period a year ago, a result of strong UK production and relatively muted demand.
B15: Total exports were up nearly a fifth on the same period last year, with the most notable change being Belgian exports which increased nearly three fold to match the exports of gas to the Republic of Ireland.
B17: Further details on gas imports can be found within Table 4.4
B19: Please note that the imports and exports in Table 4.3 differ from those in Table 4.2 because this table uses the physical flows through the Bacton-Zeebrugge Interconnector and BBL pipeline, as opposed to the commercial flows in Table 4.2. Commercial flows are the amounts of gas that companies requested be supplied through the pipeline. The overall net trade is the same in both tables.
B21: Return to contents page

Sheet Main Table (GWh)
A1: GAS
A2: TABLE 4.3 Natural gas imports and exports | P2: GWh
F5: Imports | K5: Exports
D6: From | E6: From the | F6: From | G6: Liquefied | H6: Total | J6: To | K6: To the | L6: To | M6: To the | N6: Total | P6: Net
D7: Belgium1 | E7: Netherlands2 | F7: Norway3 | G7: Natural Gas4 | H7: Imports | J7: Belgium1 | K7: Netherlands5 | L7: Norway6 | M7: Republic of | N7: Exports | P7: Imports7
M8: Ireland
A9: 2011 | D9: ='Annual (GWh)'!B23 -> 4031.5961 | E9: ='Annual (GWh)'!C23 -> 69001.094 | F9: ='Annual (GWh)'!D23 -> 234193.66 | G9: ='Annual (GWh)'!E23 -> 274794.23 | H9: ='Annual (GWh)'!F23 -> 582020.58 | J9: ='Annual (GWh)'!G23 -> 101526.25 | K9: ='Annual (GWh)'!H23 -> 17543.681 | L9: ='Annual (GWh)'!I23 -> 120.03889 | M9: ='Annual (GWh)'!J23 -> 58041.478 | N9: ='Annual (GWh)'!K23 -> 177231.45 | P9: ='Annual (GWh)'!L23 -> 404789.13
A10: 2012 | D10: ='Annual (GWh)'!B24 -> 14263.62 | E10: ='Annual (GWh)'!C24 -> 78258.46 | F10: ='Annual (GWh)'!D24 -> 294585.81 | G10: ='Annual (GWh)'!E24 -> 150097.68 | H10: ='Annual (GWh)'!F24 -> 537205.57 | J10: ='Annual (GWh)'!G24 -> 50343.123 | K10: ='Annual (GWh)'!H24 -> 23728.535 | L10: ='Annual (GWh)'!I24 -> 49.318444 | M10: ='Annual (GWh)'!J24 -> 57589.642 | N10: ='Annual (GWh)'!K24 -> 131710.62 | P10: ='Annual (GWh)'!L24 -> 405494.95
A11: 2013 | D11: ='Annual (GWh)'!B25 -> 35366.849 | E11: ='Annual (GWh)'!C25 -> 81519.42 | F11: ='Annual (GWh)'!D25 -> 305515.79 | G11: ='Annual (GWh)'!E25 -> 102620.34 | H11: ='Annual (GWh)'!F25 -> 525022.4 | J11: ='Annual (GWh)'!G25 -> 27457.824 | K11: ='Annual (GWh)'!H25 -> 18597.045 | L11: ='Annual (GWh)'!I25 -> 19.552444 | M11: ='Annual (GWh)'!J25 -> 53507.585 | N11: ='Annual (GWh)'!K25 -> 99582.006 | P11: ='Annual (GWh)'!L25 -> 425440.39
A12: 2014 | D12: ='Annual (GWh)'!B26 -> 3948.5761 | E12: ='Annual (GWh)'!C26 -> 70292.615 | F12: ='Annual (GWh)'!D26 -> 267041.95 | G12: ='Annual (GWh)'!E26 -> 123912.39 | H12: ='Annual (GWh)'!F26 -> 465195.53 | J12: ='Annual (GWh)'!G26 -> 48073.764 | K12: ='Annual (GWh)'!H26 -> 18851.7 | L12: ='Annual (GWh)'!I26 -> 8.8924444 | M12: ='Annual (GWh)'!J26 -> 49004.134 | N12: ='Annual (GWh)'!K26 -> 115938.49 | P12: ='Annual (GWh)'!L26 -> 349257.04
A13: 2015 | D13: ='Annual (GWh)'!B27 -> 2116.2019 | E13: ='Annual (GWh)'!C27 -> 35932.863 | F13: ='Annual (GWh)'!D27 -> 298772.79 | G13: ='Annual (GWh)'!E27 -> 149364.16 | H13: ='Annual (GWh)'!F27 -> 486186.02 | J13: ='Annual (GWh)'!G27 -> 84465.071 | K13: ='Annual (GWh)'!H27 -> 20789.249 | L13: ='Annual (GWh)'!I27 -> 3.3255556 | M13: ='Annual (GWh)'!J27 -> 50120.757 | N13: ='Annual (GWh)'!K27 -> 155378.4 | P13: ='Annual (GWh)'!L27 -> 330807.61
A14: Per cent change | D14: -46.4 | E14: -48.9 | F14: +11.9 | G14: +20.5 | H14: +4.5 | J14: +75.7 | K14: +10.3 | L14: -62.6 | M14: +2.3 | N14: +34.0 | P14: -5.3
A15: 2015 | B15: January - | C15: February | D15: =SUM('Month (GWh)'!C192:C193) -> 1877.4572 | E15: =SUM('Month (GWh)'!D192:D193) -> 16463.151 | F15: =SUM('Month (GWh)'!E192:E193) -> 63999.785 | G15: =SUM('Month (GWh)'!F192:F193) -> 21201.333 | H15: =SUM('Month (GWh)'!G192:G193) -> 103541.73 | J15: =SUM('Month (GWh)'!H192:H193) -> 2371.0758 | K15: =SUM('Month (GWh)'!I192:I193) -> 3812.8396 | L15: =SUM('Month (GWh)'!J192:J193) -> 0.35533333 | M15: =SUM('Month (GWh)'!K192:K193) -> 8724.6277 | N15: =SUM('Month (GWh)'!L192:L193) -> 14908.898 | P15: =SUM('Month (GWh)'!M192:M193) -> 88632.828
A16: 2016 | B16: February - | C16: January | D16: =SUM('Month (GWh)'!C204:C205) -> 477.35296 | E16: =SUM('Month (GWh)'!D204:D205) -> 13678.629 | F16: =SUM('Month (GWh)'!E204:E205) -> 63197.952 | G16: =SUM('Month (GWh)'!F204:F205) -> 23795.728 | H16: =SUM('Month (GWh)'!G204:G205) -> 101149.66 | J16: =SUM('Month (GWh)'!H204:H205) -> 3537.4613 | K16: =SUM('Month (GWh)'!I204:I205) -> 3867.6779 | L16: =SUM('Month (GWh)'!J204:J205) -> 0.35533333 | M16: =SUM('Month (GWh)'!K204:K205) -> 5724.0776 | N16: =SUM('Month (GWh)'!L204:L205) -> 13129.572 | P16: =SUM('Month (GWh)'!M204:M205) -> 88020.09
A17: Per cent change | D17: -74.6 | E17: -16.9 | F17: -1.3 | G17: +12.2 | H17: -2.3 | J17: +49.2 | K17: +1.4 | L17: - | M17: -34.4 | N17: -11.9 | P17: -0.7
A18: 2014 | B18: December | D18: ='Month (GWh)'!C191 -> 385.74806 | E18: ='Month (GWh)'!D191 -> 7608.0796 | F18: ='Month (GWh)'!E191 -> 35944.684 | G18: ='Month (GWh)'!F191 -> 11785.473 | H18: ='Month (GWh)'!G191 -> 55723.984 | J18: ='Month (GWh)'!H191 -> 427.46472 | K18: ='Month (GWh)'!I191 -> 972.20425 | L18: ='Month (GWh)'!J191 -> 0 | M18: ='Month (GWh)'!K191 -> 4091.1515 | N18: ='Month (GWh)'!L191 -> 5490.8205 | P18: ='Month (GWh)'!M191 -> 50233.164
A19: 2015 | B19: January | D19: ='Month (GWh)'!C192 -> 773.09722 | E19: ='Month (GWh)'!D192 -> 9338.6943 | F19: ='Month (GWh)'!E192 -> 31247.32 | G19: ='Month (GWh)'!F192 -> 11927.398 | H19: ='Month (GWh)'!G192 -> 53286.51 | J19: ='Month (GWh)'!H192 -> 1784.5883 | K19: ='Month (GWh)'!I192 -> 1845.9273 | L19: ='Month (GWh)'!J192 -> 0.35533333 | M19: ='Month (GWh)'!K192 -> 4507.39 | N19: ='Month (GWh)'!L192 -> 8138.2609 | P19: ='Month (GWh)'!M192 -> 45148.249
B20: February | D20: ='Month (GWh)'!C193 -> 1104.36 | E20: ='Month (GWh)'!D193 -> 7124.4569 | F20: ='Month (GWh)'!E193 -> 32752.465 | G20: ='Month (GWh)'!F193 -> 9273.9345 | H20: ='Month (GWh)'!G193 -> 50255.217 | J20: ='Month (GWh)'!H193 -> 586.4875 | K20: ='Month (GWh)'!I193 -> 1966.9124 | L20: ='Month (GWh)'!J193 -> 0 | M20: ='Month (GWh)'!K193 -> 4217.2377 | N20: ='Month (GWh)'!L193 -> 6770.6376 | P20: ='Month (GWh)'!M193 -> 43484.579
A21: Total | D21: =SUM(D18:D20) -> 2263.2053 | E21: =SUM(E18:E20) -> 24071.231 | F21: =SUM(F18:F20) -> 99944.47 | G21: =SUM(G18:G20) -> 32986.805 | H21: =SUM(H18:H20) -> 159265.71 | J21: =SUM(J18:J20) -> 2798.5406 | K21: =SUM(K18:K20) -> 4785.0439 | L21: =SUM(L18:L20) -> 0.35533333 | M21: =SUM(M18:M20) -> 12815.779 | N21: =SUM(N18:N20) -> 20399.719 | P21: =SUM(P18:P20) -> 138865.99
A22: 2015 | B22: December | D22: ='Month (GWh)'!C203 -> 0 | E22: ='Month (GWh)'!D203 -> 6432.1931 | F22: ='Month (GWh)'!E203 -> 30961.174 | G22: ='Month (GWh)'!F203 -> 9762.3603 | H22: ='Month (GWh)'!G203 -> 47155.728 | J22: ='Month (GWh)'!H203 -> 5832.3847 | K22: ='Month (GWh)'!I203 -> 1765.8925 | L22: ='Month (GWh)'!J203 -> -0.25511111 | M22: ='Month (GWh)'!K203 -> 3654.8824 | N22: ='Month (GWh)'!L203 -> 11252.905 | P22: ='Month (GWh)'!M203 -> 35902.823
A23: 2016 | B23: January | D23: ='Month (GWh)'!C204 -> 249.37633 | E23: ='Month (GWh)'!D204 -> 6949.856 | F23: ='Month (GWh)'!E204 -> 33011.563 | G23: ='Month (GWh)'!F204 -> 9602.4251 | H23: ='Month (GWh)'!G204 -> 49813.221 | J23: ='Month (GWh)'!H204 -> 2202.9581 | K23: ='Month (GWh)'!I204 -> 2075.37 | L23: ='Month (GWh)'!J204 -> 0.35533333 | M23: ='Month (GWh)'!K204 -> 2983.527 | N23: ='Month (GWh)'!L204 -> 7262.2105 | P23: ='Month (GWh)'!M204 -> 42551.01
B24: February | D24: ='Month (GWh)'!C205 -> 227.97663 | E24: ='Month (GWh)'!D205 -> 6728.7728 | F24: ='Month (GWh)'!E205 -> 30186.389 | G24: ='Month (GWh)'!F205 -> 14193.303 | H24: ='Month (GWh)'!G205 -> 51336.442 | J24: ='Month (GWh)'!H205 -> 1334.5032 | K24: ='Month (GWh)'!I205 -> 1792.3079 | L24: ='Month (GWh)'!J205 -> 0 | M24: ='Month (GWh)'!K205 -> 2740.5505 | N24: ='Month (GWh)'!L205 -> 5867.3616 | P24: ='Month (GWh)'!M205 -> 45469.08
A25: Total | D25: =SUM(D22:D24)+0.0000001 -> 477.35296 | E25: =SUM(E22:E24) -> 20110.822 | F25: =SUM(F22:F24) -> 94159.127 | G25: =SUM(G22:G24) -> 33558.089 | H25: =SUM(H22:H24) -> 148305.39 | J25: =SUM(J22:J24) -> 9369.846 | K25: =SUM(K22:K24) -> 5633.5704 | L25: =SUM(L22:L24) -> 0.10022222 | M25: =SUM(M22:M24) -> 9378.96 | N25: =SUM(N22:N24) -> 24382.477 | P25: =SUM(P22:P24) -> 123922.91
A26: Per cent change8 | D26: -78.9 | E26: -16.5 | F26: -5.8 | G26: +1.7 | H26: -6.9 | J26: (+) | K26: +17.7 | M26: -26.8 | N26: +19.5 | P26: -10.8
A28: 1. | B28: Physical flows of gas through the Bacton-Zeebrugge Interconnector.
A29: 2. | B29: Physical flows via the BBL pipeline.
A30: 3. | B30: Via the Langeled and Vesterled pipelines, and the Tampen Link (from Statfjord to FLAGS).
A31: 4. | B31: From various sources to Milford Haven (South Hook and Dragon), Isle of Grain and Gasport Teesside
A32: 5. | B32: Direct exports from the Chiswick, Grove, Markham, Minke Stamford, Windermere and Wingate offshore gas fields.
A33: 6. | B33: Injection into the Norwegian Ula field.
A34: 7. | B34: A negative figure means the the UK was a net exporter of gas.
A35: 8. | B35: Percentage change between the most recent quarter and the same quarter a year earlier; (+) represents a positive percentage change greater than 100%.
A37: Return to contents page

Sheet Annual (GWh)
A1: GAS
A2: TABLE 4.3 Natural gas imports and exports | L2: GWh
D6: Imports | I6: Exports
B7: From | C7: From the | D7: From | E7: Liquefied | F7: Total | G7: To | H7: To the | I7: To | J7: To the | K7: Total | L7: Net
B8: Belgium | C8: Netherlands | D8: Norway | E8: Natural Gas | F8: Imports | G8: Belgium | H8: Netherlands | I8: Norway | J8: Republic of | K8: Exports | L8: Imports
J9: Ireland
A11: YEAR
A12: 2000 | B12: =SUM('Quarter (GWh)'!C12:C15) -> 2955 | C12: =SUM('Quarter (GWh)'!D12:D15) -> 0 | D12: =SUM('Quarter (GWh)'!E12:E15) -> 11279 | E12: =SUM('Quarter (GWh)'!F12:F15) -> 0 | F12: =SUM('Quarter (GWh)'!G12:G15) -> 14234 | G12: =SUM('Quarter (GWh)'!H12:H15) -> 94574 | H12: =SUM('Quarter (GWh)'!I12:I15) -> 7723 | I12: =SUM('Quarter (GWh)'!J12:J15) -> 0 | ... L12: =SUM('Quarter (GWh)'!M12:M15) -> -120311
A13: 2001 | B13: =SUM('Quarter (GWh)'!C16:C19) -> 4015 | C13: =SUM('Quarter (GWh)'!D16:D19) -> 0 | D13: =SUM('Quarter (GWh)'!E16:E19) -> 12734 | E13: =SUM('Quarter (GWh)'!F16:F19) -> 0 | F13: =SUM('Quarter (GWh)'!G16:G19) -> 16749 | G13: =SUM('Quarter (GWh)'!H16:H19) -> 80846 | H13: =SUM('Quarter (GWh)'!I16:I19) -> 5640 | I13: =SUM('Quarter (GWh)'!J16:J19) -> 0 | ... L13: =SUM('Quarter (GWh)'!M16:M19) -> -107865
A14: 2002 | B14: =SUM('Quarter (GWh)'!C20:C23) -> 6645 | C14: =SUM('Quarter (GWh)'!D20:D23) -> 0 | D14: =SUM('Quarter (GWh)'!E20:E23) -> 37883 | E14: =SUM('Quarter (GWh)'!F20:F23) -> 0 | F14: =SUM('Quarter (GWh)'!G20:G23) -> 44528 | G14: =SUM('Quarter (GWh)'!H20:H23) -> 91189 | H14: =SUM('Quarter (GWh)'!I20:I23) -> 4837 | I14: =SUM('Quarter (GWh)'!J20:J23) -> 0 | ... L14: =SUM('Quarter (GWh)'!M20:M23) -> -90238
A15: 2003 | B15: =SUM('Quarter (GWh)'!C24:C27) -> 4387 | C15: =SUM('Quarter (GWh)'!D24:D27) -> 0 | D15: =SUM('Quarter (GWh)'!E24:E27) -> 71755 | E15: =SUM('Quarter (GWh)'!F24:F27) -> 0 | F15: =SUM('Quarter (GWh)'!G24:G27) -> 76142 | G15: =SUM('Quarter (GWh)'!H24:H27) -> 122651 | H15: =SUM('Quarter (GWh)'!I24:I27) -> 3424 | I15: =SUM('Quarter (GWh)'!J24:J27) -> 0 | ... L15: =SUM('Quarter (GWh)'!M24:M27) -> -90739
A16: 2004 | B16: =SUM('Quarter (GWh)'!C28:C31) -> 25592 | C16: =SUM('Quarter (GWh)'!D28:D31) -> 0 | D16: =SUM('Quarter (GWh)'!E28:E31) -> 95363 | E16: =SUM('Quarter (GWh)'!F28:F31) -> 0 | F16: =SUM('Quarter (GWh)'!G28:G31) -> 120955 | G16: =SUM('Quarter (GWh)'!H28:H31) -> 60060 | H16: =SUM('Quarter (GWh)'!I28:I31) -> 2887 | I16: =SUM('Quarter (GWh)'!J28:J31) -> 0 | ... L16: =SUM('Quarter (GWh)'!M28:M31) -> 18924
A17: 2005 | B17: =SUM('Quarter (GWh)'!C32:C35) -> 24108 | C17: =SUM('Quarter (GWh)'!D32:D35) -> 0 | D17: =SUM('Quarter (GWh)'!E32:E35) -> 127894 | E17: =SUM('Quarter (GWh)'!F32:F35) -> 5453 | F17: =SUM('Quarter (GWh)'!G32:G35) -> 157455 | G17: =SUM('Quarter (GWh)'!H32:H35) -> 36640 | H17: =SUM('Quarter (GWh)'!I32:I35) -> 4261 | I17: =SUM('Quarter (GWh)'!J32:J35) -> 0 | ... L17: =SUM('Quarter (GWh)'!M32:M35) -> 77147
A18: 2006 | B18: =SUM('Quarter (GWh)'!C36:C39) -> 30505 | C18: =SUM('Quarter (GWh)'!D36:D39) -> 9135 | D18: =SUM('Quarter (GWh)'!E36:E39) -> 157036 | E18: =SUM('Quarter (GWh)'!F36:F39) -> 37576 | F18: =SUM('Quarter (GWh)'!G36:G39) -> 234252 | G18: =SUM('Quarter (GWh)'!H36:H39) -> 60194 | H18: =SUM('Quarter (GWh)'!I36:I39) -> 3371 | I18: =SUM('Quarter (GWh)'!J36:J39) -> 0 | ... L18: =SUM('Quarter (GWh)'!M36:M39) -> 123440
A19: 2007 | B19: =SUM('Quarter (GWh)'!C40:C43) -> 6471.1621 | C19: =SUM('Quarter (GWh)'!D40:D43) -> 76602.423 | D19: =SUM('Quarter (GWh)'!E40:E43) -> 225764 | E19: =SUM('Quarter (GWh)'!F40:F43) -> 14903.154 | F19: =SUM('Quarter (GWh)'!G40:G43) -> 323740.74 | G19: =SUM('Quarter (GWh)'!H40:H43) -> 51389.868 | H19: =SUM('Quarter (GWh)'!I40:I43) -> 6357.5712 | I19: =SUM('Quarter (GWh)'!J40:J43) -> 152.53993 | ... L19: =SUM('Quarter (GWh)'!M40:M43) -> 214868.93
A20: 2008 | B20: =SUM('Quarter (GWh)'!C44:C47) -> 12174.127 | C20: =SUM('Quarter (GWh)'!D44:D47) -> 90563.084 | D20: =SUM('Quarter (GWh)'!E44:E47) -> 283721.67 | E20: =SUM('Quarter (GWh)'!F44:F47) -> 9045.4727 | F20: =SUM('Quarter (GWh)'!G44:G47) -> 395504.35 | G20: =SUM('Quarter (GWh)'!H44:H47) -> 45949.377 | H20: =SUM('Quarter (GWh)'!I44:I47) -> 10388.697 | I20: =SUM('Quarter (GWh)'!J44:J47) -> 389.09227 | ... L20: =SUM('Quarter (GWh)'!M44:M47) -> 284517.04
A21: 2009 | B21: =SUM('Quarter (GWh)'!C48:C51) -> 7945.2292 | C21: =SUM('Quarter (GWh)'!D48:D51) -> 69528.567 | D21: =SUM('Quarter (GWh)'!E48:E51) -> 260437.51 | E21: =SUM('Quarter (GWh)'!F48:F51) -> 112237.54 | F21: =SUM('Quarter (GWh)'!G48:G51) -> 450148.84 | G21: =SUM('Quarter (GWh)'!H48:H51) -> 62084.165 | H21: =SUM('Quarter (GWh)'!I48:I51) -> 13094.117 | I21: =SUM('Quarter (GWh)'!J48:J51) -> 267.91913 | ... L21: =SUM('Quarter (GWh)'!M48:M51) -> 320345.5
A22: 2010 | B22: =SUM('Quarter (GWh)'!C52:C55) -> 13568.2 | C22: =SUM('Quarter (GWh)'!D52:D55) -> 87119.957 | D22: =SUM('Quarter (GWh)'!E52:E55) -> 276806.65 | E22: =SUM('Quarter (GWh)'!F52:F55) -> 206845.99 | F22: =SUM('Quarter (GWh)'!G52:G55) -> 584340.8 | G22: =SUM('Quarter (GWh)'!H52:H55) -> 95932.342 | H22: =SUM('Quarter (GWh)'!I52:I55) -> 15830.424 | I22: =SUM('Quarter (GWh)'!J52:J55) -> 157.522 | ... L22: =SUM('Quarter (GWh)'!M52:M55) -> 416154.81
A23: 2011 | B23: =SUM('Quarter (GWh)'!C56:C59) -> 4031.5961 | C23: =SUM('Quarter (GWh)'!D56:D59) -> 69001.094 | D23: =SUM('Quarter (GWh)'!E56:E59) -> 234193.66 | E23: =SUM('Quarter (GWh)'!F56:F59) -> 274794.23 | F23: =SUM('Quarter (GWh)'!G56:G59) -> 582020.58 | G23: =SUM('Quarter (GWh)'!H56:H59) -> 101526.25 | H23: =SUM('Quarter (GWh)'!I56:I59) -> 17543.681 | I23: =SUM('Quarter (GWh)'!J56:J59) -> 120.03889 | ... L23: =SUM('Quarter (GWh)'!M56:M59) -> 404789.13
A24: 2012 | B24: =SUM('Quarter (GWh)'!C60:C63) -> 14263.62 | C24: =SUM('Quarter (GWh)'!D60:D63) -> 78258.46 | D24: =SUM('Quarter (GWh)'!E60:E63) -> 294585.81 | E24: =SUM('Quarter (GWh)'!F60:F63) -> 150097.68 | F24: =SUM('Quarter (GWh)'!G60:G63) -> 537205.57 | G24: =SUM('Quarter (GWh)'!H60:H63) -> 50343.123 | H24: =SUM('Quarter (GWh)'!I60:I63) -> 23728.535 | I24: =SUM('Quarter (GWh)'!J60:J63) -> 49.318444 | ... L24: =SUM('Quarter (GWh)'!M60:M63) -> 405494.95
A25: 2013 | B25: =SUM('Quarter (GWh)'!C64:C67) -> 35366.849 | C25: =SUM('Quarter (GWh)'!D64:D67) -> 81519.42 | D25: =SUM('Quarter (GWh)'!E64:E67) -> 305515.79 | E25: =SUM('Quarter (GWh)'!F64:F67) -> 102620.34 | F25: =SUM('Quarter (GWh)'!G64:G67) -> 525022.4 | G25: =SUM('Quarter (GWh)'!H64:H67) -> 27457.824 | H25: =SUM('Quarter (GWh)'!I64:I67) -> 18597.045 | I25: =SUM('Quarter (GWh)'!J64:J67) -> 19.552444 | ... L25: =SUM('Quarter (GWh)'!M64:M67) -> 425440.39
A26: 2014 | B26: =SUM('Quarter (GWh)'!C68:C71) -> 3948.5761 | C26: =SUM('Quarter (GWh)'!D68:D71) -> 70292.615 | D26: =SUM('Quarter (GWh)'!E68:E71) -> 267041.95 | E26: =SUM('Quarter (GWh)'!F68:F71) -> 123912.39 | F26: =SUM('Quarter (GWh)'!G68:G71) -> 465195.53 | G26: =SUM('Quarter (GWh)'!H68:H71) -> 48073.764 | H26: =SUM('Quarter (GWh)'!I68:I71) -> 18851.7 | I26: =SUM('Quarter (GWh)'!J68:J71) -> 8.8924444 | ... L26: =SUM('Quarter (GWh)'!M68:M71) -> 349257.04
A27: 2015 | B27: =SUM('Quarter (GWh)'!C72:C75) -> 2116.2019 | C27: =SUM('Quarter (GWh)'!D72:D75) -> 35932.863 | D27: =SUM('Quarter (GWh)'!E72:E75) -> 298772.79 | E27: =SUM('Quarter (GWh)'!F72:F75) -> 149364.16 | F27: =SUM('Quarter (GWh)'!G72:G75) -> 486186.02 | G27: =SUM('Quarter (GWh)'!H72:H75) -> 84465.071 | H27: =SUM('Quarter (GWh)'!I72:I75) -> 20789.249 | I27: =SUM('Quarter (GWh)'!J72:J75) -> 3.3255556 | ... L27: =SUM('Quarter (GWh)'!M72:M75) -> 330807.61
A30: Return to contents page

Sheet Quarter (GWh)
A1: GAS | B1: Natural gas production and supply
A2: TABLE 4.3 Natural gas imports and exports | M2: GWh
E6: Imports | J6: Exports
C7: From | D7: From the | E7: From | F7: Liquefied | G7: Total | H7: To | I7: To the | J7: To | K7: To the | L7: Total | M7: Net
C8: Belgium | D8: Netherlands | E8: Norway | F8: Natural Gas | G8: Imports | H8: Belgium | I8: Netherlands | J8: Norway | K8: Republic of | L8: Exports | M8: Imports
K9: Ireland
A11: YEAR | B11: MONTH
A12: 2000 | B12: Quarter 1 | C12: =SUM('Month (GWh)'!C12:C14) -> 0 | D12: =SUM('Month (GWh)'!D12:D14) -> 0 | E12: =SUM('Month (GWh)'!E12:E14) -> 3074 | F12: =SUM('Month (GWh)'!F12:F14) -> 0 | G12: =SUM('Month (GWh)'!G12:G14) -> 3074 | H12: =SUM('Month (GWh)'!H12:H14) -> 21214 | I12: =SUM('Month (GWh)'!I12:I14) -> 2728 | J12: =SUM('Month (GWh)'!J12:J14) -> 0 | ... M12: =SUM('Month (GWh)'!M12:M14) -> -29603
A13: 2000 | B13: Quarter 2 | C13: =SUM('Month (GWh)'!C15:C17) -> 0 | D13: =SUM('Month (GWh)'!D15:D17) -> 0 | E13: =SUM('Month (GWh)'!E15:E17) -> 2429 | F13: =SUM('Month (GWh)'!F15:F17) -> 0 | G13: =SUM('Month (GWh)'!G15:G17) -> 2429 | H13: =SUM('Month (GWh)'!H15:H17) -> 34401 | I13: =SUM('Month (GWh)'!I15:I17) -> 2154 | J13: =SUM('Month (GWh)'!J15:J17) -> 0 | ... M13: =SUM('Month (GWh)'!M15:M17) -> -42294
A14: 2000 | B14: Quarter 3 | C14: =SUM('Month (GWh)'!C18:C20) -> 0 | D14: =SUM('Month (GWh)'!D18:D20) -> 0 | E14: =SUM('Month (GWh)'!E18:E20) -> 2462 | F14: =SUM('Month (GWh)'!F18:F20) -> 0 | G14: =SUM('Month (GWh)'!G18:G20) -> 2462 | H14: =SUM('Month (GWh)'!H18:H20) -> 32397 | I14: =SUM('Month (GWh)'!I18:I20) -> 1204 | J14: =SUM('Month (GWh)'!J18:J20) -> 0 | ... M14: =SUM('Month (GWh)'!M18:M20) -> -37802
A15: 2000 | B15: Quarter 4 | C15: =SUM('Month (GWh)'!C21:C23) -> 2955 | D15: =SUM('Month (GWh)'!D21:D23) -> 0 | E15: =SUM('Month (GWh)'!E21:E23) -> 3314 | F15: =SUM('Month (GWh)'!F21:F23) -> 0 | G15: =SUM('Month (GWh)'!G21:G23) -> 6269 | H15: =SUM('Month (GWh)'!H21:H23) -> 6562 | I15: =SUM('Month (GWh)'!I21:I23) -> 1637 | J15: =SUM('Month (GWh)'!J21:J23) -> 0 | ... M15: =SUM('Month (GWh)'!M21:M23) -> -10612
A16: 2001 | B16: Quarter 1 | C16: =SUM('Month (GWh)'!C24:C26) -> 3080 | D16: =SUM('Month (GWh)'!D24:D26) -> 0 | E16: =SUM('Month (GWh)'!E24:E26) -> 2873 | F16: =SUM('Month (GWh)'!F24:F26) -> 0 | G16: =SUM('Month (GWh)'!G24:G26) -> 5953 | H16: =SUM('Month (GWh)'!H24:H26) -> 2332 | I16: =SUM('Month (GWh)'!I24:I26) -> 1522 | J16: =SUM('Month (GWh)'!J24:J26) -> 0 | ... M16: =SUM('Month (GWh)'!M24:M26) -> -8405
A17: 2001 | B17: Quarter 2 | C17: =SUM('Month (GWh)'!C27:C29) -> 0 | D17: =SUM('Month (GWh)'!D27:D29) -> 0 | E17: =SUM('Month (GWh)'!E27:E29) -> 2096 | F17: =SUM('Month (GWh)'!F27:F29) -> 0 | G17: =SUM('Month (GWh)'!G27:G29) -> 2096 | H17: =SUM('Month (GWh)'!H27:H29) -> 26846 | I17: =SUM('Month (GWh)'!I27:I29) -> 1049 | J17: =SUM('Month (GWh)'!J27:J29) -> 0 | ... M17: =SUM('Month (GWh)'!M27:M29) -> -35225
A18: 2001 | B18: Quarter 3 | C18: =SUM('Month (GWh)'!C30:C32) -> 0 | D18: =SUM('Month (GWh)'!D30:D32) -> 0 | E18: =SUM('Month (GWh)'!E30:E32) -> 1420 | F18: =SUM('Month (GWh)'!F30:F32) -> 0 | G18: =SUM('Month (GWh)'!G30:G32) -> 1420 | H18: =SUM('Month (GWh)'!H30:H32) -> 35329 | I18: =SUM('Month (GWh)'!I30:I32) -> 1359 | J18: =SUM('Month (GWh)'!J30:J32) -> 0 | ... M18: =SUM('Month (GWh)'!M30:M32) -> -44366
A19: 2001 | B19: Quarter 4 | C19: =SUM('Month (GWh)'!C33:C35) -> 935 | D19: =SUM('Month (GWh)'!D33:D35) -> 0 | E19: =SUM('Month (GWh)'!E33:E35) -> 6345 | F19: =SUM('Month (GWh)'!F33:F35) -> 0 | G19: =SUM('Month (GWh)'!G33:G35) -> 7280 | H19: =SUM('Month (GWh)'!H33:H35) -> 16339 | I19: =SUM('Month (GWh)'!I33:I35) -> 1710 | J19: =SUM('Month (GWh)'!J33:J35) -> 0 | ... M19: =SUM('Month (GWh)'!M33:M35) -> -19869
A20: 2002 | B20: Quarter 1 | C20: =SUM('Month (GWh)'!C36:C38) -> 5548 | D20: =SUM('Month (GWh)'!D36:D38) -> 0 | E20: =SUM('Month (GWh)'!E36:E38) -> 11939 | F20: =SUM('Month (GWh)'!F36:F38) -> 0 | G20: =SUM('Month (GWh)'!G36:G38) -> 17487 | H20: =SUM('Month (GWh)'!H36:H38) -> 5527 | I20: =SUM('Month (GWh)'!I36:I38) -> 1429 | J20: =SUM('Month (GWh)'!J36:J38) -> 0 | ... M20: =SUM('Month (GWh)'!M36:M38) -> 1330
A21: 2002 | B21: Quarter 2 | C21: =SUM('Month (GWh)'!C39:C41) -> 0 | D21: =SUM('Month (GWh)'!D39:D41) -> 0 | E21: =SUM('Month (GWh)'!E39:E41) -> 4449 | F21: =SUM('Month (GWh)'!F39:F41) -> 0 | G21: =SUM('Month (GWh)'!G39:G41) -> 4449 | H21: =SUM('Month (GWh)'!H39:H41) -> 38565 | I21: =SUM('Month (GWh)'!I39:I41) -> 1363 | J21: =SUM('Month (GWh)'!J39:J41) -> 0 | ... M21: =SUM('Month (GWh)'!M39:M41) -> -45551
A22: 2002 | B22: Quarter 3 | C22: =SUM('Month (GWh)'!C42:C44) -> 775 | D22: =SUM('Month (GWh)'!D42:D44) -> 0 | E22: =SUM('Month (GWh)'!E42:E44) -> 5087 | F22: =SUM('Month (GWh)'!F42:F44) -> 0 | G22: =SUM('Month (GWh)'!G42:G44) -> 5862 | H22: =SUM('Month (GWh)'!H42:H44) -> 23154 | I22: =SUM('Month (GWh)'!I42:I44) -> 1021 | J22: =SUM('Month (GWh)'!J42:J44) -> 0 | ... M22: =SUM('Month (GWh)'!M42:M44) -> -27515
A23: 2002 | B23: Quarter 4 | C23: =SUM('Month (GWh)'!C45:C47) -> 322 | D23: =SUM('Month (GWh)'!D45:D47) -> 0 | E23: =SUM('Month (GWh)'!E45:E47) -> 16408 | F23: =SUM('Month (GWh)'!F45:F47) -> 0 | G23: =SUM('Month (GWh)'!G45:G47) -> 16730 | H23: =SUM('Month (GWh)'!H45:H47) -> 23943 | I23: =SUM('Month (GWh)'!I45:I47) -> 1024 | J23: =SUM('Month (GWh)'!J45:J47) -> 0 | ... M23: =SUM('Month (GWh)'!M45:M47) -> -18502
A24: 2003 | B24: Quarter 1 | C24: =SUM('Month (GWh)'!C48:C50) -> 0 | D24: =SUM('Month (GWh)'!D48:D50) -> 0 | E24: =SUM('Month (GWh)'!E48:E50) -> 19642 | F24: =SUM('Month (GWh)'!F48:F50) -> 0 | G24: =SUM('Month (GWh)'!G48:G50) -> 19642 | H24: =SUM('Month (GWh)'!H48:H50) -> 21610 | I24: =SUM('Month (GWh)'!I48:I50) -> 1023 | J24: =SUM('Month (GWh)'!J48:J50) -> 0 | ... M24: =SUM('Month (GWh)'!M48:M50) -> -14223
A25: 2003 | B25: Quarter 2 | C25: =SUM('Month (GWh)'!C51:C53) -> 0 | D25: =SUM('Month (GWh)'!D51:D53) -> 0 | E25: =SUM('Month (GWh)'!E51:E53) -> 13370 | F25: =SUM('Month (GWh)'!F51:F53) -> 0 | G25: =SUM('Month (GWh)'!G51:G53) -> 13370 | H25: =SUM('Month (GWh)'!H51:H53) -> 52715 | I25: =SUM('Month (GWh)'!I51:I53) -> 721 | J25: =SUM('Month (GWh)'!J51:J53) -> 0 | ... M25: =SUM('Month (GWh)'!M51:M53) -> -50058
A26: 2003 | B26: Quarter 3 | C26: =SUM('Month (GWh)'!C54:C56) -> 0 | D26: =SUM('Month (GWh)'!D54:D56) -> 0 | E26: =SUM('Month (GWh)'!E54:E56) -> 10549 | F26: =SUM('Month (GWh)'!F54:F56) -> 0 | G26: =SUM('Month (GWh)'!G54:G56) -> 10549 | H26: =SUM('Month (GWh)'!H54:H56) -> 40698 | I26: =SUM('Month (GWh)'!I54:I56) -> 875 | J26: =SUM('Month (GWh)'!J54:J56) -> 0 | ... M26: =SUM('Month (GWh)'!M54:M56) -> -40229
A27: 2003 | B27: Quarter 4 | C27: =SUM('Month (GWh)'!C57:C59) -> 4387 | D27: =SUM('Month (GWh)'!D57:D59) -> 0 | E27: =SUM('Month (GWh)'!E57:E59) -> 28194 | F27: =SUM('Month (GWh)'!F57:F59) -> 0 | G27: =SUM('Month (GWh)'!G57:G59) -> 32581 | H27: =SUM('Month (GWh)'!H57:H59) -> 7628 | I27: =SUM('Month (GWh)'!I57:I59) -> 805 | J27: =SUM('Month (GWh)'!J57:J59) -> 0 | ... M27: =SUM('Month (GWh)'!M57:M59) -> 13771
A28: 2004 | B28: Quarter 1 | C28: =SUM('Month (GWh)'!C60:C62) -> 14475 | D28: =SUM('Month (GWh)'!D60:D62) -> 0 | E28: =SUM('Month (GWh)'!E60:E62) -> 30147 | F28: =SUM('Month (GWh)'!F60:F62) -> 0 | G28: =SUM('Month (GWh)'!G60:G62) -> 44622 | H28: =SUM('Month (GWh)'!H60:H62) -> 1045 | I28: =SUM('Month (GWh)'!I60:I62) -> 815 | J28: =SUM('Month (GWh)'!J60:J62) -> 0 | ... M28: =SUM('Month (GWh)'!M60:M62) -> 32844
A29: 2004 | B29: Quarter 2 | C29: =SUM('Month (GWh)'!C63:C65) -> 0 | D29: =SUM('Month (GWh)'!D63:D65) -> 0 | E29: =SUM('Month (GWh)'!E63:E65) -> 15054 | F29: =SUM('Month (GWh)'!F63:F65) -> 0 | G29: =SUM('Month (GWh)'!G63:G65) -> 15054 | H29: =SUM('Month (GWh)'!H63:H65) -> 33681 | I29: =SUM('Month (GWh)'!I63:I65) -> 784 | J29: =SUM('Month (GWh)'!J63:J65) -> 0 | ... M29: =SUM('Month (GWh)'!M63:M65) -> -29016
A30: 2004 | B30: Quarter 3 | C30: =SUM('Month (GWh)'!C66:C68) -> 224 | D30: =SUM('Month (GWh)'!D66:D68) -> 0 | E30: =SUM('Month (GWh)'!E66:E68) -> 15991 | F30: =SUM('Month (GWh)'!F66:F68) -> 0 | G30: =SUM('Month (GWh)'!G66:G68) -> 16215 | H30: =SUM('Month (GWh)'!H66:H68) -> 25334 | I30: =SUM('Month (GWh)'!I66:I68) -> 618 | J30: =SUM('Month (GWh)'!J66:J68) -> 0 | ... M30: =SUM('Month (GWh)'!M66:M68) -> -18894
A31: 2004 | B31: Quarter 4 | C31: =SUM('Month (GWh)'!C69:C71) -> 10893 | D31: =SUM('Month (GWh)'!D69:D71) -> 0 | E31: =SUM('Month (GWh)'!E69:E71) -> 34171 | F31: =SUM('Month (GWh)'!F69:F71) -> 0 | G31: =SUM('Month (GWh)'!G69:G71) -> 45064 | H31: =SUM('Month (GWh)'!H69:H71) -> 0 | I31: =SUM('Month (GWh)'!I69:I71) -> 670 | J31: =SUM('Month (GWh)'!J69:J71) -> 0 | ... M31: =SUM('Month (GWh)'!M69:M71) -> 33990
A32: 2005 | B32: Quarter 1 | C32: =SUM('Month (GWh)'!C72:C74) -> 9924 | D32: =SUM('Month (GWh)'!D72:D74) -> 0 | E32: =SUM('Month (GWh)'!E72:E74) -> 38222 | F32: =SUM('Month (GWh)'!F72:F74) -> 0 | G32: =SUM('Month (GWh)'!G72:G74) -> 48146 | H32: =SUM('Month (GWh)'!H72:H74) -> 1919 | I32: =SUM('Month (GWh)'!I72:I74) -> 878 | J32: =SUM('Month (GWh)'!J72:J74) -> 0 | ... M32: =SUM('Month (GWh)'!M72:M74) -> 35871
A33: 2005 | B33: Quarter 2 | C33: =SUM('Month (GWh)'!C75:C77) -> 0 | D33: =SUM('Month (GWh)'!D75:D77) -> 0 | E33: =SUM('Month (GWh)'!E75:E77) -> 24566 | F33: =SUM('Month (GWh)'!F75:F77) -> 0 | G33: =SUM('Month (GWh)'!G75:G77) -> 24566 | H33: =SUM('Month (GWh)'!H75:H77) -> 19880 | I33: =SUM('Month (GWh)'!I75:I77) -> 1240 | J33: =SUM('Month (GWh)'!J75:J77) -> 0 | ... M33: =SUM('Month (GWh)'!M75:M77) -> -6564
A34: 2005 | B34: Quarter 3 | C34: =SUM('Month (GWh)'!C78:C80) -> 1271 | D34: =SUM('Month (GWh)'!D78:D80) -> 0 | E34: =SUM('Month (GWh)'!E78:E80) -> 29573 | F34: =SUM('Month (GWh)'!F78:F80) -> 1224 | G34: =SUM('Month (GWh)'!G78:G80) -> 32068 | H34: =SUM('Month (GWh)'!H78:H80) -> 12278 | I34: =SUM('Month (GWh)'!I78:I80) -> 951 | J34: =SUM('Month (GWh)'!J78:J80) -> 0 | ... M34: =SUM('Month (GWh)'!M78:M80) -> 9268
A35: 2005 | B35: Quarter 4 | C35: =SUM('Month (GWh)'!C81:C83) -> 12913 | D35: =SUM('Month (GWh)'!D81:D83) -> 0 | E35: =SUM('Month (GWh)'!E81:E83) -> 35533 | F35: =SUM('Month (GWh)'!F81:F83) -> 4229 | G35: =SUM('Month (GWh)'!G81:G83) -> 52675 | H35: =SUM('Month (GWh)'!H81:H83) -> 2563 | I35: =SUM('Month (GWh)'!I81:I83) -> 1192 | J35: =SUM('Month (GWh)'!J81:J83) -> 0 | ... M35: =SUM('Month (GWh)'!M81:M83) -> 38572
A36: 2006 | B36: Quarter 1 | C36: =SUM('Month (GWh)'!C84:C86) -> 26660 | D36: =SUM('Month (GWh)'!D84:D86) -> 0 | E36: =SUM('Month (GWh)'!E84:E86) -> 34476 | F36: =SUM('Month (GWh)'!F84:F86) -> 10845 | G36: =SUM('Month (GWh)'!G84:G86) -> 71981 | H36: =SUM('Month (GWh)'!H84:H86) -> 0 | I36: =SUM('Month (GWh)'!I84:I86) -> 1093 | J36: =SUM('Month (GWh)'!J84:J86) -> 0 | ... M36: =SUM('Month (GWh)'!M84:M86) -> 59823
A37: 2006 | B37: Quarter 2 | C37: =SUM('Month (GWh)'!C87:C89) -> 998 | D37: =SUM('Month (GWh)'!D87:D89) -> 0 | E37: =SUM('Month (GWh)'!E87:E89) -> 24929 | F37: =SUM('Month (GWh)'!F87:F89) -> 7424 | G37: =SUM('Month (GWh)'!G87:G89) -> 33351 | H37: =SUM('Month (GWh)'!H87:H89) -> 20487 | I37: =SUM('Month (GWh)'!I87:I89) -> 845 | J37: =SUM('Month (GWh)'!J87:J89) -> 0 | ... M37: =SUM('Month (GWh)'!M87:M89) -> -471
A38: 2006 | B38: Quarter 3 | C38: =SUM('Month (GWh)'!C90:C92) -> 771 | D38: =SUM('Month (GWh)'!D90:D92) -> 0 | E38: =SUM('Month (GWh)'!E90:E92) -> 30569 | F38: =SUM('Month (GWh)'!F90:F92) -> 7048 | G38: =SUM('Month (GWh)'!G90:G92) -> 38388 | H38: =SUM('Month (GWh)'!H90:H92) -> 28252 | I38: =SUM('Month (GWh)'!I90:I92) -> 524 | J38: =SUM('Month (GWh)'!J90:J92) -> 0 | ... M38: =SUM('Month (GWh)'!M90:M92) -> -1855
A39: 2006 | B39: Quarter 4 | C39: =SUM('Month (GWh)'!C93:C95) -> 2076 | D39: =SUM('Month (GWh)'!D93:D95) -> 9135 | E39: =SUM('Month (GWh)'!E93:E95) -> 67062 | F39: =SUM('Month (GWh)'!F93:F95) -> 12259 | G39: =SUM('Month (GWh)'!G93:G95) -> 90532 | H39: =SUM('Month (GWh)'!H93:H95) -> 11455 | I39: =SUM('Month (GWh)'!I93:I95) -> 909 | J39: =SUM('Month (GWh)'!J93:J95) -> 0 | ... M39: =SUM('Month (GWh)'!M93:M95) -> 65943
A40: 2007 | B40: Quarter 1 | C40: =SUM('Month (GWh)'!C96:C98) -> 3480 | D40: =SUM('Month (GWh)'!D96:D98) -> 23417.015 | E40: =SUM('Month (GWh)'!E96:E98) -> 76742.855 | F40: =SUM('Month (GWh)'!F96:F98) -> 8144.2328 | G40: =SUM('Month (GWh)'!G96:G98) -> 111784.1 | H40: =SUM('Month (GWh)'!H96:H98) -> 6136 | I40: =SUM('Month (GWh)'!I96:I98) -> 848.34767 | J40: =SUM('Month (GWh)'!J96:J98) -> 0 | ... M40: =SUM('Month (GWh)'!M96:M98) -> 91172.456
A41: 2007 | B41: Quarter 2 | C41: =SUM('Month (GWh)'!C99:C101) -> 477 | D41: =SUM('Month (GWh)'!D99:D101) -> 14927.26 | E41: =SUM('Month (GWh)'!E99:E101) -> 45203.177 | F41: =SUM('Month (GWh)'!F99:F101) -> 765.93954 | G41: =SUM('Month (GWh)'!G99:G101) -> 61373.376 | H41: =SUM('Month (GWh)'!H99:H101) -> 24168 | I41: =SUM('Month (GWh)'!I99:I101) -> 1002.103 | J41: =SUM('Month (GWh)'!J99:J101) -> 0 | ... M41: =SUM('Month (GWh)'!M99:M101) -> 24887.815
A42: 2007 | B42: Quarter 3 | C42: =SUM('Month (GWh)'!C102:C104) -> 68 | D42: =SUM('Month (GWh)'!D102:D104) -> 10811.303 | E42: =SUM('Month (GWh)'!E102:E104) -> 37100.887 | F42: =SUM('Month (GWh)'!F102:F104) -> 796.61485 | G42: =SUM('Month (GWh)'!G102:G104) -> 48776.806 | H42: =SUM('Month (GWh)'!H102:H104) -> 13039 | I42: =SUM('Month (GWh)'!I102:I104) -> 1754.5643 | J42: =SUM('Month (GWh)'!J102:J104) -> 24.200211 | ... M42: =SUM('Month (GWh)'!M102:M104) -> 21626.759
A43: 2007 | B43: Quarter 4 | C43: =SUM('Month (GWh)'!C105:C107) -> 2446.1621 | D43: =SUM('Month (GWh)'!D105:D107) -> 27446.845 | E43: =SUM('Month (GWh)'!E105:E107) -> 66717.083 | F43: =SUM('Month (GWh)'!F105:F107) -> 5196.3664 | G43: =SUM('Month (GWh)'!G105:G107) -> 101806.46 | H43: =SUM('Month (GWh)'!H105:H107) -> 8046.8683 | I43: =SUM('Month (GWh)'!I105:I107) -> 2752.5562 | J43: =SUM('Month (GWh)'!J105:J107) -> 128.33972 | ... M43: =SUM('Month (GWh)'!M105:M107) -> 77181.903
A44: 2008 | B44: Quarter 1 | C44: =SUM('Month (GWh)'!C108:C110) -> 8528.9517 | D44: =SUM('Month (GWh)'!D108:D110) -> 33762.929 | E44: =SUM('Month (GWh)'!E108:E110) -> 82485.71 | F44: =SUM('Month (GWh)'!F108:F110) -> 2094.1461 | G44: =SUM('Month (GWh)'!G108:G110) -> 126871.74 | H44: =SUM('Month (GWh)'!H108:H110) -> 719.61194 | I44: =SUM('Month (GWh)'!I108:I110) -> 2428.8596 | J44: =SUM('Month (GWh)'!J108:J110) -> 114.00968 | ... M44: =SUM('Month (GWh)'!M108:M110) -> 109218.57
A45: 2008 | B45: Quarter 2 | C45: =SUM('Month (GWh)'!C111:C113) -> 3292.5514 | D45: =SUM('Month (GWh)'!D111:D113) -> 20789.107 | E45: =SUM('Month (GWh)'!E111:E113) -> 52574.585 | F45: =SUM('Month (GWh)'!F111:F113) -> 961.205 | G45: =SUM('Month (GWh)'!G111:G113) -> 77617.449 | H45: =SUM('Month (GWh)'!H111:H113) -> 11075.859 | I45: =SUM('Month (GWh)'!I111:I113) -> 3274.9157 | J45: =SUM('Month (GWh)'!J111:J113) -> 82.196639 | ... M45: =SUM('Month (GWh)'!M111:M113) -> 50037.623
A46: 2008 | B46: Quarter 3 | C46: =SUM('Month (GWh)'!C114:C116) -> 8.860278 | D46: =SUM('Month (GWh)'!D114:D116) -> 14235.839 | E46: =SUM('Month (GWh)'!E114:E116) -> 52865.983 | F46: =SUM('Month (GWh)'!F114:F116) -> 796.58124 | G46: =SUM('Month (GWh)'!G114:G116) -> 67907.263 | H46: =SUM('Month (GWh)'!H114:H116) -> 16445.737 | I46: =SUM('Month (GWh)'!I114:I116) -> 2148.5926 | J46: =SUM('Month (GWh)'!J114:J116) -> 107.57579 | ... M46: =SUM('Month (GWh)'!M114:M116) -> 36734.985
A47: 2008 | B47: Quarter 4 | C47: =SUM('Month (GWh)'!C117:C119) -> 343.76361 | D47: =SUM('Month (GWh)'!D117:D119) -> 21775.208 | E47: =SUM('Month (GWh)'!E117:E119) -> 95795.389 | F47: =SUM('Month (GWh)'!F117:F119) -> 5193.5403 | G47: =SUM('Month (GWh)'!G117:G119) -> 123107.9 | H47: =SUM('Month (GWh)'!H117:H119) -> 17708.169 | I47: =SUM('Month (GWh)'!I117:I119) -> 2536.3294 | J47: =SUM('Month (GWh)'!J117:J119) -> 85.310158 | ... M47: =SUM('Month (GWh)'!M117:M119) -> 88525.858
A48: 2009 | B48: Quarter 1 | C48: =SUM('Month (GWh)'!C120:C122) -> 1464.2683 | D48: =SUM('Month (GWh)'!D120:D122) -> 25423.365 | E48: =SUM('Month (GWh)'!E120:E122) -> 98996.367 | F48: =SUM('Month (GWh)'!F120:F122) -> 13422.795 | G48: =SUM('Month (GWh)'!G120:G122) -> 139306.8 | H48: =SUM('Month (GWh)'!H120:H122) -> 15334.419 | I48: =SUM('Month (GWh)'!I120:I122) -> 3527.4027 | J48: =SUM('Month (GWh)'!J120:J122) -> 84.235316 | ... M48: =SUM('Month (GWh)'!M120:M122) -> 106127.69
A49: 2009 | B49: Quarter 2 | C49: =SUM('Month (GWh)'!C123:C125) -> 0 | D49: =SUM('Month (GWh)'!D123:D125) -> 13979.235 | E49: =SUM('Month (GWh)'!E123:E125) -> 48981.635 | F49: =SUM('Month (GWh)'!F123:F125) -> 19025.24 | G49: =SUM('Month (GWh)'!G123:G125) -> 81986.111 | H49: =SUM('Month (GWh)'!H123:H125) -> 26229.379 | I49: =SUM('Month (GWh)'!I123:I125) -> 4033.1327 | J49: =SUM('Month (GWh)'!J123:J125) -> 65.121322 | ... M49: =SUM('Month (GWh)'!M123:M125) -> 38002.859
A50: 2009 | B50: Quarter 3 | C50: =SUM('Month (GWh)'!C126:C128) -> 58.981944 | D50: =SUM('Month (GWh)'!D126:D128) -> 7277.3408 | E50: =SUM('Month (GWh)'!E126:E128) -> 40468.07 | F50: =SUM('Month (GWh)'!F126:F128) -> 30321.505 | G50: =SUM('Month (GWh)'!G126:G128) -> 78125.898 | H50: =SUM('Month (GWh)'!H126:H128) -> 12444.044 | I50: =SUM('Month (GWh)'!I126:I128) -> 2040.9593 | J50: =SUM('Month (GWh)'!J126:J128) -> 62.892285 | ... M50: =SUM('Month (GWh)'!M126:M128) -> 51619.642
A51: 2009 | B51: Quarter 4 | C51: =SUM('Month (GWh)'!C129:C131) -> 6421.9789 | D51: =SUM('Month (GWh)'!D129:D131) -> 22848.626 | E51: =SUM('Month (GWh)'!E129:E131) -> 71991.435 | F51: =SUM('Month (GWh)'!F129:F131) -> 49467.999 | G51: =SUM('Month (GWh)'!G129:G131) -> 150730.04 | H51: =SUM('Month (GWh)'!H129:H131) -> 8076.3225 | I51: =SUM('Month (GWh)'!I129:I131) -> 3492.6222 | J51: =SUM('Month (GWh)'!J129:J131) -> 55.670204 | ... M51: =SUM('Month (GWh)'!M129:M131) -> 124595.31
A52: 2010 | B52: Quarter 1 | C52: =SUM('Month (GWh)'!C132:C134) -> 5759.0236 | D52: =SUM('Month (GWh)'!D132:D134) -> 30035.426 | E52: =SUM('Month (GWh)'!E132:E134) -> 94337.489 | F52: =SUM('Month (GWh)'!F132:F134) -> 48753.688 | G52: =SUM('Month (GWh)'!G132:G134) -> 178885.63 | H52: =SUM('Month (GWh)'!H132:H134) -> 4121.8156 | I52: =SUM('Month (GWh)'!I132:I134) -> 4436.6828 | J52: =SUM('Month (GWh)'!J132:J134) -> 42.64 | ... M52: =SUM('Month (GWh)'!M132:M134) -> 156173.79
A53: 2010 | B53: Quarter 2 | C53: =SUM('Month (GWh)'!C135:C137) -> 0 | D53: =SUM('Month (GWh)'!D135:D137) -> 17958.503 | E53: =SUM('Month (GWh)'!E135:E137) -> 61257.502 | F53: =SUM('Month (GWh)'!F135:F137) -> 49206.12 | G53: =SUM('Month (GWh)'!G135:G137) -> 128422.12 | H53: =SUM('Month (GWh)'!H135:H137) -> 38726.626 | I53: =SUM('Month (GWh)'!I135:I137) -> 4688.0462 | J53: =SUM('Month (GWh)'!J135:J137) -> 30.030222 | ... M53: =SUM('Month (GWh)'!M135:M137) -> 71346.815
A54: 2010 | B54: Quarter 3 | C54: =SUM('Month (GWh)'!C138:C140) -> 0 | D54: =SUM('Month (GWh)'!D138:D140) -> 13713.26 | E54: =SUM('Month (GWh)'!E138:E140) -> 33106.446 | F54: =SUM('Month (GWh)'!F138:F140) -> 44496.082 | G54: =SUM('Month (GWh)'!G138:G140) -> 91315.788 | H54: =SUM('Month (GWh)'!H138:H140) -> 32841.224 | I54: =SUM('Month (GWh)'!I138:I140) -> 2423.7611 | J54: =SUM('Month (GWh)'!J138:J140) -> 38.075333 | ... M54: =SUM('Month (GWh)'!M138:M140) -> 42427.942
A55: 2010 | B55: Quarter 4 | C55: =SUM('Month (GWh)'!C141:C143) -> 7809.1767 | D55: =SUM('Month (GWh)'!D141:D143) -> 25412.769 | E55: =SUM('Month (GWh)'!E141:E143) -> 88105.218 | F55: =SUM('Month (GWh)'!F141:F143) -> 64390.101 | G55: =SUM('Month (GWh)'!G141:G143) -> 185717.26 | H55: =SUM('Month (GWh)'!H141:H143) -> 20242.676 | I55: =SUM('Month (GWh)'!I141:I143) -> 4281.934 | J55: =SUM('Month (GWh)'!J141:J143) -> 46.776444 | ... M55: =SUM('Month (GWh)'!M141:M143) -> 146206.26
A56: 2011 | B56: Quarter 1 | C56: =SUM('Month (GWh)'!C144:C146) -> 3967.528 | D56: =SUM('Month (GWh)'!D144:D146) -> 18378.691 | E56: =SUM('Month (GWh)'!E144:E146) -> 76877.058 | F56: =SUM('Month (GWh)'!F144:F146) -> 79545.139 | G56: =SUM('Month (GWh)'!G144:G146) -> 178768.42 | H56: =SUM('Month (GWh)'!H144:H146) -> 2402.2106 | I56: =SUM('Month (GWh)'!I144:I146) -> 5058.8712 | J56: =SUM('Month (GWh)'!J144:J146) -> 44.088667 | ... M56: =SUM('Month (GWh)'!M144:M146) -> 157320.3
A57: 2011 | B57: Quarter 2 | C57: =SUM('Month (GWh)'!C147:C149) -> 0 | D57: =SUM('Month (GWh)'!D147:D149) -> 15087.974 | E57: =SUM('Month (GWh)'!E147:E149) -> 30745.827 | F57: =SUM('Month (GWh)'!F147:F149) -> 82736.406 | G57: =SUM('Month (GWh)'!G147:G149) -> 128570.21 | H57: =SUM('Month (GWh)'!H147:H149) -> 35474.912 | I57: =SUM('Month (GWh)'!I147:I149) -> 4325.8336 | J57: =SUM('Month (GWh)'!J147:J149) -> 30.467556 | ... M57: =SUM('Month (GWh)'!M147:M149) -> 75394.521
A58: 2011 | B58: Quarter 3 | C58: =SUM('Month (GWh)'!C150:C152) -> 0 | D58: =SUM('Month (GWh)'!D150:D152) -> 13610.636 | E58: =SUM('Month (GWh)'!E150:E152) -> 47771.931 | F58: =SUM('Month (GWh)'!F150:F152) -> 60813.756 | G58: =SUM('Month (GWh)'!G150:G152) -> 122196.32 | H58: =SUM('Month (GWh)'!H150:H152) -> 33033.056 | I58: =SUM('Month (GWh)'!I150:I152) -> 3685.9305 | J58: =SUM('Month (GWh)'!J150:J152) -> 24.481556 | ... M58: =SUM('Month (GWh)'!M150:M152) -> 70599.584
A59: 2011 | B59: Quarter 4 | C59: =SUM('Month (GWh)'!C153:C155) -> 64.06806 | D59: =SUM('Month (GWh)'!D153:D155) -> 21923.793 | E59: =SUM('Month (GWh)'!E153:E155) -> 78798.842 | F59: =SUM('Month (GWh)'!F153:F155) -> 51698.934 | G59: =SUM('Month (GWh)'!G153:G155) -> 152485.64 | H59: =SUM('Month (GWh)'!H153:H155) -> 30616.076 | I59: =SUM('Month (GWh)'!I153:I155) -> 4473.0459 | J59: =SUM('Month (GWh)'!J153:J155) -> 21.001111 | ... M59: =SUM('Month (GWh)'!M153:M155) -> 101474.72
A60: 2012 | B60: Quarter 1 | C60: =SUM('Month (GWh)'!C156:C158) -> 340.90501 | D60: =SUM('Month (GWh)'!D156:D158) -> 26970.112 | E60: =SUM('Month (GWh)'!E156:E158) -> 96749.465 | F60: =SUM('Month (GWh)'!F156:F158) -> 39224.448 | G60: =SUM('Month (GWh)'!G156:G158) -> 163284.93 | H60: =SUM('Month (GWh)'!H156:H158) -> 9920.1603 | I60: =SUM('Month (GWh)'!I156:I158) -> 6409.2106 | J60: =SUM('Month (GWh)'!J156:J158) -> 19.771111 | ... M60: =SUM('Month (GWh)'!M156:M158) -> 133237.16
A61: 2012 | B61: Quarter 2 | C61: =SUM('Month (GWh)'!C159:C161) -> 121.52779 | D61: =SUM('Month (GWh)'!D159:D161) -> 17604.461 | E61: =SUM('Month (GWh)'!E159:E161) -> 53746.947 | F61: =SUM('Month (GWh)'!F159:F161) -> 48076.309 | G61: =SUM('Month (GWh)'!G159:G161) -> 119549.25 | H61: =SUM('Month (GWh)'!H159:H161) -> 15399.824 | I61: =SUM('Month (GWh)'!I159:I161) -> 6680.276 | J61: =SUM('Month (GWh)'!J159:J161) -> 14.240667 | ... M61: =SUM('Month (GWh)'!M159:M161) -> 82235.094
A62: 2012 | B62: Quarter 3 | C62: =SUM('Month (GWh)'!C162:C164) -> 66 | D62: =SUM('Month (GWh)'!D162:D164) -> 10317.383 | E62: =SUM('Month (GWh)'!E162:E164) -> 47325.968 | F62: =SUM('Month (GWh)'!F162:F164) -> 35223.421 | G62: =SUM('Month (GWh)'!G162:G164) -> 92932.772 | H62: =SUM('Month (GWh)'!H162:H164) -> 24101.736 | I62: =SUM('Month (GWh)'!I162:I164) -> 5008.0685 | J62: =SUM('Month (GWh)'!J162:J164) -> 8.446 | ... M62: =SUM('Month (GWh)'!M162:M164) -> 48797.596
A63: 2012 | B63: Quarter 4 | C63: =SUM('Month (GWh)'!C165:C167) -> 13735.187 | D63: =SUM('Month (GWh)'!D165:D167) -> 23366.504 | E63: =SUM('Month (GWh)'!E165:E167) -> 96763.434 | F63: =SUM('Month (GWh)'!F165:F167) -> 27573.497 | G63: =SUM('Month (GWh)'!G165:G167) -> 161438.62 | H63: =SUM('Month (GWh)'!H165:H167) -> 921.40333 | I63: =SUM('Month (GWh)'!I165:I167) -> 5630.9796 | J63: =SUM('Month (GWh)'!J165:J167) -> 6.8606667 | ... M63: =SUM('Month (GWh)'!M165:M167) -> 141225.1
A64: 2013 | B64: Quarter 1 | C64: =SUM('Month (GWh)'!C168:C170) -> 27914.942 | D64: =SUM('Month (GWh)'!D168:D170) -> 30713.401 | E64: =SUM('Month (GWh)'!E168:E170) -> 104824.23 | F64: =SUM('Month (GWh)'!F168:F170) -> 16226.151 | G64: =SUM('Month (GWh)'!G168:G170) -> 179678.72 | H64: =SUM('Month (GWh)'!H168:H170) -> 356.24667 | I64: =SUM('Month (GWh)'!I168:I170) -> 5265.5985 | J64: =SUM('Month (GWh)'!J168:J170) -> 4.6193333 | ... M64: =SUM('Month (GWh)'!M168:M170) -> 160279.37
A65: 2013 | B65: Quarter 2 | C65: =SUM('Month (GWh)'!C171:C173) -> 1578.6164 | D65: =SUM('Month (GWh)'!D171:D173) -> 15902.137 | E65: =SUM('Month (GWh)'!E171:E173) -> 65969.694 | F65: =SUM('Month (GWh)'!F171:F173) -> 44195.739 | G65: =SUM('Month (GWh)'!G171:G173) -> 127646.19 | H65: =SUM('Month (GWh)'!H171:H173) -> 14314.584 | I65: =SUM('Month (GWh)'!I171:I173) -> 4234.9404 | J65: =SUM('Month (GWh)'!J171:J173) -> 1.2026667 | ... M65: =SUM('Month (GWh)'!M171:M173) -> 94644.435
A66: 2013 | B66: Quarter 3 | C66: =SUM('Month (GWh)'!C174:C176) -> 275.39222 | D66: =SUM('Month (GWh)'!D174:D176) -> 10513.352 | E66: =SUM('Month (GWh)'!E174:E176) -> 45843.642 | F66: =SUM('Month (GWh)'!F174:F176) -> 19427.601 | G66: =SUM('Month (GWh)'!G174:G176) -> 76059.986 | H66: =SUM('Month (GWh)'!H174:H176) -> 10915.265 | I66: =SUM('Month (GWh)'!I174:I176) -> 4927.0276 | J66: =SUM('Month (GWh)'!J174:J176) -> 1.0022222 | ... M66: =SUM('Month (GWh)'!M174:M176) -> 47439.59
A67: 2013 | B67: Quarter 4 | C67: =SUM('Month (GWh)'!C177:C179) -> 5597.8986 | D67: =SUM('Month (GWh)'!D177:D179) -> 24390.531 | E67: =SUM('Month (GWh)'!E177:E179) -> 88878.225 | F67: =SUM('Month (GWh)'!F177:F179) -> 22770.848 | G67: =SUM('Month (GWh)'!G177:G179) -> 141637.5 | H67: =SUM('Month (GWh)'!H177:H179) -> 1871.7275 | I67: =SUM('Month (GWh)'!I177:I179) -> 4169.4781 | J67: =SUM('Month (GWh)'!J177:J179) -> 12.728222 | ... M67: =SUM('Month (GWh)'!M177:M179) -> 123077
A68: 2014 | B68: Quarter 1 | C68: =SUM('Month (GWh)'!C180:C182) -> 3218.4578 | D68: =SUM('Month (GWh)'!D180:D182) -> 29789.778 | E68: =SUM('Month (GWh)'!E180:E182) -> 93679.816 | F68: =SUM('Month (GWh)'!F180:F182) -> 12911.182 | G68: =SUM('Month (GWh)'!G180:G182) -> 139599.23 | H68: =SUM('Month (GWh)'!H180:H182) -> 585.50694 | I68: =SUM('Month (GWh)'!I180:I182) -> 5792.5444 | J68: =SUM('Month (GWh)'!J180:J182) -> 4.9564444 | ... M68: =SUM('Month (GWh)'!M180:M182) -> 120350.33
A69: 2014 | B69: Quarter 2 | C69: =SUM('Month (GWh)'!C183:C185) -> 0 | D69: =SUM('Month (GWh)'!D183:D185) -> 14671.096 | E69: =SUM('Month (GWh)'!E183:E185) -> 42970.9 | F69: =SUM('Month (GWh)'!F183:F185) -> 43973.471 | G69: =SUM('Month (GWh)'!G183:G185) -> 101615.47 | H69: =SUM('Month (GWh)'!H183:H185) -> 19107.991 | I69: =SUM('Month (GWh)'!I183:I185) -> 5514.9393 | J69: =SUM('Month (GWh)'!J183:J185) -> 2.0591111 | ... M69: =SUM('Month (GWh)'!M183:M185) -> 64015.524
A70: 2014 | B70: Quarter 3 | C70: =SUM('Month (GWh)'!C186:C188) -> 0 | D70: =SUM('Month (GWh)'!D186:D188) -> 9130.2613 | E70: =SUM('Month (GWh)'!E186:E188) -> 37743.793 | F70: =SUM('Month (GWh)'!F186:F188) -> 40150.916 | G70: =SUM('Month (GWh)'!G186:G188) -> 87024.97 | H70: =SUM('Month (GWh)'!H186:H188) -> 21743.883 | I70: =SUM('Month (GWh)'!I186:I188) -> 3760.6307 | J70: =SUM('Month (GWh)'!J186:J188) -> 1.8768889 | ... M70: =SUM('Month (GWh)'!M186:M188) -> 49302.737
A71: 2014 | B71: Quarter 4 | C71: =SUM('Month (GWh)'!C189:C191) -> 730.11833 | D71: =SUM('Month (GWh)'!D189:D191) -> 16701.479 | E71: =SUM('Month (GWh)'!E189:E191) -> 92647.439 | F71: =SUM('Month (GWh)'!F189:F191) -> 26876.819 | G71: =SUM('Month (GWh)'!G189:G191) -> 136955.85 | H71: =SUM('Month (GWh)'!H189:H191) -> 6636.3831 | I71: =SUM('Month (GWh)'!I189:I191) -> 3783.5856 | J71: =SUM('Month (GWh)'!J189:J191) -> 0 | ... M71: =SUM('Month (GWh)'!M189:M191) -> 115588.44
A72: 2015 | B72: Quarter 1 | C72: =SUM('Month (GWh)'!C192:C194) -> 2114.2 | D72: =SUM('Month (GWh)'!D192:D194) -> 22596.413 | E72: =SUM('Month (GWh)'!E192:E194) -> 94314.499 | F72: =SUM('Month (GWh)'!F192:F194) -> 34556.016 | G72: =SUM('Month (GWh)'!G192:G194) -> 153581.13 | H72: =SUM('Month (GWh)'!H192:H194) -> 5894.3014 | I72: =SUM('Month (GWh)'!I192:I194) -> 6188.9686 | J72: =SUM('Month (GWh)'!J192:J194) -> 1.1388889 | ... M72: =SUM('Month (GWh)'!M192:M194) -> 128584.2
A73: 2015 | B73: Quarter 2 | C73: =SUM('Month (GWh)'!C195:C197) -> 2.001944 | D73: =SUM('Month (GWh)'!D195:D197) -> 3296.123 | E73: =SUM('Month (GWh)'!E195:E197) -> 52211.179 | F73: =SUM('Month (GWh)'!F195:F197) -> 35517.533 | G73: =SUM('Month (GWh)'!G195:G197) -> 91026.836 | H73: =SUM('Month (GWh)'!H195:H197) -> 20436.777 | I73: =SUM('Month (GWh)'!I195:I197) -> 4820.988 | J73: =SUM('Month (GWh)'!J195:J197) -> 0.63777778 | ... M73: =SUM('Month (GWh)'!M195:M197) -> 53041.244
A74: 2015 | B74: Quarter 3 | C74: =SUM('Month (GWh)'!C198:C200) -> 0 | D74: =SUM('Month (GWh)'!D198:D200) -> 264.41633 | E74: =SUM('Month (GWh)'!E198:E200) -> 62721.185 | F74: =SUM('Month (GWh)'!F198:F200) -> 38302.594 | G74: =SUM('Month (GWh)'!G198:G200) -> 101288.2 | H74: =SUM('Month (GWh)'!H198:H200) -> 34252.044 | I74: =SUM('Month (GWh)'!I198:I200) -> 4995.1191 | J74: =SUM('Month (GWh)'!J198:J200) -> 1.1024444 | ... M74: =SUM('Month (GWh)'!M198:M200) -> 49748.904
A75: 2015 | B75: Quarter 4 | C75: =SUM('Month (GWh)'!C201:C203) -> 0 | D75: =SUM('Month (GWh)'!D201:D203) -> 9775.9105 | E75: =SUM('Month (GWh)'!E201:E203) -> 89525.923 | F75: =SUM('Month (GWh)'!F201:F203) -> 40988.02 | G75: =SUM('Month (GWh)'!G201:G203) -> 140289.85 | H75: =SUM('Month (GWh)'!H201:H203) -> 23881.948 | I75: =SUM('Month (GWh)'!I201:I203) -> 4784.1737 | J75: =SUM('Month (GWh)'!J201:J203) -> 0.44644444 | ... M75: =SUM('Month (GWh)'!M201:M203) -> 99433.269
A78: Return to contents page

Sheet Month (GWh)
A1: GAS | B1: Natural gas production and supply
A2: TABLE 4.3 Natural gas imports and exports | M2: GWh
E6: Imports | J6: Exports
C7: From | D7: From the | E7: From | F7: Liquefied | G7: Total | H7: To | I7: To the | J7: To | K7: To the | L7: Total | M7: Net
C8: Belgium | D8: Netherlands | E8: Norway | F8: Natural Gas | G8: Imports | H8: Belgium | I8: Netherlands | J8: Norway | K8: Republic of | L8: Exports | M8: Imports
K9: Ireland
A11: YEAR | B11: MONTH
A12: 2000 | B12: January | C12: 0 | D12: 0 | E12: 1040 | F12: 0 | G12: 1040 | H12: 5884 | I12: 974 | J12: 0 | K12: 3051 | L12: 9909 | M12: -8869
A13: 2000 | B13: February | C13: 0 | D13: 0 | E13: 971 | F13: 0 | G13: 971 | H13: 7111 | I13: 846 | J13: 0 | K13: 2841 | L13: 10798 | M13: -9827
A14: 2000 | B14: March | C14: 0 | D14: 0 | E14: 1063 | F14: 0 | G14: 1063 | H14: 8219 | I14: 908 | J14: 0 | K14: 2843 | L14: 11970 | M14: -10907
A15: 2000 | B15: April | C15: 0 | D15: 0 | E15: 975 | F15: 0 | G15: 975 | H15: 11783 | I15: 814 | J15: 0 | K15: 2778 | L15: 15375 | M15: -14400
A16: 2000 | B16: May | C16: 0 | D16: 0 | E16: 859 | F16: 0 | G16: 859 | H16: 12055 | I16: 689 | J16: 0 | K16: 2514 | L16: 15258 | M16: -14399
A17: 2000 | B17: June | C17: 0 | D17: 0 | E17: 595 | F17: 0 | G17: 595 | H17: 10563 | I17: 651 | J17: 0 | K17: 2876 | L17: 14090 | M17: -13495
A18: 2000 | B18: July | C18: 0 | D18: 0 | E18: 549 | F18: 0 | G18: 549 | H18: 8706 | I18: 342 | J18: 0 | K18: 2382 | L18: 11430 | M18: -10881
A19: 2000 | B19: August | C19: 0 | D19: 0 | E19: 920 | F19: 0 | G19: 920 | H19: 12397 | I19: 446 | J19: 0 | K19: 2108 | L19: 14951 | M19: -14031
A20: 2000 | B20: September | C20: 0 | D20: 0 | E20: 993 | F20: 0 | G20: 993 | H20: 11294 | I20: 416 | J20: 0 | K20: 2173 | L20: 13883 | M20: -12890
A21: 2000 | B21: October | C21: 0 | D21: 0 | E21: 1105 | F21: 0 | G21: 1105 | H21: 4459 | I21: 468 | J21: 0 | K21: 2481 | L21: 7408 | M21: -6303
A22: 2000 | B22: November | C22: 351 | D22: 0 | E22: 1087 | F22: 0 | G22: 1438 | H22: 2103 | I22: 635 | J22: 0 | K22: 2888 | L22: 5626 | M22: -4188
A23: 2000 | B23: December | C23: 2604 | D23: 0 | E23: 1122 | F23: 0 | G23: 3726 | H23: 0 | I23: 534 | J23: 0 | K23: 3313 | L23: 3847 | M23: -121
... A78: 2005 | B78: July | C78: 39 | D78: 0 | E78: 5138 | F78: 0 | G78: 5177 | H78: 2788 | I78: 419 | J78: 0 | K78: 2281 | L78: 5488 | M78: -311
A79: 2005 | B79: August | C79: 1232 | D79: 0 | E79: 12817 | F79: 875 | G79: 14924 | H79: 889 | I79: 351 | J79: 0 | K79: 3655 | L79: 4895 | M79: =G79-L79 -> 10029
A80: 2005 | B80: September | C80: 0 | D80: 0 | E80: 11618 | F80: 349 | G80: 11967 | H80: 8601 | I80: 181 | J80: 0 | K80: 3635 | L80: 12417 | M80: =G80-L80 -> -450
A81: 2005 | B81: October | C81: 405 | D81: 0 | E81: 10439 | F81: 479 | G81: 11323 | H81: 2414 | I81: 416 | J81: 0 | K81: 3289 | L81: 6119 | M81: =G81-L81 -> 5204
A82: 2005 | B82: November | C82: 6067 | D82: 0 | E82: 12203 | F82: 732 | G82: 19002 | H82: 149 | I82: 388 | J82: 0 | K82: 3304 | L82: 3841 | M82: =G82-L82 -> 15161
A83: 2005 | B83: December | C83: 6441 | D83: 0 | E83: 12891 | F83: 3018 | G83: 22350 | H83: 0 | I83: 388 | J83: 0 | K83: 3755 | L83: 4143 | M83: =G83-L83 -> 18207
A84: 2006 | B84: January | C84: 7685 | D84: 0 | E84: 12227 | F84: 3084 | G84: 22996 | H84: 0 | I84: 380 | J84: 0 | K84: 3608 | L84: 3988 | M84: =G84-L84 -> 19008
A85: 2006 | B85: February | C85: 10569 | D85: 0 | E85: 10996 | F85: 3531 | G85: 25096 | H85: 0 | I85: 354 | J85: 0 | K85: 3401 | L85: 3755 | M85: =G85-L85 -> 21341
A86: 2006 | B86: March | C86: 8406 | D86: 0 | E86: 11253 | F86: 4230 | G86: 23889 | H86: 0 | I86: 359 | J86: 0 | K86: 4056 | L86: 4415 | M86: =G86-L86 -> 19474
A87: 2006 | B87: April | C87: 998 | D87: 0 | E87: 10029 | F87: 3819 | G87: 14846 | H87: 3938 | I87: 282 | J87: 0 | K87: 4176 | L87: 8396 | M87: =G87-L87 -> 6450
A88: 2006 | B88: May | C88: 0 | D88: 0 | E88: 10148 | F88: 1795 | G88: 11943 | H88: 10238 | I88: 264 | J88: 0 | K88: 4287 | L88: 14789 | M88: =G88-L88 -> -2846
A89: 2006 | B89: June | C89: 0 | D89: 0 | E89: 4752 | F89: 1810 | G89: 6562 | H89: 6311 | I89: 299 | J89: 0 | K89: 4027 | L89: 10637 | M89: =G89-L89 -> -4075
A90: 2006 | B90: July | C90: 436 | D90: 0 | E90: 10479 | F90: 2287 | G90: 13202 | H90: 9119 | I90: 292 | J90: 0 | K90: 3732 | L90: 13143 | M90: =G90-L90 -> 59
... A107: 2007 | B107: December | C107: 1799.5124 | D107: 12263.984 | E107: 22762.143 | F107: 1864.9151 | G107: 38690.554 | H107: 720.6775 | I107: 926.27638 | J107: 44.333544 | K107: 4515.4814 | L107: 6206.7688 | M107: =G107-L107 -> 32483.785
A108: 2008 | B108: January | C108: 4855.9769 | D108: 11996.111 | E108: 24361.946 | F108: 1874.3802 | G108: =SUM(C108:F108) -> 43088.415 | H108: 127.325 | I108: 1051.7661 | J108: 39.480707 | K108: 4602.9927 | L108: 5821.5645 | M108: =G108-L108 -> 37266.85
A109: 2008 | B109: February | C109: 1787.96 | D109: 10564.681 | E109: 27974.824 | F109: 129.06544 | G109: =SUM(C109:F109) -> 40456.53 | H109: 339.84305 | I109: 589.44705 | J109: 34.43595 | K109: 4725.7282 | L109: 5689.4543 | M109: =G109-L109 -> 34767.076
A110: 2008 | B110: March | C110: 1885.0147 | D110: 11202.137 | E110: 30148.94 | F110: 90.700453 | G110: =SUM(C110:F110) -> 43326.792 | H110: 252.44389 | I110: 787.64642 | J110: 40.093024 | K110: 5061.9622 | L110: 6142.1456 | M110: =G110-L110 -> 37184.647
A111: 2008 | B111: April | C111: 3000.0186 | D111: 9155.8373 | E111: 22594.631 | F111: 583.625 | G111: =SUM(C111:F111) -> 35334.112 | H111: 450.83639 | I111: 929.10188 | J111: 20.663398 | K111: 4720.8978 | L111: 6121.4994 | M111: =G111-L111 -> 29212.612
A112: 2008 | B112: May | C112: 292.53278 | D112: 5976.5734 | E112: 17172.806 | F112: 283.185 | G112: =SUM(C112:F112) -> 23725.097 | H112: 4859.4383 | I112: 1245.2634 | J112: 32.69953 | K112: 4513.9348 | L112: 10651.336 | M112: =G112-L112 -> 13073.761
A113: 2008 | B113: June | C113: 0 | D113: 5656.6967 | E113: 12807.149 | F113: 94.395 | G113: =SUM(C113:F113) -> 18558.24 | H113: 5765.5842 | I113: 1100.5504 | J113: 28.833711 | K113: 3912.0217 | L113: 10806.99 | M113: =G113-L113 -> 7751.2503
A114: 2008 | B114: July | C114: 8.860278 | D114: 5723.9067 | E114: 26371.594 | F114: 234.465 | G114: =SUM(C114:F114) -> 32338.826 | H114: 6125.5281 | I114: 934.87137 | J114: 32.535027 | K114: 4265.974 | L114: 11358.908 | M114: =G114-L114 -> 20979.917
A115: 2008 | B115: August | C115: 0 | D115: 5336.8225 | E115: 15086.026 | F115: 177.61338 | G115: =SUM(C115:F115) -> 20600.462 | H115: 6217.2767 | I115: 880.57492 | J115: 43.456195 | K115: 4159.1722 | L115: 11300.48 | M115: =G115-L115 -> 9299.9819
A116: 2008 | B116: September | C116: 0 | D116: 3175.1099 | E116: 11408.363 | F116: 384.50286 | G116: =SUM(C116:F116) -> 14967.976 | H116: 4102.9325 | I116: 333.14628 | J116: 31.584566 | K116: 4045.2263 | L116: 8512.8897 | M116: =G116-L116 -> 6455.0862
A117: 2008 | B117: October | C117: 0 | D117: 5240.8829 | E117: 31010.279 | F117: 805.32429 | G117: =SUM(C117:F117) -> 37056.486 | H117: 10965.079 | I117: 740.94255 | J117: 29.713066 | K117: 4442.4983 | L117: 16178.233 | M117: =G117-L117 -> 20878.252
A118: 2008 | B118: November | C118: 12.84 | D118: 8010.769 | E118: 30561.718 | F118: 1993.831 | G118: =SUM(C118:F118) -> 40579.159 | H118: 4706.6897 | I118: 767.00603 | J118: 27.796094 | K118: 4737.0624 | L118: 10238.554 | M118: =G118-L118 -> 30340.604
A119: 2008 | B119: December | C119: 330.92361 | D119: 8523.5558 | E119: 34223.392 | F119: 2394.385 | G119: =SUM(C119:F119) -> 45472.257 | H119: 2036.3997 | I119: 1028.3808 | J119: 27.800998 | K119: 5072.6743 | L119: 8165.2559 | M119: =G119-L119 -> 37307.001
... A167: 2012 | B167: December | C167: 4538.18 | D167: 9877 | E167: 36663.241 | F167: 13384.627 | G167: =SUM(C167:F167) -> 64463.048 | H167: 365.21111 | I167: 1925.6789 | J167: 2.2868889 | K167: 4659.2302 | L167: 6952.407 | M167: =G167-L167 -> 57510.641
A168: 2013 | B168: January | C168: 4475.7569 | D168: 10394.494 | E168: 36744.601 | F168: 7147.2102 | G168: 58762.062 | H168: 356.24667 | I168: 1873.3023 | J168: 0 | K168: 4484.2858 | L168: 6713.8348 | M168: 52048.227
A169: 2013 | B169: February | C169: 5454.7347 | D169: 10068.945 | E169: 32704.967 | F169: 4777.2791 | G169: 53005.925 | H169: 0 | I169: 1747.1034 | J169: 3.9997778 | K169: 4222.3135 | L169: 5973.4167 | M169: 47032.509
A170: 2013 | B170: March | C170: 17984.451 | D170: 10249.963 | E170: 35374.659 | F170: 4301.6612 | G170: 67910.734 | H170: 0 | I170: 1645.1927 | J170: 0.61955556 | K170: 5066.2921 | L170: 6712.1043 | M170: 61198.629
A171: 2013 | B171: April | C171: 1557.1839 | D171: 7087.0937 | E171: 30680.703 | F171: 12757.919 | G171: 52082.9 | H171: 2506.5433 | I171: 1181.3227 | J171: 0.29155556 | K171: 4515.8456 | L171: 8204.0032 | M171: 43878.896
A172: 2013 | B172: May | C172: 21.4325 | D172: 5898.0434 | E172: 16794.261 | F172: 15901.473 | G172: 38615.21 | H172: 5102.6256 | I172: 1439.3538 | J172: 0.91111111 | K172: 4927.4709 | L172: 11470.361 | M172: 27144.848
A173: 2013 | B173: June | C173: 0 | D173: 2917 | E173: 18494.73 | F173: 15536.347 | G173: 36948.076 | H173: 6705.4153 | I173: 1614.2639 | J173: 0 | K173: 5007.7073 | L173: 13327.387 | M173: 23620.69
A174: 2013 | B174: July | C174: 0 | D174: 3924.7851 | E174: 15887.226 | F174: 8054.2374 | G174: 27866.249 | H174: 6450.8908 | I174: 1775.4589 | J174: 0 | K174: 4280.1774 | L174: 12506.527 | M174: 15359.722
A175: 2013 | B175: August | C175: 231.28694 | D175: 3421.9396 | E175: 13315.63 | F175: 6509.8549 | G175: 23478.712 | H175: 1963.1389 | I175: 1551.2254 | J175: 0.71977778 | K175: 4257.9853 | L175: 7773.0694 | M175: 15705.642
A176: 2013 | B176: September | C176: 44.105278 | D176: 3166.6268 | E176: 16640.785 | F176: 4863.5085 | G176: 24715.026 | H176: 2501.2356 | I176: 1600.3433 | J176: 0.28244444 | K176: 4238.9391 | L176: 8340.8004 | M176: 16374.225
A177: 2013 | B177: October | C177: 84.073612 | D177: 4330.0307 | E177: 22663.511 | F177: 7364.4849 | G177: 34442.1 | H177: 1864.6719 | I177: 1432.6915 | J177: 2.6331111 | K177: 4049.8497 | L177: 7349.8463 | M177: 27092.254
A178: 2013 | B178: November | C178: 2803.1072 | D178: 9707.4825 | E178: 30861.216 | F178: 11387.702 | G178: 54759.507 | H178: 0 | I178: 1509.906 | J178: 4.9837778 | K178: 4394.2629 | L178: 5909.1527 | M178: 48850.354
A179: 2013 | B179: December | C179: 2710.7178 | D179: 10353.018 | E179: 35353.499 | F179: 4018.6612 | G179: 52435.895 | H179: 7.055556 | I179: 1226.8806 | J179: 5.1113333 | K179: 4062.4558 | L179: 5301.5032 | M179: 47134.392
... A205: 2016 | B205: February | C205: 227.97663 | D205: 6728.7728 | E205: 30186.389 | F205: 14193.303 | G205: 51336.442 | H205: 1334.5032 | I205: 1792.3079 | J205: 0 | K205: 2740.5505 | L205: 5867.3616 | M205: 45469.08
A207: Return to contents page

Sheet Calculation
A1: Natural gas production and supply
E3: Imports | J3: Exports
C4: From | D4: From the | E4: From | F4: Liquefied | G4: Total | H4: To | I4: To the | J4: To | K4: To the | L4: Total | M4: Net
C5: Belgium | D5: Netherlands | E5: Norway | F5: Natural Gas | G5: Imports | H5: Belgium | I5: Netherlands | J5: Norway | K5: Republic of | L5: Exports | M5: Imports
K6: Ireland
A7: YEAR | B7: MONTH | C7: GWh
A8: ='Month (GWh)'!A12 -> 2000 | B8: January | C8: ='Month (GWh)'!C12 -> 0 | D8: ='Month (GWh)'!D12 -> 0 | E8: ='Month (GWh)'!E12 -> 1040 | F8: ='Month (GWh)'!F12 -> 0 | G8: ='Month (GWh)'!G12 -> 1040 | H8: ='Month (GWh)'!H12 -> 5884 | I8: ='Month (GWh)'!I12 -> 974 | J8: ='Month (GWh)'!J12 -> 0 | ... M8: ='Month (GWh)'!M12 -> -8869 | O8: Year | P8: 2015 | R8: Annual!
A9: ='Month (GWh)'!A13 -> 2000 | B9: February | C9: ='Month (GWh)'!C13+C8 -> 0 | D9: ='Month (GWh)'!D13+D8 -> 0 | E9: ='Month (GWh)'!E13+E8 -> 2011 | F9: ='Month (GWh)'!F13+F8 -> 0 | G9: ='Month (GWh)'!G13+G8 -> 2011 | H9: ='Month (GWh)'!H13+H8 -> 12995 | I9: ='Month (GWh)'!I13+I8 -> 1820 | J9: ='Month (GWh)'!J13+J8 -> 0 | ... M9: ='Month (GWh)'!M13+M8 -> -18696 | O9: Month | P9: 10
A10: ='Month (GWh)'!A14 -> 2000 | B10: March | C10: ='Month (GWh)'!C14+C9 -> 0 | D10: ='Month (GWh)'!D14+D9 -> 0 | E10: ='Month (GWh)'!E14+E9 -> 3074 | F10: ='Month (GWh)'!F14+F9 -> 0 | G10: ='Month (GWh)'!G14+G9 -> 3074 | H10: ='Month (GWh)'!H14+H9 -> 21214 | I10: ='Month (GWh)'!I14+I9 -> 2728 | J10: ='Month (GWh)'!J14+J9 -> 0 | ... M10: ='Month (GWh)'!M14+M9 -> -29603
A11: ='Month (GWh)'!A15 -> 2000 | B11: April | C11: ='Month (GWh)'!C15+C10 -> 0 | D11: ='Month (GWh)'!D15+D10 -> 0 | E11: ='Month (GWh)'!E15+E10 -> 4049 | F11: ='Month (GWh)'!F15+F10 -> 0 | G11: ='Month (GWh)'!G15+G10 -> 4049 | H11: ='Month (GWh)'!H15+H10 -> 32997 | I11: ='Month (GWh)'!I15+I10 -> 3542 | J11: ='Month (GWh)'!J15+J10 -> 0 | ... M11: ='Month (GWh)'!M15+M10 -> -44003 | P11: A | Q11: B | R11: C | S11: D | T11: E | U11: F | V11: G | W11: H | X11: I | Y11: J | Z11: K | AA11: L
A12: ='Month (GWh)'!A16 -> 2000 | B12: May | C12: ='Month (GWh)'!C16+C11 -> 0 | D12: ='Month (GWh)'!D16+D11 -> 0 | E12: ='Month (GWh)'!E16+E11 -> 4908 | F12: ='Month (GWh)'!F16+F11 -> 0 | G12: ='Month (GWh)'!G16+G11 -> 4908 | H12: ='Month (GWh)'!H16+H11 -> 45052 | I12: ='Month (GWh)'!I16+I11 -> 4231 | J12: ='Month (GWh)'!J16+J11 -> 0 | ... M12: ='Month (GWh)'!M16+M11 -> -58402 | O12: 22 | P12: =$R$8&P$11&$O12 -> Annual!A22 | Q12: =$R$8&Q$11&$O12 -> Annual!B22 | R12: =$R$8&R$11&$O12 -> Annual!C22 | S12: =$R$8&S$11&$O12 -> Annual!D22 | T12: =$R$8&T$11&$O12 -> Annual!E22 | U12: =$R$8&U$11&$O12 -> Annual!F22 | V12: =$R$8&V$11&$O12 -> Annual!G22 | W12: =$R$8&W$11&$O12 -> Annual!H22 | ... AA12: =$R$8&AA$11&$O12 -> Annual!L22
A13: ='Month (GWh)'!A17 -> 2000 | B13: June | C13: ='Month (GWh)'!C17+C12 -> 0 | D13: ='Month (GWh)'!D17+D12 -> 0 | E13: ='Month (GWh)'!E17+E12 -> 5503 | F13: ='Month (GWh)'!F17+F12 -> 0 | G13: ='Month (GWh)'!G17+G12 -> 5503 | H13: ='Month (GWh)'!H17+H12 -> 55615 | I13: ='Month (GWh)'!I17+I12 -> 4882 | J13: ='Month (GWh)'!J17+J12 -> 0 | ... M13: ='Month (GWh)'!M17+M12 -> -71897 | O13: =O12+1 -> 23 | P13: =$R$8&P$11&$O13 -> Annual!A23 | Q13: =$R$8&Q$11&$O13 -> Annual!B23 | R13: =$R$8&R$11&$O13 -> Annual!C23 | S13: =$R$8&S$11&$O13 -> Annual!D23 | T13: =$R$8&T$11&$O13 -> Annual!E23 | U13: =$R$8&U$11&$O13 -> Annual!F23 | V13: =$R$8&V$11&$O13 -> Annual!G23 | W13: =$R$8&W$11&$O13 -> Annual!H23 | ... AA13: =$R$8&AA$11&$O13 -> Annual!L23
A14: ='Month (GWh)'!A18 -> 2000 | B14: July | C14: ='Month (GWh)'!C18+C13 -> 0 | D14: ='Month (GWh)'!D18+D13 -> 0 | E14: ='Month (GWh)'!E18+E13 -> 6052 | F14: ='Month (GWh)'!F18+F13 -> 0 | G14: ='Month (GWh)'!G18+G13 -> 6052 | H14: ='Month (GWh)'!H18+H13 -> 64321 | I14: ='Month (GWh)'!I18+I13 -> 5224 | J14: ='Month (GWh)'!J18+J13 -> 0 | ... M14: ='Month (GWh)'!M18+M13 -> -82778 | O14: =O13+1 -> 24 | P14: =$R$8&P$11&$O14 -> Annual!A24 | Q14: =$R$8&Q$11&$O14 -> Annual!B24 | R14: =$R$8&R$11&$O14 -> Annual!C24 | S14: =$R$8&S$11&$O14 -> Annual!D24 | T14: =$R$8&T$11&$O14 -> Annual!E24 | U14: =$R$8&U$11&$O14 -> Annual!F24 | V14: =$R$8&V$11&$O14 -> Annual!G24 | W14: =$R$8&W$11&$O14 -> Annual!H24 | ... AA14: =$R$8&AA$11&$O14 -> Annual!L24
A15: ='Month (GWh)'!A19 -> 2000 | B15: August | C15: ='Month (GWh)'!C19+C14 -> 0 | D15: ='Month (GWh)'!D19+D14 -> 0 | E15: ='Month (GWh)'!E19+E14 -> 6972 | F15: ='Month (GWh)'!F19+F14 -> 0 | G15: ='Month (GWh)'!G19+G14 -> 6972 | H15: ='Month (GWh)'!H19+H14 -> 76718 | I15: ='Month (GWh)'!I19+I14 -> 5670 | J15: ='Month (GWh)'!J19+J14 -> 0 | ... M15: ='Month (GWh)'!M19+M14 -> -96809 | O15: =O14+1 -> 25 | P15: =$R$8&P$11&$O15 -> Annual!A25 | Q15: =$R$8&Q$11&$O15 -> Annual!B25 | R15: =$R$8&R$11&$O15 -> Annual!C25 | S15: =$R$8&S$11&$O15 -> Annual!D25 | T15: =$R$8&T$11&$O15 -> Annual!E25 | U15: =$R$8&U$11&$O15 -> Annual!F25 | V15: =$R$8&V$11&$O15 -> Annual!G25 | W15: =$R$8&W$11&$O15 -> Annual!H25 | ... AA15: =$R$8&AA$11&$O15 -> Annual!L25
A16: ='Month (GWh)'!A20 -> 2000 | B16: September | C16: ='Month (GWh)'!C20+C15 -> 0 | D16: ='Month (GWh)'!D20+D15 -> 0 | E16: ='Month (GWh)'!E20+E15 -> 7965 | F16: ='Month (GWh)'!F20+F15 -> 0 | G16: ='Month (GWh)'!G20+G15 -> 7965 | H16: ='Month (GWh)'!H20+H15 -> 88012 | I16: ='Month (GWh)'!I20+I15 -> 6086 | J16: ='Month (GWh)'!J20+J15 -> 0 | ... M16: ='Month (GWh)'!M20+M15 -> -109699 | O16: =O15+1 -> 26 | P16: =$R$8&P$11&$O16 -> Annual!A26 | Q16: =$R$8&Q$11&$O16 -> Annual!B26 | R16: =$R$8&R$11&$O16 -> Annual!C26 | S16: =$R$8&S$11&$O16 -> Annual!D26 | T16: =$R$8&T$11&$O16 -> Annual!E26 | U16: =$R$8&U$11&$O16 -> Annual!F26 | V16: =$R$8&V$11&$O16 -> Annual!G26 | W16: =$R$8&W$11&$O16 -> Annual!H26 | ... AA16: =$R$8&AA$11&$O16 -> Annual!L26
A17: ='Month (GWh)'!A21 -> 2000 | B17: October | C17: ='Month (GWh)'!C21+C16 -> 0 | D17: ='Month (GWh)'!D21+D16 -> 0 | E17: ='Month (GWh)'!E21+E16 -> 9070 | F17: ='Month (GWh)'!F21+F16 -> 0 | G17: ='Month (GWh)'!G21+G16 -> 9070 | H17: ='Month (GWh)'!H21+H16 -> 92471 | I17: ='Month (GWh)'!I21+I16 -> 6554 | J17: ='Month (GWh)'!J21+J16 -> 0 | ... M17: ='Month (GWh)'!M21+M16 -> -116002
A18: ='Month (GWh)'!A22 -> 2000 | B18: November | C18: ='Month (GWh)'!C22+C17 -> 351 | D18: ='Month (GWh)'!D22+D17 -> 0 | E18: ='Month (GWh)'!E22+E17 -> 10157 | F18: ='Month (GWh)'!F22+F17 -> 0 | G18: ='Month (GWh)'!G22+G17 -> 10508 | H18: ='Month (GWh)'!H22+H17 -> 94574 | I18: ='Month (GWh)'!I22+I17 -> 7189 | J18: ='Month (GWh)'!J22+J17 -> 0 | ... M18: ='Month (GWh)'!M22+M17 -> -120190
A19: ='Month (GWh)'!A23 -> 2000 | B19: December | C19: ='Month (GWh)'!C23+C18 -> 2955 | D19: ='Month (GWh)'!D23+D18 -> 0 | E19: ='Month (GWh)'!E23+E18 -> 11279 | F19: ='Month (GWh)'!F23+F18 -> 0 | G19: ='Month (GWh)'!G23+G18 -> 14234 | H19: ='Month (GWh)'!H23+H18 -> 94574 | I19: ='Month (GWh)'!I23+I18 -> 7723 | J19: ='Month (GWh)'!J23+J18 -> 0 | ... M19: ='Month (GWh)'!M23+M18 -> -120311
A20: ='Month (GWh)'!A24 -> 2001 | B20: January | C20: ='Month (GWh)'!C24 -> 980 | D20: ='Month (GWh)'!D24 -> 0 | E20: ='Month (GWh)'!E24 -> 1063 | F20: ='Month (GWh)'!F24 -> 0 | G20: ='Month (GWh)'!G24 -> 2043 | H20: ='Month (GWh)'!H24 -> 137 | I20: ='Month (GWh)'!I24 -> 500 | J20: ='Month (GWh)'!J24 -> 0 | ... M20: ='Month (GWh)'!M24 -> -2433
A21: ='Month (GWh)'!A25 -> 2001 | B21: February | C21: ='Month (GWh)'!C25+C20 -> 2956 | D21: ='Month (GWh)'!D25+D20 -> 0 | E21: ='Month (GWh)'!E25+E20 -> 1990 | F21: ='Month (GWh)'!F25+F20 -> 0 | G21: ='Month (GWh)'!G25+G20 -> 4946 | H21: ='Month (GWh)'!H25+H20 -> 137 | I21: ='Month (GWh)'!I25+I20 -> 977 | J21: ='Month (GWh)'!J25+J20 -> 0 | ... M21: ='Month (GWh)'!M25+M20 -> -3173
A22: ='Month (GWh)'!A26 -> 2001 | B22: March | C22: ='Month (GWh)'!C26+C21 -> 3080 | D22: ='Month (GWh)'!D26+D21 -> 0 | E22: ='Month (GWh)'!E26+E21 -> 2873 | F22: ='Month (GWh)'!F26+F21 -> 0 | G22: ='Month (GWh)'!G26+G21 -> 5953 | H22: ='Month (GWh)'!H26+H21 -> 2332 | I22: ='Month (GWh)'!I26+I21 -> 1522 | J22: ='Month (GWh)'!J26+J21 -> 0 | ... M22: ='Month (GWh)'!M26+M21 -> -8405
A23: ='Month (GWh)'!A27 -> 2001 | B23: April | C23: ='Month (GWh)'!C27+C22 -> 3080 | D23: ='Month (GWh)'!D27+D22 -> 0 | E23: ='Month (GWh)'!E27+E22 -> 3554 | F23: ='Month (GWh)'!F27+F22 -> 0 | G23: ='Month (GWh)'!G27+G22 -> 6634 | H23: ='Month (GWh)'!H27+H22 -> 9407 | I23: ='Month (GWh)'!I27+I22 -> 2008 | J23: ='Month (GWh)'!J27+J22 -> 0 | ... M23: ='Month (GWh)'!M27+M22 -> -18652 | R23: Month!
A24: ='Month (GWh)'!A28 -> 2001 | B24: May | C24: ='Month (GWh)'!C28+C23 -> 3080 | D24: ='Month (GWh)'!D28+D23 -> 0 | E24: ='Month (GWh)'!E28+E23 -> 4273 | F24: ='Month (GWh)'!F28+F23 -> 0 | G24: ='Month (GWh)'!G28+G23 -> 7353 | H24: ='Month (GWh)'!H28+H23 -> 18807 | I24: ='Month (GWh)'!I28+I23 -> 2514 | J24: ='Month (GWh)'!J28+J23 -> 0 | ... M24: ='Month (GWh)'!M28+M23 -> -31025
A25: ='Month (GWh)'!A29 -> 2001 | B25: June | C25: ='Month (GWh)'!C29+C24 -> 3080 | D25: ='Month (GWh)'!D29+D24 -> 0 | E25: ='Month (GWh)'!E29+E24 -> 4969 | F25: ='Month (GWh)'!F29+F24 -> 0 | G25: ='Month (GWh)'!G29+G24 -> 8049 | H25: ='Month (GWh)'!H29+H24 -> 29178 | I25: ='Month (GWh)'!I29+I24 -> 2571 | J25: ='Month (GWh)'!J29+J24 -> 0 | ... M25: ='Month (GWh)'!M29+M24 -> -43630 | P25: c | Q25: d | R25: e | S25: f | T25: g | U25: h | V25: i | W25: j | X25: k | Y25: l | Z25: m
A26: ='Month (GWh)'!A30 -> 2001 | B26: July | C26: ='Month (GWh)'!C30+C25 -> 3080 | D26: ='Month (GWh)'!D30+D25 -> 0 | E26: ='Month (GWh)'!E30+E25 -> 4969 | F26: ='Month (GWh)'!F30+F25 -> 0 | G26: ='Month (GWh)'!G30+G25 -> 8049 | H26: ='Month (GWh)'!H30+H25 -> 43567 | I26: ='Month (GWh)'!I30+I25 -> 2857 | J26: ='Month (GWh)'!J30+J25 -> 0 | ... M26: ='Month (GWh)'!M30+M25 -> -61520 | O26: 187 | P26: =$R$23&P$25&$O26 -> Month!c187 | Q26: =$R$23&Q$25&$O26 -> Month!d187 | R26: =$R$23&R$25&$O26 -> Month!e187 | S26: =$R$23&S$25&$O26 -> Month!f187 | T26: =$R$23&T$25&$O26 -> Month!g187 | U26: =$R$23&U$25&$O26 -> Month!h187 | V26: =$R$23&V$25&$O26 -> Month!i187 | W26: =$R$23&W$25&$O26 -> Month!j187 | ... Z26: =$R$23&Z$25&$O26 -> Month!m187
A27: ='Month (GWh)'!A31 -> 2001 | B27: August | C27: ='Month (GWh)'!C31+C26 -> 3080 | D27: ='Month (GWh)'!D31+D26 -> 0 | E27: ='Month (GWh)'!E31+E26 -> 5690 | F27: ='Month (GWh)'!F31+F26 -> 0 | G27: ='Month (GWh)'!G31+G26 -> 8770 | H27: ='Month (GWh)'!H31+H26 -> 55650 | I27: ='Month (GWh)'!I31+I26 -> 3372 | J27: ='Month (GWh)'!J31+J26 -> 0 | ... M27: ='Month (GWh)'!M31+M26 -> -76534 | O27: =O26+1 -> 188 | P27: =$R$23&P$25&$O27 -> Month!c188 | Q27: =$R$23&Q$25&$O27 -> Month!d188 | R27: =$R$23&R$25&$O27 -> Month!e188 | S27: =$R$23&S$25&$O27 -> Month!f188 | T27: =$R$23&T$25&$O27 -> Month!g188 | U27: =$R$23&U$25&$O27 -> Month!h188 | V27: =$R$23&V$25&$O27 -> Month!i188 | W27: =$R$23&W$25&$O27 -> Month!j188 | ... Z27: =$R$23&Z$25&$O27 -> Month!m188
A28: ='Month (GWh)'!A32 -> 2001 | B28: September | C28: ='Month (GWh)'!C32+C27 -> 3080 | D28: ='Month (GWh)'!D32+D27 -> 0 | E28: ='Month (GWh)'!E32+E27 -> 6389 | F28: ='Month (GWh)'!F32+F27 -> 0 | G28: ='Month (GWh)'!G32+G27 -> 9469 | H28: ='Month (GWh)'!H32+H27 -> 64507 | I28: ='Month (GWh)'!I32+I27 -> 3930 | J28: ='Month (GWh)'!J32+J27 -> 0 | ... M28: ='Month (GWh)'!M32+M27 -> -87996 | O28: =O27+1 -> 189 | P28: =$R$23&P$25&$O28 -> Month!c189 | Q28: =$R$23&Q$25&$O28 -> Month!d189 | R28: =$R$23&R$25&$O28 -> Month!e189 | S28: =$R$23&S$25&$O28 -> Month!f189 | T28: =$R$23&T$25&$O28 -> Month!g189 | U28: =$R$23&U$25&$O28 -> Month!h189 | V28: =$R$23&V$25&$O28 -> Month!i189 | W28: =$R$23&W$25&$O28 -> Month!j189 | ... Z28: =$R$23&Z$25&$O28 -> Month!m189
A29: ='Month (GWh)'!A33 -> 2001 | B29: October | C29: ='Month (GWh)'!C33+C28 -> 3080 | D29: ='Month (GWh)'!D33+D28 -> 0 | E29: ='Month (GWh)'!E33+E28 -> 7946 | F29: ='Month (GWh)'!F33+F28 -> 0 | G29: ='Month (GWh)'!G33+G28 -> 11026 | H29: ='Month (GWh)'!H33+H28 -> 74605 | I29: ='Month (GWh)'!I33+I28 -> 4503 | J29: ='Month (GWh)'!J33+J28 -> 0 | ... M29: ='Month (GWh)'!M33+M28 -> -100008 | O29: =O28+1 -> 190 | P29: =$R$23&P$25&$O29 -> Month!c190 | Q29: =$R$23&Q$25&$O29 -> Month!d190 | R29: =$R$23&R$25&$O29 -> Month!e190 | S29: =$R$23&S$25&$O29 -> Month!f190 | T29: =$R$23&T$25&$O29 -> Month!g190 | U29: =$R$23&U$25&$O29 -> Month!h190 | V29: =$R$23&V$25&$O29 -> Month!i190 | W29: =$R$23&W$25&$O29 -> Month!j190 | ... Z29: =$R$23&Z$25&$O29 -> Month!m190
A30: ='Month (GWh)'!A34 -> 2001 | B30: November | C30: ='Month (GWh)'!C34+C29 -> 3080 | D30: ='Month (GWh)'!D34+D29 -> 0 | E30: ='Month (GWh)'!E34+E29 -> 9684 | F30: ='Month (GWh)'!F34+F29 -> 0 | G30: ='Month (GWh)'!G34+G29 -> 12764 | H30: ='Month (GWh)'!H34+H29 -> 79789 | I30: ='Month (GWh)'!I34+I29 -> 5056 | J30: ='Month (GWh)'!J34+J29 -> 0 | ... M30: ='Month (GWh)'!M34+M29 -> -106909 | O30: =O29+1 -> 191 | P30: =$R$23&P$25&$O30 -> Month!c191 | Q30: =$R$23&Q$25&$O30 -> Month!d191 | R30: =$R$23&R$25&$O30 -> Month!e191 | S30: =$R$23&S$25&$O30 -> Month!f191 | T30: =$R$23&T$25&$O30 -> Month!g191 | U30: =$R$23&U$25&$O30 -> Month!h191 | V30: =$R$23&V$25&$O30 -> Month!i191 | W30: =$R$23&W$25&$O30 -> Month!j191 | ... Z30: =$R$23&Z$25&$O30 -> Month!m191
A31: ='Month (GWh)'!A35 -> 2001 | B31: December | C31: ='Month (GWh)'!C35+C30 -> 4015 | D31: ='Month (GWh)'!D35+D30 -> 0 | E31: ='Month (GWh)'!E35+E30 -> 12734 | F31: ='Month (GWh)'!F35+F30 -> 0 | G31: ='Month (GWh)'!G35+G30 -> 16749 | H31: ='Month (GWh)'!H35+H30 -> 80846 | I31: ='Month (GWh)'!I35+I30 -> 5640 | J31: ='Month (GWh)'!J35+J30 -> 0 | ... M31: ='Month (GWh)'!M35+M30 -> -107865 | O31: =O30+1 -> 192 | P31: =$R$23&P$25&$O31 -> Month!c192 | Q31: =$R$23&Q$25&$O31 -> Month!d192 | R31: =$R$23&R$25&$O31 -> Month!e192 | S31: =$R$23&S$25&$O31 -> Month!f192 | T31: =$R$23&T$25&$O31 -> Month!g192 | U31: =$R$23&U$25&$O31 -> Month!h192 | V31: =$R$23&V$25&$O31 -> Month!i192 | W31: =$R$23&W$25&$O31 -> Month!j192 | ... Z31: =$R$23&Z$25&$O31 -> Month!m192
A32: ='Month (GWh)'!A36 -> 2002 | B32: January | C32: ='Month (GWh)'!C36 -> 4035 | D32: ='Month (GWh)'!D36 -> 0 | E32: ='Month (GWh)'!E36 -> 3120 | F32: ='Month (GWh)'!F36 -> 0 | G32: ='Month (GWh)'!G36 -> 7155 | H32: ='Month (GWh)'!H36 -> 0 | I32: ='Month (GWh)'!I36 -> 566 | J32: ='Month (GWh)'!J36 -> 0 | ... M32: ='Month (GWh)'!M36 -> 3655 | O32: =O31+1 -> 193 | P32: =$R$23&P$25&$O32 -> Month!c193 | Q32: =$R$23&Q$25&$O32 -> Month!d193 | R32: =$R$23&R$25&$O32 -> Month!e193 | S32: =$R$23&S$25&$O32 -> Month!f193 | T32: =$R$23&T$25&$O32 -> Month!g193 | U32: =$R$23&U$25&$O32 -> Month!h193 | V32: =$R$23&V$25&$O32 -> Month!i193 | W32: =$R$23&W$25&$O32 -> Month!j193 | ... Z32: =$R$23&Z$25&$O32 -> Month!m193
A33: ='Month (GWh)'!A37 -> 2002 | B33: February | C33: ='Month (GWh)'!C37+C32 -> 5548 | D33: ='Month (GWh)'!D37+D32 -> 0 | E33: ='Month (GWh)'!E37+E32 -> 7290 | F33: ='Month (GWh)'!F37+F32 -> 0 | G33: ='Month (GWh)'!G37+G32 -> 12838 | H33: ='Month (GWh)'!H37+H32 -> 0 | I33: ='Month (GWh)'!I37+I32 -> 920 | J33: ='Month (GWh)'!J37+J32 -> 0 | ... M33: ='Month (GWh)'!M37+M32 -> 6167 | O33: =O32+1 -> 194 | P33: =$R$23&P$25&$O33 -> Month!c194 | Q33: =$R$23&Q$25&$O33 -> Month!d194 | R33: =$R$23&R$25&$O33 -> Month!e194 | S33: =$R$23&S$25&$O33 -> Month!f194 | T33: =$R$23&T$25&$O33 -> Month!g194 | U33: =$R$23&U$25&$O33 -> Month!h194 | V33: =$R$23&V$25&$O33 -> Month!i194 | W33: =$R$23&W$25&$O33 -> Month!j194 | ... Z33: =$R$23&Z$25&$O33 -> Month!m194
A34: ='Month (GWh)'!A38 -> 2002 | B34: March | C34: ='Month (GWh)'!C38+C33 -> 5548 | D34: ='Month (GWh)'!D38+D33 -> 0 | E34: ='Month (GWh)'!E38+E33 -> 11939 | F34: ='Month (GWh)'!F38+F33 -> 0 | G34: ='Month (GWh)'!G38+G33 -> 17487 | H34: ='Month (GWh)'!H38+H33 -> 5527 | I34: ='Month (GWh)'!I38+I33 -> 1429 | J34: ='Month (GWh)'!J38+J33 -> 0 | ... M34: ='Month (GWh)'!M38+M33 -> 1330 | O34: =O33+1 -> 195 | P34: =$R$23&P$25&$O34 -> Month!c195 | Q34: =$R$23&Q$25&$O34 -> Month!d195 | R34: =$R$23&R$25&$O34 -> Month!e195 | S34: =$R$23&S$25&$O34 -> Month!f195 | T34: =$R$23&T$25&$O34 -> Month!g195 | U34: =$R$23&U$25&$O34 -> Month!h195 | V34: =$R$23&V$25&$O34 -> Month!i195 | W34: =$R$23&W$25&$O34 -> Month!j195 | ... Z34: =$R$23&Z$25&$O34 -> Month!m195
A35: ='Month (GWh)'!A39 -> 2002 | B35: April | C35: ='Month (GWh)'!C39+C34 -> 5548 | D35: ='Month (GWh)'!D39+D34 -> 0 | E35: ='Month (GWh)'!E39+E34 -> 14141 | F35: ='Month (GWh)'!F39+F34 -> 0 | G35: ='Month (GWh)'!G39+G34 -> 19689 | H35: ='Month (GWh)'!H39+H34 -> 15292 | I35: ='Month (GWh)'!I39+I34 -> 1890 | J35: ='Month (GWh)'!J39+J34 -> 0 | ... M35: ='Month (GWh)'!M39+M34 -> -10632 | O35: =O34+1 -> 196 | P35: =$R$23&P$25&$O35 -> Month!c196 | Q35: =$R$23&Q$25&$O35 -> Month!d196 | R35: =$R$23&R$25&$O35 -> Month!e196 | S35: =$R$23&S$25&$O35 -> Month!f196 | T35: =$R$23&T$25&$O35 -> Month!g196 | U35: =$R$23&U$25&$O35 -> Month!h196 | V35: =$R$23&V$25&$O35 -> Month!i196 | W35: =$R$23&W$25&$O35 -> Month!j196 | ... Z35: =$R$23&Z$25&$O35 -> Month!m196
A36: ='Month (GWh)'!A40 -> 2002 | B36: May | C36: ='Month (GWh)'!C40+C35 -> 5548 | D36: ='Month (GWh)'!D40+D35 -> 0 | E36: ='Month (GWh)'!E40+E35 -> 14884 | F36: ='Month (GWh)'!F40+F35 -> 0 | G36: ='Month (GWh)'!G40+G35 -> 20432 | H36: ='Month (GWh)'!H40+H35 -> 30455 | I36: ='Month (GWh)'!I40+I35 -> 2349 | J36: ='Month (GWh)'!J40+J35 -> 0 | ... M36: ='Month (GWh)'!M40+M35 -> -28783 | O36: =O35+1 -> 197 | P36: =$R$23&P$25&$O36 -> Month!c197 | Q36: =$R$23&Q$25&$O36 -> Month!d197 | R36: =$R$23&R$25&$O36 -> Month!e197 | S36: =$R$23&S$25&$O36 -> Month!f197 | T36: =$R$23&T$25&$O36 -> Month!g197 | U36: =$R$23&U$25&$O36 -> Month!h197 | V36: =$R$23&V$25&$O36 -> Month!i197 | W36: =$R$23&W$25&$O36 -> Month!j197 | ... Z36: =$R$23&Z$25&$O36 -> Month!m197
A37: ='Month (GWh)'!A41 -> 2002 | B37: June | C37: ='Month (GWh)'!C41+C36 -> 5548 | D37: ='Month (GWh)'!D41+D36 -> 0 | E37: ='Month (GWh)'!E41+E36 -> 16388 | F37: ='Month (GWh)'!F41+F36 -> 0 | G37: ='Month (GWh)'!G41+G36 -> 21936 | H37: ='Month (GWh)'!H41+H36 -> 44092 | I37: ='Month (GWh)'!I41+I36 -> 2792 | J37: ='Month (GWh)'!J41+J36 -> 0 | ... M37: ='Month (GWh)'!M41+M36 -> -44221 | O37: =O36+1 -> 198 | P37: =$R$23&P$25&$O37 -> Month!c198 | Q37: =$R$23&Q$25&$O37 -> Month!d198 | R37: =$R$23&R$25&$O37 -> Month!e198 | S37: =$R$23&S$25&$O37 -> Month!f198 | T37: =$R$23&T$25&$O37 -> Month!g198 | U37: =$R$23&U$25&$O37 -> Month!h198 | V37: =$R$23&V$25&$O37 -> Month!i198 | W37: =$R$23&W$25&$O37 -> Month!j198 | ... Z37: =$R$23&Z$25&$O37 -> Month!m198
A38: ='Month (GWh)'!A42 -> 2002 | B38: July | C38: ='Month (GWh)'!C42+C37 -> 6303 | D38: ='Month (GWh)'!D42+D37 -> 0 | E38: ='Month (GWh)'!E42+E37 -> 18184 | F38: ='Month (GWh)'!F42+F37 -> 0 | G38: ='Month (GWh)'!G42+G37 -> 24487 | H38: ='Month (GWh)'!H42+H37 -> 45004 | I38: ='Month (GWh)'!I42+I37 -> 3224 | J38: ='Month (GWh)'!J42+J37 -> 0 | ... M38: ='Month (GWh)'!M42+M37 -> -45865 | O38: =O37+1 -> 199 | P38: =$R$23&P$25&$O38 -> Month!c199 | Q38: =$R$23&Q$25&$O38 -> Month!d199 | R38: =$R$23&R$25&$O38 -> Month!e199 | S38: =$R$23&S$25&$O38 -> Month!f199 | T38: =$R$23&T$25&$O38 -> Month!g199 | U38: =$R$23&U$25&$O38 -> Month!h199 | V38: =$R$23&V$25&$O38 -> Month!i199 | W38: =$R$23&W$25&$O38 -> Month!j199 | ... Z38: =$R$23&Z$25&$O38 -> Month!m199
A39: ='Month (GWh)'!A43 -> 2002 | B39: August | C39: ='Month (GWh)'!C43+C38 -> 6323 | D39: ='Month (GWh)'!D43+D38 -> 0 | E39: ='Month (GWh)'!E43+E38 -> 19885 | F39: ='Month (GWh)'!F43+F38 -> 0 | G39: ='Month (GWh)'!G43+G38 -> 26208 | H39: ='Month (GWh)'!H43+H38 -> 56298 | I39: ='Month (GWh)'!I43+I38 -> 3429 | J39: ='Month (GWh)'!J43+J38 -> 0 | ... M39: ='Month (GWh)'!M43+M38 -> -58649 | O39: =O38+1 -> 200 | P39: =$R$23&P$25&$O39 -> Month!c200 | Q39: =$R$23&Q$25&$O39 -> Month!d200 | R39: =$R$23&R$25&$O39 -> Month!e200 | S39: =$R$23&S$25&$O39 -> Month!f200 | T39: =$R$23&T$25&$O39 -> Month!g200 | U39: =$R$23&U$25&$O39 -> Month!h200 | V39: =$R$23&V$25&$O39 -> Month!i200 | W39: =$R$23&W$25&$O39 -> Month!j200 | ... Z39: =$R$23&Z$25&$O39 -> Month!m200
A40: ='Month (GWh)'!A44 -> 2002 | B40: September | C40: ='Month (GWh)'!C44+C39 -> 6323 | D40: ='Month (GWh)'!D44+D39 -> 0 | E40: ='Month (GWh)'!E44+E39 -> 21475 | F40: ='Month (GWh)'!F44+F39 -> 0 | G40: ='Month (GWh)'!G44+G39 -> 27798 | H40: ='Month (GWh)'!H44+H39 -> 67246 | I40: ='Month (GWh)'!I44+I39 -> 3813 | J40: ='Month (GWh)'!J44+J39 -> 0 | ... M40: ='Month (GWh)'!M44+M39 -> -71736 | O40: =O39+1 -> 201 | P40: =$R$23&P$25&$O40 -> Month!c201 | Q40: =$R$23&Q$25&$O40 -> Month!d201 | R40: =$R$23&R$25&$O40 -> Month!e201 | S40: =$R$23&S$25&$O40 -> Month!f201 | T40: =$R$23&T$25&$O40 -> Month!g201 | U40: =$R$23&U$25&$O40 -> Month!h201 | V40: =$R$23&V$25&$O40 -> Month!i201 | W40: =$R$23&W$25&$O40 -> Month!j201 | ... Z40: =$R$23&Z$25&$O40 -> Month!m201
A41: ='Month (GWh)'!A45 -> 2002 | B41: October | C41: ='Month (GWh)'!C45+C40 -> 6323 | D41: ='Month (GWh)'!D45+D40 -> 0 | E41: ='Month (GWh)'!E45+E40 -> 25886 | F41: ='Month (GWh)'!F45+F40 -> 0 | G41: ='Month (GWh)'!G45+G40 -> 32209 | H41: ='Month (GWh)'!H45+H40 -> 80208 | I41: ='Month (GWh)'!I45+I40 -> 4192 | J41: ='Month (GWh)'!J45+J40 -> 0 | ... M41: ='Month (GWh)'!M45+M40 -> -83931
A42: ='Month (GWh)'!A46 -> 2002 | B42: November | C42: ='Month (GWh)'!C46+C41 -> 6323 | D42: ='Month (GWh)'!D46+D41 -> 0 | E42: ='Month (GWh)'!E46+E41 -> 31968 | F42: ='Month (GWh)'!F46+F41 -> 0 | G42: ='Month (GWh)'!G46+G41 -> 38291 | H42: ='Month (GWh)'!H46+H41 -> 87381 | I42: ='Month (GWh)'!I46+I41 -> 4459 | J42: ='Month (GWh)'!J46+J41 -> 0 | ... M42: ='Month (GWh)'!M46+M41 -> -88705 | R42: Calculation!
A43: ='Month (GWh)'!A47 -> 2002 | B43: December | C43: ='Month (GWh)'!C47+C42 -> 6645 | D43: ='Month (GWh)'!D47+D42 -> 0 | E43: ='Month (GWh)'!E47+E42 -> 37883 | F43: ='Month (GWh)'!F47+F42 -> 0 | G43: ='Month (GWh)'!G47+G42 -> 44528 | H43: ='Month (GWh)'!H47+H42 -> 91189 | I43: ='Month (GWh)'!I47+I42 -> 4837 | J43: ='Month (GWh)'!J47+J42 -> 0 | ... M43: ='Month (GWh)'!M47+M42 -> -90238 | P43: C | Q43: D | R43: E | S43: F | T43: G | U43: H | V43: I | W43: J | X43: K | Y43: L | Z43: M | AA43: N | AB43: O | AC43: P
A44: ='Month (GWh)'!A48 -> 2003 | B44: January | C44: ='Month (GWh)'!C48 -> 0 | D44: ='Month (GWh)'!D48 -> 0 | E44: ='Month (GWh)'!E48 -> 6803 | F44: ='Month (GWh)'!F48 -> 0 | G44: ='Month (GWh)'!G48 -> 6803 | H44: ='Month (GWh)'!H48 -> 1191 | I44: ='Month (GWh)'!I48 -> 336 | J44: ='Month (GWh)'!J48 -> 0 | ... M44: ='Month (GWh)'!M48 -> 1620 | O44: =O26-2 -> 185 | P44: =$R$42&P$43&$O44 -> Calculation!C185 | Q44: =$R$42&Q$43&$O44 -> Calculation!D185 | R44: =$R$42&R$43&$O44 -> Calculation!E185 | S44: =$R$42&S$43&$O44 -> Calculation!F185 | T44: =$R$42&T$43&$O44 -> Calculation!G185 | U44: =$R$42&U$43&$O44 -> Calculation!H185 | V44: =$R$42&V$43&$O44 -> Calculation!I185 | W44: =$R$42&W$43&$O44 -> Calculation!J185 | ... AC44: =$R$42&AC$43&$O44 -> Calculation!P185
A45: ='Month (GWh)'!A49 -> 2003 | B45: February | C45: ='Month (GWh)'!C49+C44 -> 0 | D45: ='Month (GWh)'!D49+D44 -> 0 | E45: ='Month (GWh)'!E49+E44 -> 12743 | F45: ='Month (GWh)'!F49+F44 -> 0 | G45: ='Month (GWh)'!G49+G44 -> 12743 | H45: ='Month (GWh)'!H49+H44 -> 5825 | I45: ='Month (GWh)'!I49+I44 -> 654 | J45: ='Month (GWh)'!J49+J44 -> 0 | ... M45: ='Month (GWh)'!M49+M44 -> -960 | O45: =O44+12 -> 197 | P45: =$R$42&P$43&$O45 -> Calculation!C197 | Q45: =$R$42&Q$43&$O45 -> Calculation!D197 | R45: =$R$42&R$43&$O45 -> Calculation!E197 | S45: =$R$42&S$43&$O45 -> Calculation!F197 | T45: =$R$42&T$43&$O45 -> Calculation!G197 | U45: =$R$42&U$43&$O45 -> Calculation!H197 | V45: =$R$42&V$43&$O45 -> Calculation!I197 | W45: =$R$42&W$43&$O45 -> Calculation!J197 | ... AC45: =$R$42&AC$43&$O45 -> Calculation!P197
A46: ='Month (GWh)'!A50 -> 2003 | B46: March | C46: ='Month (GWh)'!C50+C45 -> 0 | D46: ='Month (GWh)'!D50+D45 -> 0 | E46: ='Month (GWh)'!E50+E45 -> 19642 | F46: ='Month (GWh)'!F50+F45 -> 0 | G46: ='Month (GWh)'!G50+G45 -> 19642 | H46: ='Month (GWh)'!H50+H45 -> 21610 | I46: ='Month (GWh)'!I50+I45 -> 1023 | J46: ='Month (GWh)'!J50+J45 -> 0 | ... M46: ='Month (GWh)'!M50+M45 -> -14223
A47: ='Month (GWh)'!A51 -> 2003 | B47: April | C47: ='Month (GWh)'!C51+C46 -> 0 | D47: ='Month (GWh)'!D51+D46 -> 0 | E47: ='Month (GWh)'!E51+E46 -> 24257 | F47: ='Month (GWh)'!F51+F46 -> 0 | G47: ='Month (GWh)'!G51+G46 -> 24257 | H47: ='Month (GWh)'!H51+H46 -> 39183 | I47: ='Month (GWh)'!I51+I46 -> 1348 | J47: ='Month (GWh)'!J51+J46 -> 0 | ... M47: ='Month (GWh)'!M51+M46 -> -31016
A48: ='Month (GWh)'!A52 -> 2003 | B48: May | C48: ='Month (GWh)'!C52+C47 -> 0 | D48: ='Month (GWh)'!D52+D47 -> 0 | E48: ='Month (GWh)'!E52+E47 -> 30065 | F48: ='Month (GWh)'!F52+F47 -> 0 | G48: ='Month (GWh)'!G52+G47 -> 30065 | H48: ='Month (GWh)'!H52+H47 -> 56581 | I48: ='Month (GWh)'!I52+I47 -> 1673 | J48: ='Month (GWh)'!J52+J47 -> 0 | ... M48: ='Month (GWh)'!M52+M47 -> -46379
A49: ='Month (GWh)'!A53 -> 2003 | B49: June | C49: ='Month (GWh)'!C53+C48 -> 0 | D49: ='Month (GWh)'!D53+D48 -> 0 | E49: ='Month (GWh)'!E53+E48 -> 33012 | F49: ='Month (GWh)'!F53+F48 -> 0 | G49: ='Month (GWh)'!G53+G48 -> 33012 | H49: ='Month (GWh)'!H53+H48 -> 74325 | I49: ='Month (GWh)'!I53+I48 -> 1744 | J49: ='Month (GWh)'!J53+J48 -> 0 | ... M49: ='Month (GWh)'!M53+M48 -> -64281
A50: ='Month (GWh)'!A54 -> 2003 | B50: July | C50: ='Month (GWh)'!C54+C49 -> 0 | D50: ='Month (GWh)'!D54+D49 -> 0 | E50: ='Month (GWh)'!E54+E49 -> 37157 | F50: ='Month (GWh)'!F54+F49 -> 0 | G50: ='Month (GWh)'!G54+G49 -> 37157 | H50: ='Month (GWh)'!H54+H49 -> 92077 | I50: ='Month (GWh)'!I54+I49 -> 1925 | J50: ='Month (GWh)'!J54+J49 -> 0 | ... M50: ='Month (GWh)'!M54+M49 -> -81226
A51: ='Month (GWh)'!A55 -> 2003 | B51: August | C51: ='Month (GWh)'!C55+C50 -> 0 | D51: ='Month (GWh)'!D55+D50 -> 0 | E51: ='Month (GWh)'!E55+E50 -> 40871 | F51: ='Month (GWh)'!F55+F50 -> 0 | G51: ='Month (GWh)'!G55+G50 -> 40871 | H51: ='Month (GWh)'!H55+H50 -> 110038 | I51: ='Month (GWh)'!I55+I50 -> 2142 | J51: ='Month (GWh)'!J55+J50 -> 0 | ... M51: ='Month (GWh)'!M55+M50 -> -98601
A52: ='Month (GWh)'!A56 -> 2003 | B52: September | C52: ='Month (GWh)'!C56+C51 -> 0 | D52: ='Month (GWh)'!D56+D51 -> 0 | E52: ='Month (GWh)'!E56+E51 -> 43561 | F52: ='Month (GWh)'!F56+F51 -> 0 | G52: ='Month (GWh)'!G56+G51 -> 43561 | H52: ='Month (GWh)'!H56+H51 -> 115023 | I52: ='Month (GWh)'!I56+I51 -> 2619 | J52: ='Month (GWh)'!J56+J51 -> 0 | ... M52: ='Month (GWh)'!M56+M51 -> -104510
A53: ='Month (GWh)'!A57 -> 2003 | B53: October | C53: ='Month (GWh)'!C57+C52 -> 0 | D53: ='Month (GWh)'!D57+D52 -> 0 | E53: ='Month (GWh)'!E57+E52 -> 52306 | F53: ='Month (GWh)'!F57+F52 -> 0 | G53: ='Month (GWh)'!G57+G52 -> 52306 | H53: ='Month (GWh)'!H57+H52 -> 122651 | I53: ='Month (GWh)'!I57+I52 -> 2894 | J53: ='Month (GWh)'!J57+J52 -> 0 | ... M53: ='Month (GWh)'!M57+M52 -> -107143
A54: ='Month (GWh)'!A58 -> 2003 | B54: November | C54: ='Month (GWh)'!C58+C53 -> 344 | D54: ='Month (GWh)'!D58+D53 -> 0 | E54: ='Month (GWh)'!E58+E53 -> 61252 | F54: ='Month (GWh)'!F58+F53 -> 0 | G54: ='Month (GWh)'!G58+G53 -> 61596 | H54: ='Month (GWh)'!H58+H53 -> 122651 | I54: ='Month (GWh)'!I58+I53 -> 3145 | J54: ='Month (GWh)'!J58+J53 -> 0 | ... M54: ='Month (GWh)'!M58+M53 -> -101587
A55: ='Month (GWh)'!A59 -> 2003 | B55: December | C55: ='Month (GWh)'!C59+C54 -> 4387 | D55: ='Month (GWh)'!D59+D54 -> 0 | E55: ='Month (GWh)'!E59+E54 -> 71755 | F55: ='Month (GWh)'!F59+F54 -> 0 | G55: ='Month (GWh)'!G59+G54 -> 76142 | H55: ='Month (GWh)'!H59+H54 -> 122651 | I55: ='Month (GWh)'!I59+I54 -> 3424 | J55: ='Month (GWh)'!J59+J54 -> 0 | ... M55: ='Month (GWh)'!M59+M54 -> -90739
A56: ='Month (GWh)'!A60 -> 2004 | B56: January | C56: ='Month (GWh)'!C60 -> 6478 | D56: ='Month (GWh)'!D60 -> 0 | E56: ='Month (GWh)'!E60 -> 10174 | F56: ='Month (GWh)'!F60 -> 0 | G56: ='Month (GWh)'!G60 -> 16652 | H56: ='Month (GWh)'!H60 -> 0 | I56: ='Month (GWh)'!I60 -> 263 | J56: ='Month (GWh)'!J60 -> 0 | ... M56: ='Month (GWh)'!M60 -> 13258
A57: ='Month (GWh)'!A61 -> 2004 | B57: February | C57: ='Month (GWh)'!C61+C56 -> 12245 | D57: ='Month (GWh)'!D61+D56 -> 0 | E57: ='Month (GWh)'!E61+E56 -> 19717 | F57: ='Month (GWh)'!F61+F56 -> 0 | G57: ='Month (GWh)'!G61+G56 -> 31962 | H57: ='Month (GWh)'!H61+H56 -> 0 | I57: ='Month (GWh)'!I61+I56 -> 550 | J57: ='Month (GWh)'!J61+J56 -> 0 | ... M57: ='Month (GWh)'!M61+M56 -> 25137
A58: ='Month (GWh)'!A62 -> 2004 | B58: March | C58: ='Month (GWh)'!C62+C57 -> 14475 | D58: ='Month (GWh)'!D62+D57 -> 0 | E58: ='Month (GWh)'!E62+E57 -> 30147 | F58: ='Month (GWh)'!F62+F57 -> 0 | G58: ='Month (GWh)'!G62+G57 -> 44622 | H58: ='Month (GWh)'!H62+H57 -> 1045 | I58: ='Month (GWh)'!I62+I57 -> 815 | J58: ='Month (GWh)'!J62+J57 -> 0 | ... M58: ='Month (GWh)'!M62+M57 -> 32844
A59: ='Month (GWh)'!A63 -> 2004 | B59: April | C59: ='Month (GWh)'!C63+C58 -> 14475 | D59: ='Month (GWh)'!D63+D58 -> 0 | E59: ='Month (GWh)'!E63+E58 -> 35533 | F59: ='Month (GWh)'!F63+F58 -> 0 | G59: ='Month (GWh)'!G63+G58 -> 50008 | H59: ='Month (GWh)'!H63+H58 -> 7828 | I59: ='Month (GWh)'!I63+I58 -> 1071 | J59: ='Month (GWh)'!J63+J58 -> 0 | ... M59: ='Month (GWh)'!M63+M58 -> 27816
A60: ='Month (GWh)'!A64 -> 2004 | B60: May | C60: ='Month (GWh)'!C64+C59 -> 14475 | D60: ='Month (GWh)'!D64+D59 -> 0 | E60: ='Month (GWh)'!E64+E59 -> 41851 | F60: ='Month (GWh)'!F64+F59 -> 0 | G60: ='Month (GWh)'!G64+G59 -> 56326 | H60: ='Month (GWh)'!H64+H59 -> 20097 | I60: ='Month (GWh)'!I64+I59 -> 1362 | J60: ='Month (GWh)'!J64+J59 -> 0 | ... M60: ='Month (GWh)'!M64+M59 -> 18273
A61: ='Month (GWh)'!A65 -> 2004 | B61: June | C61: ='Month (GWh)'!C65+C60 -> 14475 | D61: ='Month (GWh)'!D65+D60 -> 0 | E61: ='Month (GWh)'!E65+E60 -> 45201 | F61: ='Month (GWh)'!F65+F60 -> 0 | G61: ='Month (GWh)'!G65+G60 -> 59676 | H61: ='Month (GWh)'!H65+H60 -> 34726 | I61: ='Month (GWh)'!I65+I60 -> 1599 | J61: ='Month (GWh)'!J65+J60 -> 0 | ... M61: ='Month (GWh)'!M65+M60 -> 3828
A62: ='Month (GWh)'!A66 -> 2004 | B62: July | C62: ='Month (GWh)'!C66+C61 -> 14475 | D62: ='Month (GWh)'!D66+D61 -> 0 | E62: ='Month (GWh)'!E66+E61 -> 51440 | F62: ='Month (GWh)'!F66+F61 -> 0 | G62: ='Month (GWh)'!G66+G61 -> 65915 | H62: ='Month (GWh)'!H66+H61 -> 51122 | I62: ='Month (GWh)'!I66+I61 -> 1842 | J62: ='Month (GWh)'!J66+J61 -> 0 | ... M62: ='Month (GWh)'!M66+M61 -> -9543
A63: ='Month (GWh)'!A67 -> 2004 | B63: August | C63: ='Month (GWh)'!C67+C62 -> 14475 | D63: ='Month (GWh)'!D67+D62 -> 0 | E63: ='Month (GWh)'!E67+E62 -> 56392 | F63: ='Month (GWh)'!F67+F62 -> 0 | G63: ='Month (GWh)'!G67+G62 -> 70867 | H63: ='Month (GWh)'!H67+H62 -> 59278 | I63: ='Month (GWh)'!I67+I62 -> 2110 | J63: ='Month (GWh)'!J67+J62 -> 0 | ... M63: ='Month (GWh)'!M67+M62 -> -16035
A64: ='Month (GWh)'!A68 -> 2004 | B64: September | C64: ='Month (GWh)'!C68+C63 -> 14699 | D64: ='Month (GWh)'!D68+D63 -> 0 | E64: ='Month (GWh)'!E68+E63 -> 61192 | F64: ='Month (GWh)'!F68+F63 -> 0 | G64: ='Month (GWh)'!G68+G63 -> 75891 | H64: ='Month (GWh)'!H68+H63 -> 60060 | I64: ='Month (GWh)'!I68+I63 -> 2217 | J64: ='Month (GWh)'!J68+J63 -> 0 | ... M64: ='Month (GWh)'!M68+M63 -> -15066
A65: ='Month (GWh)'!A69 -> 2004 | B65: October | C65: ='Month (GWh)'!C69+C64 -> 17206 | D65: ='Month (GWh)'!D69+D64 -> 0 | E65: ='Month (GWh)'!E69+E64 -> 69572 | F65: ='Month (GWh)'!F69+F64 -> 0 | G65: ='Month (GWh)'!G69+G64 -> 86778 | H65: ='Month (GWh)'!H69+H64 -> 60060 | I65: ='Month (GWh)'!I69+I64 -> 2402 | J65: ='Month (GWh)'!J69+J64 -> 0 | ... M65: ='Month (GWh)'!M69+M64 -> -8086
A66: ='Month (GWh)'!A70 -> 2004 | B66: November | C66: ='Month (GWh)'!C70+C65 -> 20705 | D66: ='Month (GWh)'!D70+D65 -> 0 | E66: ='Month (GWh)'!E70+E65 -> 81939 | F66: ='Month (GWh)'!F70+F65 -> 0 | G66: ='Month (GWh)'!G70+G65 -> 102644 | H66: ='Month (GWh)'!H70+H65 -> 60060 | I66: ='Month (GWh)'!I70+I65 -> 2643 | J66: ='Month (GWh)'!J70+J65 -> 0 | ... M66: ='Month (GWh)'!M70+M65 -> 4114
A67: ='Month (GWh)'!A71 -> 2004 | B67: December | C67: ='Month (GWh)'!C71+C66 -> 25592 | D67: ='Month (GWh)'!D71+D66 -> 0 | E67: ='Month (GWh)'!E71+E66 -> 95363 | F67: ='Month (GWh)'!F71+F66 -> 0 | G67: ='Month (GWh)'!G71+G66 -> 120955 | H67: ='Month (GWh)'!H71+H66 -> 60060 | I67: ='Month (GWh)'!I71+I66 -> 2887 | J67: ='Month (GWh)'!J71+J66 -> 0 | ... M67: ='Month (GWh)'!M71+M66 -> 18924
A68: ='Month (GWh)'!A72 -> 2005 | B68: January | C68: ='Month (GWh)'!C72 -> 4404 | D68: ='Month (GWh)'!D72 -> 0 | E68: ='Month (GWh)'!E72 -> 13020 | F68: ='Month (GWh)'!F72 -> 0 | G68: ='Month (GWh)'!G72 -> 17424 | H68: ='Month (GWh)'!H72 -> 0 | I68: ='Month (GWh)'!I72 -> 214 | J68: ='Month (GWh)'!J72 -> 0 | ... M68: ='Month (GWh)'!M72 -> 14134
A69: ='Month (GWh)'!A73 -> 2005 | B69: February | C69: ='Month (GWh)'!C73+C68 -> 8921 | D69: ='Month (GWh)'!D73+D68 -> 0 | E69: ='Month (GWh)'!E73+E68 -> 24976 | F69: ='Month (GWh)'!F73+F68 -> 0 | G69: ='Month (GWh)'!G73+G68 -> 33897 | H69: ='Month (GWh)'!H73+H68 -> 0 | I69: ='Month (GWh)'!I73+I68 -> 329 | J69: ='Month (GWh)'!J73+J68 -> 0 | ... M69: ='Month (GWh)'!M73+M68 -> 27320
A70: ='Month (GWh)'!A74 -> 2005 | B70: March | C70: ='Month (GWh)'!C74+C69 -> 9924 | D70: ='Month (GWh)'!D74+D69 -> 0 | E70: ='Month (GWh)'!E74+E69 -> 38222 | F70: ='Month (GWh)'!F74+F69 -> 0 | G70: ='Month (GWh)'!G74+G69 -> 48146 | H70: ='Month (GWh)'!H74+H69 -> 1919 | I70: ='Month (GWh)'!I74+I69 -> 878 | J70: ='Month (GWh)'!J74+J69 -> 0 | ... M70: ='Month (GWh)'!M74+M69 -> 35871
A71: ='Month (GWh)'!A75 -> 2005 | B71: April | C71: ='Month (GWh)'!C75+C70 -> 9924 | D71: ='Month (GWh)'!D75+D70 -> 0 | E71: ='Month (GWh)'!E75+E70 -> 50162 | F71: ='Month (GWh)'!F75+F70 -> 0 | G71: ='Month (GWh)'!G75+G70 -> 60086 | H71: ='Month (GWh)'!H75+H70 -> 6951 | I71: ='Month (GWh)'!I75+I70 -> 1328 | J71: ='Month (GWh)'!J75+J70 -> 0 | ... M71: ='Month (GWh)'!M75+M70 -> 38875
A72: ='Month (GWh)'!A76 -> 2005 | B72: May | C72: ='Month (GWh)'!C76+C71 -> 9924 | D72: ='Month (GWh)'!D76+D71 -> 0 | E72: ='Month (GWh)'!E76+E71 -> 62124 | F72: ='Month (GWh)'!F76+F71 -> 0 | G72: ='Month (GWh)'!G76+G71 -> 72048 | H72: ='Month (GWh)'!H76+H71 -> 14404 | I72: ='Month (GWh)'!I76+I71 -> 1746 | J72: ='Month (GWh)'!J76+J71 -> 0 | ... M72: ='Month (GWh)'!M76+M71 -> 39445
A73: ='Month (GWh)'!A77 -> 2005 | B73: June | C73: ='Month (GWh)'!C77+C72 -> 9924 | D73: ='Month (GWh)'!D77+D72 -> 0 | E73: ='Month (GWh)'!E77+E72 -> 62788 | F73: ='Month (GWh)'!F77+F72 -> 0 | G73: ='Month (GWh)'!G77+G72 -> 72712 | H73: ='Month (GWh)'!H77+H72 -> 21799 | I73: ='Month (GWh)'!I77+I72 -> 2118 | J73: ='Month (GWh)'!J77+J72 -> 0 | ... M73: ='Month (GWh)'!M77+M72 -> 29307
A74: ='Month (GWh)'!A78 -> 2005 | B74: July | C74: ='Month (GWh)'!C78+C73 -> 9963 | D74: ='Month (GWh)'!D78+D73 -> 0 | E74: ='Month (GWh)'!E78+E73 -> 67926 | F74: ='Month (GWh)'!F78+F73 -> 0 | G74: ='Month (GWh)'!G78+G73 -> 77889 | H74: ='Month (GWh)'!H78+H73 -> 24587 | I74: ='Month (GWh)'!I78+I73 -> 2537 | J74: ='Month (GWh)'!J78+J73 -> 0 | ... M74: ='Month (GWh)'!M78+M73 -> 28996
A75: ='Month (GWh)'!A79 -> 2005 | B75: August | C75: ='Month (GWh)'!C79+C74 -> 11195 | D75: ='Month (GWh)'!D79+D74 -> 0 | E75: ='Month (GWh)'!E79+E74 -> 80743 | F75: ='Month (GWh)'!F79+F74 -> 875 | G75: ='Month (GWh)'!G79+G74 -> 92813 | H75: ='Month (GWh)'!H79+H74 -> 25476 | I75: ='Month (GWh)'!I79+I74 -> 2888 | J75: ='Month (GWh)'!J79+J74 -> 0 | ... M75: ='Month (GWh)'!M79+M74 -> 39025
A76: ='Month (GWh)'!A80 -> 2005 | B76: September | C76: ='Month (GWh)'!C80+C75 -> 11195 | D76: ='Month (GWh)'!D80+D75 -> 0 | E76: ='Month (GWh)'!E80+E75 -> 92361 | F76: ='Month (GWh)'!F80+F75 -> 1224 | G76: ='Month (GWh)'!G80+G75 -> 104780 | H76: ='Month (GWh)'!H80+H75 -> 34077 | I76: ='Month (GWh)'!I80+I75 -> 3069 | J76: ='Month (GWh)'!J80+J75 -> 0 | ... M76: ='Month (GWh)'!M80+M75 -> 38575
A77: ='Month (GWh)'!A81 -> 2005 | B77: October | C77: ='Month (GWh)'!C81+C76 -> 11600 | D77: ='Month (GWh)'!D81+D76 -> 0 | E77: ='Month (GWh)'!E81+E76 -> 102800 | F77: ='Month (GWh)'!F81+F76 -> 1703 | G77: ='Month (GWh)'!G81+G76 -> 116103 | H77: ='Month (GWh)'!H81+H76 -> 36491 | I77: ='Month (GWh)'!I81+I76 -> 3485 | J77: ='Month (GWh)'!J81+J76 -> 0 | ... M77: ='Month (GWh)'!M81+M76 -> 43779
A78: ='Month (GWh)'!A82 -> 2005 | B78: November | C78: ='Month (GWh)'!C82+C77 -> 17667 | D78: ='Month (GWh)'!D82+D77 -> 0 | E78: ='Month (GWh)'!E82+E77 -> 115003 | F78: ='Month (GWh)'!F82+F77 -> 2435 | G78: ='Month (GWh)'!G82+G77 -> 135105 | H78: ='Month (GWh)'!H82+H77 -> 36640 | I78: ='Month (GWh)'!I82+I77 -> 3873 | J78: ='Month (GWh)'!J82+J77 -> 0 | ... M78: ='Month (GWh)'!M82+M77 -> 58940
A79: ='Month (GWh)'!A83 -> 2005 | B79: December | C79: ='Month (GWh)'!C83+C78 -> 24108 | D79: ='Month (GWh)'!D83+D78 -> 0 | E79: ='Month (GWh)'!E83+E78 -> 127894 | F79: ='Month (GWh)'!F83+F78 -> 5453 | G79: ='Month (GWh)'!G83+G78 -> 157455 | H79: ='Month (GWh)'!H83+H78 -> 36640 | I79: ='Month (GWh)'!I83+I78 -> 4261 | J79: ='Month (GWh)'!J83+J78 -> 0 | ... M79: ='Month (GWh)'!M83+M78 -> 77147
A80: ='Month (GWh)'!A84 -> 2006 | B80: January | C80: ='Month (GWh)'!C84 -> 7685 | D80: ='Month (GWh)'!D84 -> 0 | E80: ='Month (GWh)'!E84 -> 12227 | F80: ='Month (GWh)'!F84 -> 3084 | G80: ='Month (GWh)'!G84 -> 22996 | H80: ='Month (GWh)'!H84 -> 0 | I80: ='Month (GWh)'!I84 -> 380 | J80: ='Month (GWh)'!J84 -> 0 | ... M80: ='Month (GWh)'!M84 -> 19008
A81: ='Month (GWh)'!A85 -> 2006 | B81: February | C81: ='Month (GWh)'!C85+C80 -> 18254 | D81: ='Month (GWh)'!D85+D80 -> 0 | E81: ='Month (GWh)'!E85+E80 -> 23223 | F81: ='Month (GWh)'!F85+F80 -> 6615 | G81: ='Month (GWh)'!G85+G80 -> 48092 | H81: ='Month (GWh)'!H85+H80 -> 0 | I81: ='Month (GWh)'!I85+I80 -> 734 | J81: ='Month (GWh)'!J85+J80 -> 0 | ... M81: ='Month (GWh)'!M85+M80 -> 40349
A82: ='Month (GWh)'!A86 -> 2006 | B82: March | C82: ='Month (GWh)'!C86+C81 -> 26660 | D82: ='Month (GWh)'!D86+D81 -> 0 | E82: ='Month (GWh)'!E86+E81 -> 34476 | F82: ='Month (GWh)'!F86+F81 -> 10845 | G82: ='Month (GWh)'!G86+G81 -> 71981 | H82: ='Month (GWh)'!H86+H81 -> 0 | I82: ='Month (GWh)'!I86+I81 -> 1093 | J82: ='Month (GWh)'!J86+J81 -> 0 | ... M82: ='Month (GWh)'!M86+M81 -> 59823
A83: ='Month (GWh)'!A87 -> 2006 | B83: April | C83: ='Month (GWh)'!C87+C82 -> 27658 | D83: ='Month (GWh)'!D87+D82 -> 0 | E83: ='Month (GWh)'!E87+E82 -> 44505 | F83: ='Month (GWh)'!F87+F82 -> 14664 | G83: ='Month (GWh)'!G87+G82 -> 86827 | H83: ='Month (GWh)'!H87+H82 -> 3938 | I83: ='Month (GWh)'!I87+I82 -> 1375 | J83: ='Month (GWh)'!J87+J82 -> 0 | ... M83: ='Month (GWh)'!M87+M82 -> 66273
A84: ='Month (GWh)'!A88 -> 2006 | B84: May | C84: ='Month (GWh)'!C88+C83 -> 27658 | D84: ='Month (GWh)'!D88+D83 -> 0 | E84: ='Month (GWh)'!E88+E83 -> 54653 | F84: ='Month (GWh)'!F88+F83 -> 16459 | G84: ='Month (GWh)'!G88+G83 -> 98770 | H84: ='Month (GWh)'!H88+H83 -> 14176 | I84: ='Month (GWh)'!I88+I83 -> 1639 | J84: ='Month (GWh)'!J88+J83 -> 0 | ... M84: ='Month (GWh)'!M88+M83 -> 63427
A85: ='Month (GWh)'!A89 -> 2006 | B85: June | C85: ='Month (GWh)'!C89+C84 -> 27658 | D85: ='Month (GWh)'!D89+D84 -> 0 | E85: ='Month (GWh)'!E89+E84 -> 59405 | F85: ='Month (GWh)'!F89+F84 -> 18269 | G85: ='Month (GWh)'!G89+G84 -> 105332 | H85: ='Month (GWh)'!H89+H84 -> 20487 | I85: ='Month (GWh)'!I89+I84 -> 1938 | J85: ='Month (GWh)'!J89+J84 -> 0 | ... M85: ='Month (GWh)'!M89+M84 -> 59352
A86: ='Month (GWh)'!A90 -> 2006 | B86: July | C86: ='Month (GWh)'!C90+C85 -> 28094 | D86: ='Month (GWh)'!D90+D85 -> 0 | E86: ='Month (GWh)'!E90+E85 -> 69884 | F86: ='Month (GWh)'!F90+F85 -> 20556 | G86: ='Month (GWh)'!G90+G85 -> 118534 | H86: ='Month (GWh)'!H90+H85 -> 29606 | I86: ='Month (GWh)'!I90+I85 -> 2230 | J86: ='Month (GWh)'!J90+J85 -> 0 | ... M86: ='Month (GWh)'!M90+M85 -> 59411
A87: ='Month (GWh)'!A91 -> 2006 | B87: August | C87: ='Month (GWh)'!C91+C86 -> 28429 | D87: ='Month (GWh)'!D91+D86 -> 0 | E87: ='Month (GWh)'!E91+E86 -> 79522 | F87: ='Month (GWh)'!F91+F86 -> 23686 | G87: ='Month (GWh)'!G91+G86 -> 131637 | H87: ='Month (GWh)'!H91+H86 -> 36266 | I87: ='Month (GWh)'!I91+I86 -> 2404 | J87: ='Month (GWh)'!J91+J86 -> 0 | ... M87: ='Month (GWh)'!M91+M86 -> 61767
A88: ='Month (GWh)'!A92 -> 2006 | B88: September | C88: ='Month (GWh)'!C92+C87 -> 28429 | D88: ='Month (GWh)'!D92+D87 -> 0 | E88: ='Month (GWh)'!E92+E87 -> 89974 | F88: ='Month (GWh)'!F92+F87 -> 25317 | G88: ='Month (GWh)'!G92+G87 -> 143720 | H88: ='Month (GWh)'!H92+H87 -> 48739 | I88: ='Month (GWh)'!I92+I87 -> 2462 | J88: ='Month (GWh)'!J92+J87 -> 0 | ... M88: ='Month (GWh)'!M92+M87 -> 57497
A89: ='Month (GWh)'!A93 -> 2006 | B89: October | C89: ='Month (GWh)'!C93+C88 -> 28429 | D89: ='Month (GWh)'!D93+D88 -> 0 | E89: ='Month (GWh)'!E93+E88 -> 107285 | F89: ='Month (GWh)'!F93+F88 -> 29391 | G89: ='Month (GWh)'!G93+G88 -> 165105 | H89: ='Month (GWh)'!H93+H88 -> 57930 | I89: ='Month (GWh)'!I93+I88 -> 2744 | J89: ='Month (GWh)'!J93+J88 -> 0 | ... M89: ='Month (GWh)'!M93+M88 -> 65646
A90: ='Month (GWh)'!A94 -> 2006 | B90: November | C90: ='Month (GWh)'!C94+C89 -> 29278 | D90: ='Month (GWh)'!D94+D89 -> 738 | E90: ='Month (GWh)'!E94+E89 -> 131030 | F90: ='Month (GWh)'!F94+F89 -> 33459 | G90: ='Month (GWh)'!G94+G89 -> 194505 | H90: ='Month (GWh)'!H94+H89 -> 59414 | I90: ='Month (GWh)'!I94+I89 -> 3057 | J90: ='Month (GWh)'!J94+J89 -> 0 | ... M90: ='Month (GWh)'!M94+M89 -> 89051
A91: ='Month (GWh)'!A95 -> 2006 | B91: December | C91: ='Month (GWh)'!C95+C90 -> 30505 | D91: ='Month (GWh)'!D95+D90 -> 9135 | E91: ='Month (GWh)'!E95+E90 -> 157036 | F91: ='Month (GWh)'!F95+F90 -> 37576 | G91: ='Month (GWh)'!G95+G90 -> 234252 | H91: ='Month (GWh)'!H95+H90 -> 60194 | I91: ='Month (GWh)'!I95+I90 -> 3371 | J91: ='Month (GWh)'!J95+J90 -> 0 | ... M91: ='Month (GWh)'!M95+M90 -> 123440
A92: ='Month (GWh)'!A96 -> 2007 | B92: January | C92: ='Month (GWh)'!C96 -> 2006 | D92: ='Month (GWh)'!D96 -> 8247.3057 | E92: ='Month (GWh)'!E96 -> 23678.502 | F92: ='Month (GWh)'!F96 -> 4030.5224 | G92: ='Month (GWh)'!G96 -> 37962.33 | H92: ='Month (GWh)'!H96 -> 796 | I92: ='Month (GWh)'!I96 -> 310.25323 | J92: ='Month (GWh)'!J96 -> 0 | ... M92: ='Month (GWh)'!M96 -> 32283.582
A93: ='Month (GWh)'!A97 -> 2007 | B93: February | C93: ='Month (GWh)'!C97+C92 -> 3475 | D93: ='Month (GWh)'!D97+D92 -> 15459.499 | E93: ='Month (GWh)'!E97+E92 -> 49438.523 | F93: ='Month (GWh)'!F97+F92 -> 7236.5157 | G93: ='Month (GWh)'!G97+G92 -> 75609.538 | H93: ='Month (GWh)'!H97+H92 -> 1856 | I93: ='Month (GWh)'!I97+I92 -> 570.73298 | J93: ='Month (GWh)'!J97+J92 -> 0 | ... M93: ='Month (GWh)'!M97+M92 -> 64168.834
A94: ='Month (GWh)'!A98 -> 2007 | B94: March | C94: ='Month (GWh)'!C98+C93 -> 3480 | D94: ='Month (GWh)'!D98+D93 -> 23417.015 | E94: ='Month (GWh)'!E98+E93 -> 76742.855 | F94: ='Month (GWh)'!F98+F93 -> 8144.2328 | G94: ='Month (GWh)'!G98+G93 -> 111784.1 | H94: ='Month (GWh)'!H98+H93 -> 6136 | I94: ='Month (GWh)'!I98+I93 -> 848.34767 | J94: ='Month (GWh)'!J98+J93 -> 0 | ... M94: ='Month (GWh)'!M98+M93 -> 91172.456
A95: ='Month (GWh)'!A99 -> 2007 | B95: April | C95: ='Month (GWh)'!C99+C94 -> 3480 | D95: ='Month (GWh)'!D99+D94 -> 30437.769 | E95: ='Month (GWh)'!E99+E94 -> 99190.163 | F95: ='Month (GWh)'!F99+F94 -> 8334.8197 | G95: ='Month (GWh)'!G99+G94 -> 141442.75 | H95: ='Month (GWh)'!H99+H94 -> 17506 | I95: ='Month (GWh)'!I99+I94 -> 1170.4352 | J95: ='Month (GWh)'!J99+J94 -> 0 | ... M95: ='Month (GWh)'!M99+M94 -> 105321.57
A96: ='Month (GWh)'!A100 -> 2007 | B96: May | C96: ='Month (GWh)'!C100+C95 -> 3480 | D96: ='Month (GWh)'!D100+D95 -> 34439.932 | E96: ='Month (GWh)'!E100+E95 -> 111588.9 | F96: ='Month (GWh)'!F100+F95 -> 8629.1724 | G96: ='Month (GWh)'!G100+G95 -> 158138 | H96: ='Month (GWh)'!H100+H95 -> 27541 | I96: ='Month (GWh)'!I100+I95 -> 1489.0675 | J96: ='Month (GWh)'!J100+J95 -> 0 | ... M96: ='Month (GWh)'!M100+M95 -> 108111.59
A97: ='Month (GWh)'!A101 -> 2007 | B97: June | C97: ='Month (GWh)'!C101+C96 -> 3957 | D97: ='Month (GWh)'!D101+D96 -> 38344.274 | E97: ='Month (GWh)'!E101+E96 -> 121946.03 | F97: ='Month (GWh)'!F101+F96 -> 8910.1724 | G97: ='Month (GWh)'!G101+G96 -> 173157.48 | H97: ='Month (GWh)'!H101+H96 -> 30304 | I97: ='Month (GWh)'!I101+I96 -> 1850.4507 | J97: ='Month (GWh)'!J101+J96 -> 0 | ... M97: ='Month (GWh)'!M101+M96 -> 116060.27
A98: ='Month (GWh)'!A102 -> 2007 | B98: July | C98: ='Month (GWh)'!C102+C97 -> 3957 | D98: ='Month (GWh)'!D102+D97 -> 42355.863 | E98: ='Month (GWh)'!E102+E97 -> 132173.31 | F98: ='Month (GWh)'!F102+F97 -> 9155.7872 | G98: ='Month (GWh)'!G102+G97 -> 187641.96 | H98: ='Month (GWh)'!H102+H97 -> 38520 | I98: ='Month (GWh)'!I102+I97 -> 2520.9698 | J98: ='Month (GWh)'!J102+J97 -> 0 | ... M98: ='Month (GWh)'!M102+M97 -> 117536.88
A99: ='Month (GWh)'!A103 -> 2007 | B99: August | C99: ='Month (GWh)'!C103+C98 -> 4017 | D99: ='Month (GWh)'!D103+D98 -> 46395.059 | E99: ='Month (GWh)'!E103+E98 -> 144787.2 | F99: ='Month (GWh)'!F103+F98 -> 9398.7872 | G99: ='Month (GWh)'!G103+G98 -> 204598.05 | H99: ='Month (GWh)'!H103+H98 -> 41514 | I99: ='Month (GWh)'!I103+I98 -> 3369.0375 | J99: ='Month (GWh)'!J103+J98 -> 0 | ... M99: ='Month (GWh)'!M103+M98 -> 126612.32
A100: ='Month (GWh)'!A104 -> 2007 | B100: September | C100: ='Month (GWh)'!C104+C99 -> 4025 | D100: ='Month (GWh)'!D104+D99 -> 49155.578 | E100: ='Month (GWh)'!E104+E99 -> 159046.92 | F100: ='Month (GWh)'!F104+F99 -> 9706.7872 | G100: ='Month (GWh)'!G104+G99 -> 221934.28 | H100: ='Month (GWh)'!H104+H99 -> 43343 | I100: ='Month (GWh)'!I104+I99 -> 3605.0149 | J100: ='Month (GWh)'!J104+J99 -> 24.200211 | ... M100: ='Month (GWh)'!M104+M99 -> 137687.03
A101: ='Month (GWh)'!A105 -> 2007 | B101: October | C101: ='Month (GWh)'!C105+C100 -> 4333 | D101: ='Month (GWh)'!D105+D100 -> 53234.905 | E101: ='Month (GWh)'!E105+E100 -> 184043.82 | F101: ='Month (GWh)'!F105+F100 -> 10481.667 | G101: ='Month (GWh)'!G105+G100 -> 252093.39 | H101: ='Month (GWh)'!H105+H100 -> 49112 | I101: ='Month (GWh)'!I105+I100 -> 4507.1789 | J101: ='Month (GWh)'!J105+J100 -> 67.245149 | ... M101: ='Month (GWh)'!M105+M100 -> 156764.85
...

Sheet Main Table (MMm3)
A1: GAS
A2: TABLE 4.3 Natural gas imports and exports | P2: Million cubic metres
F5: Imports | K5: Exports
D6: From | E6: From the | F6: From | G6: Liquefied | H6: Total | J6: To | K6: To the | L6: To | M6: To the | N6: Total | P6: Net
D7: Belgium1 | E7: Netherlands2 | F7: Norway3 | G7: Natural Gas4 | H7: Imports | J7: Belgium1 | K7: Netherlands5 | L7: Norway6 | M7: Republic of | N7: Exports | P7: Imports7
M8: Ireland
A9: 2011 | D9: ='Annual (Million m3)'!B23 -> 368.40134 | E9: ='Annual (Million m3)'!C23 -> 6446.9833 | F9: ='Annual (Million m3)'!D23 -> 21203.456 | G9: ='Annual (Million m3)'!E23 -> 25297.299 | H9: ='Annual (Million m3)'!F23 -> 53316.14 | J9: =SUM('Annual (Million m3)'!G23) -> 9279.0221 | K9: =SUM('Annual (Million m3)'!H23) -> 1386.6277 | L9: =SUM('Annual (Million m3)'!I23) -> 10.8035 | M9: =SUM('Annual (Million m3)'!J23) -> 5287.0888 | N9: =SUM('Annual (Million m3)'!K23) -> 15963.542 | P9: ='Annual (Million m3)'!L23 -> 37352.598
A10: 2012 | D10: ='Annual (Million m3)'!B24 -> 1310.0102 | E10: ='Annual (Million m3)'!C24 -> 7296.7934 | F10: ='Annual (Million m3)'!D24 -> 26831.788 | G10: ='Annual (Million m3)'!E24 -> 13820.375 | H10: ='Annual (Million m3)'!F24 -> 49258.966 | J10: ='Annual (Million m3)'!G24 -> 4627.688 | K10: ='Annual (Million m3)'!H24 -> 2052.5158 | L10: ='Annual (Million m3)'!I24 -> 4.43866 | M10: ='Annual (Million m3)'!J24 -> 5280.1833 | N10: ='Annual (Million m3)'!K24 -> 11964.826 | P10: ='Annual (Million m3)'!L24 -> 37294.141
A11: 2013 | D11: ='Annual (Million m3)'!B25 -> 3307.1542 | E11: ='Annual (Million m3)'!C25 -> 7597.9429 | F11: ='Annual (Million m3)'!D25 -> 27865.716 | G11: ='Annual (Million m3)'!E25 -> 9417.5361 | H11: ='Annual (Million m3)'!F25 -> 48188.349 | J11: ='Annual (Million m3)'!G25 -> 2519.3158 | K11: ='Annual (Million m3)'!H25 -> 1561.7248 | L11: ='Annual (Million m3)'!I25 -> 1.75972 | M11: ='Annual (Million m3)'!J25 -> 4904.5514 | N11: ='Annual (Million m3)'!K25 -> 8987.3517 | P11: ='Annual (Million m3)'!L25 -> 39200.998
A12: 2014 | D12: ='Annual (Million m3)'!B26 -> 364.9281 | E12: ='Annual (Million m3)'!C26 -> 6567.1705 | F12: ='Annual (Million m3)'!D26 -> 24511.793 | G12: ='Annual (Million m3)'!E26 -> 11312.031 | H12: ='Annual (Million m3)'!F26 -> 42755.923 | J12: ='Annual (Million m3)'!G26 -> 4403.3287 | K12: ='Annual (Million m3)'!H26 -> 1664.6366 | L12: ='Annual (Million m3)'!I26 -> 1.66952 | M12: ='Annual (Million m3)'!J26 -> 4492.4939 | N12: ='Annual (Million m3)'!K26 -> 10562.129 | P12: ='Annual (Million m3)'!L26 -> 32193.794
A13: 2015 | D13: ='Annual (Million m3)'!B27 -> 195.97312 | E13: ='Annual (Million m3)'!C27 -> 3307.0814 | F13: ='Annual (Million m3)'!D27 -> 27330.844 | G13: ='Annual (Million m3)'!E27 -> 13649.299 | H13: ='Annual (Million m3)'!F27 -> 44483.198 | J13: ='Annual (Million m3)'!G27 -> 7740.7003 | K13: ='Annual (Million m3)'!H27 -> 1822.8278 | L13: ='Annual (Million m3)'!I27 -> 0.33046 | M13: ='Annual (Million m3)'!J27 -> 4564.4694 | N13: ='Annual (Million m3)'!K27 -> 14128.328 | P13: ='Annual (Million m3)'!L27 -> 30354.87
A14: Per cent change | D14: -46.3 | E14: -49.6 | F14: +11.5 | G14: +20.7 | H14: +4.0 | J14: +75.8 | K14: +9.5 | L14: -80.2 | M14: +1.6 | N14: +33.8 | P14: -5.7
A15: 2015 | B15: January - | C15: February | D15: =SUM('Month (Million m3)'!C192:C193) -> 173.98494 | E15: =SUM('Month (Million m3)'!D192:D193) -> 1527.5089 | F15: =SUM('Month (Million m3)'!E192:E193) -> 5854.2508 | G15: =SUM('Month (Million m3)'!F192:F193) -> 1945.8323 | H15: =SUM('Month (Million m3)'!G192:G193) -> 9501.5768 | J15: =SUM('Month (Million m3)'!H192:H193) -> 219.46626 | K15: =SUM('Month (Million m3)'!I192:I193) -> 340.88924 | L15: =SUM('Month (Million m3)'!J192:J193) -> 0.03198 | M15: =SUM('Month (Million m3)'!K192:K193) -> 797.13891 | N15: =SUM('Month (Million m3)'!L192:L193) -> 1357.5264 | P15: =SUM('Month (Million m3)'!M192:M193) -> 8144.0504
A16: 2016 | B16: January - | C16: February | D16: =SUM('Month (Million m3)'!C204:C205) -> 42.961762 | E16: =SUM('Month (Million m3)'!D204:D205) -> 1269.1511 | F16: =SUM('Month (Million m3)'!E204:E205) -> 5797.9932 | G16: =SUM('Month (Million m3)'!F204:F205) -> 2133.4924 | H16: =SUM('Month (Million m3)'!G204:G205) -> 9243.5985 | J16: =SUM('Month (Million m3)'!H204:H205) -> 330.63713 | K16: =SUM('Month (Million m3)'!I204:I205) -> 328.86716 | L16: =SUM('Month (Million m3)'!J204:J205) -> 0.33046 | M16: =SUM('Month (Million m3)'!K204:K205) -> 521.20645 | N16: =SUM('Month (Million m3)'!L204:L205) -> 1181.0412 | P16: =SUM('Month (Million m3)'!M204:M205) -> 8062.5573
A17: Per cent change | D17: -75.3 | E17: -16.9 | F17: -1.0 | G17: +9.6 | H17: -2.7 | J17: +50.7 | K17: -3.5 | L17: (+) | M17: -34.6 | N17: -13.0 | P17: -1.0
A18: 2014 | B18: December | D18: ='Month (Million m3)'!C191 -> 35.96587 | E18: ='Month (Million m3)'!D191 -> 713.24689 | F18: ='Month (Million m3)'!E191 -> 3291.7392 | G18: ='Month (Million m3)'!F191 -> 1021.998 | H18: ='Month (Million m3)'!G191 -> 5062.95 | J18: ='Month (Million m3)'!H191 -> 39.208307 | K18: ='Month (Million m3)'!I191 -> 84.34459 | L18: ='Month (Million m3)'!J191 -> 0.84624 | M18: ='Month (Million m3)'!K191 -> 375.25232 | N18: ='Month (Million m3)'!L191 -> 499.65145 | P18: ='Month (Million m3)'!M191 -> 4563.2985
A19: 2015 | B19: January | D19: ='Month (Million m3)'!C192 -> 71.61714 | E19: ='Month (Million m3)'!D192 -> 866.47679 | F19: ='Month (Million m3)'!E192 -> 2862.6822 | G19: ='Month (Million m3)'!F192 -> 1091.9461 | H19: ='Month (Million m3)'!G192 -> 4892.7222 | J19: ='Month (Million m3)'!H192 -> 165.67219 | K19: ='Month (Million m3)'!I192 -> 167.75124 | L19: ='Month (Million m3)'!J192 -> 0.03198 | M19: ='Month (Million m3)'!K192 -> 411.91884 | N19: ='Month (Million m3)'!L192 -> 745.37424 | P19: ='Month (Million m3)'!M192 -> 4147.348
B20: February | D20: ='Month (Million m3)'!C193 -> 102.3678 | E20: ='Month (Million m3)'!D193 -> 661.03208 | F20: ='Month (Million m3)'!E193 -> 2991.5686 | G20: ='Month (Million m3)'!F193 -> 853.88614 | H20: ='Month (Million m3)'!G193 -> 4608.8546 | J20: ='Month (Million m3)'!H193 -> 53.794073 | K20: ='Month (Million m3)'!I193 -> 173.138 | L20: ='Month (Million m3)'!J193 -> 0 | M20: ='Month (Million m3)'!K193 -> 385.22008 | N20: ='Month (Million m3)'!L193 -> 612.15215 | P20: ='Month (Million m3)'!M193 -> 3996.7025
A21: Total | D21: =SUM(D18:D20) -> 209.95081 | E21: =SUM(E18:E20) -> 2240.7558 | F21: =SUM(F18:F20) -> 9145.99 | G21: =SUM(G18:G20) -> 2967.8303 | H21: =SUM(H18:H20) -> 14564.527 | J21: =SUM(J18:J20) -> 258.67457 | K21: =SUM(K18:K20) -> 425.23383 | L21: =SUM(L18:L20) -> 0.87822 | M21: =SUM(M18:M20) -> 1172.3912 | N21: =SUM(N18:N20) -> 1857.1778 | P21: =SUM(P18:P20) -> 12707.349
A22: 2015 | B22: December | D22: ='Month (Million m3)'!C203 -> 0 | E22: ='Month (Million m3)'!D203 -> 578.8974 | F22: ='Month (Million m3)'!E203 -> 2839.8087 | G22: ='Month (Million m3)'!F203 -> 865.43468 | H22: ='Month (Million m3)'!G203 -> 4284.1408 | J22: ='Month (Million m3)'!H203 -> 534.96329 | K22: ='Month (Million m3)'!I203 -> 152.388 | L22: ='Month (Million m3)'!J203 -> 0.0082 | M22: ='Month (Million m3)'!K203 -> 332.14346 | N22: ='Month (Million m3)'!L203 -> 1019.5029 | P22: ='Month (Million m3)'!M203 -> 3264.6378
A23: 2016 | B23: January | D23: ='Month (Million m3)'!C204 -> 22.443867 | E23: ='Month (Million m3)'!D204 -> 644.832 | F23: ='Month (Million m3)'!E204 -> 3025.1705 | G23: ='Month (Million m3)'!F204 -> 875.27916 | H23: ='Month (Million m3)'!G204 -> 4567.7256 | J23: ='Month (Million m3)'!H204 -> 206.16246 | K23: ='Month (Million m3)'!I204 -> 186.143 | L23: ='Month (Million m3)'!J204 -> 0.33046 | M23: ='Month (Million m3)'!K204 -> 271.44728 | N23: ='Month (Million m3)'!L204 -> 664.0832 | P23: ='Month (Million m3)'!M204 -> 3903.6424
B24: February | D24: ='Month (Million m3)'!C205 -> 20.517895 | E24: ='Month (Million m3)'!D205 -> 624.31913 | F24: ='Month (Million m3)'!E205 -> 2772.8227 | G24: ='Month (Million m3)'!F205 -> 1258.2133 | H24: ='Month (Million m3)'!G205 -> 4675.873 | J24: ='Month (Million m3)'!H205 -> 124.47467 | K24: ='Month (Million m3)'!I205 -> 142.72416 | L24: ='Month (Million m3)'!J205 -> 0 | M24: ='Month (Million m3)'!K205 -> 249.75917 | N24: ='Month (Million m3)'!L205 -> 516.95799 | P24: ='Month (Million m3)'!M205 -> 4158.915
A25: Total | D25: =SUM(D22:D24) -> 42.961762 | E25: =SUM(E22:E24) -> 1848.0485 | F25: =SUM(F22:F24) -> 8637.8019 | G25: =SUM(G22:G24) -> 2998.9271 | H25: =SUM(H22:H24) -> 13527.739 | J25: =SUM(J22:J24) -> 865.60041 | K25: =SUM(K22:K24) -> 481.25516 | L25: =SUM(L22:L24) -> 0.33866 | M25: =SUM(M22:M24) -> 853.34991 | N25: =SUM(N22:N24) -> 2200.5441 | P25: =SUM(P22:P24) -> 11327.195
A26: Per cent change8 | E26: -17.5 | F26: -5.6 | G26: +1.0 | H26: -7.1 | J26: (+) | K26: +13.2 | L26: -61.4 | M26: -27.2 | N26: +18.5 | P26: -10.9
A28: 1. | B28: Physical flows of gas through the Bacton-Zeebrugge Interconnector.
A29: 2. | B29: Physical flow via the BBL pipeline.
A30: 3. | B30: Via the Langeled and Vesterled pipelines, and the Tampen Link (from Statfjord to FLAGS).
A31: 4. | B31: From various sources to the Isle of Grain and Gasport Teesside.
A32: 5. | B32: Direct exports from the Grove, Markham, Minke, Stamford, Windermere and Wingate offshore gas fields.
A33: 6. | B33: Injection into the Norwegian Ula field.
A34: 7. | B34: A negative figure means the the UK was a net exporter of gas.
A35: 8. | B35: Percentage change between the most recent quarter and the same quarter a year earlier; (+) represents a positive percentage change greater than 100%.
A37: Return to contents page

Sheet Annual (Million m3)
A1: GAS
A2: TABLE 4.3 Natural gas imports and exports | L2: Million cubic metres
D6: Imports | J6: Exports
B7: From | C7: From the | D7: From | E7: Liquefied | F7: Total | G7: To | H7: To the | I7: To | J7: To the | K7: Total | L7: Net
B8: Belgium | C8: Netherlands | D8: Norway | E8: Natural Gas | F8: Imports | G8: Belgium | H8: Netherlands | I8: Norway | J8: Republic of | K8: Exports | L8: Imports
J9: Ireland
A11: YEAR
A12: 2000 | B12: =SUM('Quarter (Million m3)'!C12:C15) -> 270.087 | C12: ='Annual (GWh)'!C12*0.0914 -> 0 | D12: =SUM('Quarter (Million m3)'!E12:E15) -> 1030.9006 | E12: ='Annual (GWh)'!E12*0.0914 -> 0 | F12: =SUM('Quarter (Million m3)'!G12:G15) -> 1300.9876 | G12: ='Annual (GWh)'!G12*0.0914 -> 8644.0636 | H12: ='Annual (GWh)'!H12*0.0914 -> 705.8822 | I12: 0 | J12: ='Annual (GWh)'!J12*0.0914 -> 2947.4672 | K12: ='Annual (GWh)'!K12*0.0914 -> 12297.413 | L12: ='Annual (GWh)'!L12*0.0914 -> -10996.425
A13: 2001 | B13: =SUM('Quarter (Million m3)'!C16:C19) -> 366.971 | C13: ='Annual (GWh)'!C13*0.0914 -> 0 | D13: =SUM('Quarter (Million m3)'!E16:E19) -> 1157.735 | E13: ='Annual (GWh)'!E13*0.0914 -> 0 | F13: =SUM('Quarter (Million m3)'!G16:G19) -> 1524.706 | G13: ='Annual (GWh)'!G13*0.0914 -> 7389.3244 | H13: ='Annual (GWh)'!H13*0.0914 -> 515.496 | I13: 0 | J13: ='Annual (GWh)'!J13*0.0914 -> 3484.8992 | K13: ='Annual (GWh)'!K13*0.0914 -> 11389.72 | L13: ='Annual (GWh)'!L13*0.0914 -> -9858.861
A14: 2002 | B14: =SUM('Quarter (Million m3)'!C20:C23) -> 611.2658 | C14: ='Annual (GWh)'!C14*0.0914 -> 0 | D14: =SUM('Quarter (Million m3)'!E20:E23) -> 3391.268 | E14: ='Annual (GWh)'!E14*0.0914 -> 0 | F14: =SUM('Quarter (Million m3)'!G20:G23) -> 4002.5338 | G14: ='Annual (GWh)'!G14*0.0914 -> 8334.6746 | H14: ='Annual (GWh)'!H14*0.0914 -> 442.1018 | I14: 0 | J14: ='Annual (GWh)'!J14*0.0914 -> 3540.836 | K14: ='Annual (GWh)'!K14*0.0914 -> 12317.612 | L14: ='Annual (GWh)'!L14*0.0914 -> -8247.7532
A15: 2003 | B15: ='Annual (GWh)'!B15*0.0914 -> 400.9718 | C15: ='Annual (GWh)'!C15*0.0914 -> 0 | D15: =SUM('Quarter (Million m3)'!E24:E27) -> 6326.9411 | E15: ='Annual (GWh)'!E15*0.0914 -> 0 | F15: =SUM('Quarter (Million m3)'!G24:G27) -> 6727.9129 | G15: ='Annual (GWh)'!G15*0.0914 -> 11210.301 | H15: ='Annual (GWh)'!H15*0.0914 -> 312.9536 | I15: 0 | J15: ='Annual (GWh)'!J15*0.0914 -> 3729.6684 | K15: ='Annual (GWh)'!K15*0.0914 -> 15252.923 | L15: ='Annual (GWh)'!L15*0.0914 -> -8293.5446
A16: 2004 | B16: ='Annual (GWh)'!B16*0.0914 -> 2339.1088 | C16: ='Annual (GWh)'!C16*0.0914 -> 0 | D16: =SUM('Quarter (Million m3)'!E28:E31) -> 8459.3267 | E16: ='Annual (GWh)'!E16*0.0914 -> 0 | F16: =SUM('Quarter (Million m3)'!G28:G31) -> 10798.436 | G16: ='Annual (GWh)'!G16*0.0914 -> 5489.484 | H16: ='Annual (GWh)'!H16*0.0914 -> 263.8718 | I16: 0 | J16: ='Annual (GWh)'!J16*0.0914 -> 3572.2776 | K16: ='Annual (GWh)'!K16*0.0914 -> 9325.6334 | L16: ='Annual (GWh)'!L16*0.0914 -> 1729.6536
A17: 2005 | B17: ='Annual (GWh)'!B17*0.0914 -> 2203.4712 | C17: ='Annual (GWh)'!C17*0.0914 -> 0 | D17: =SUM('Quarter (Million m3)'!E32:E35) -> 11303.123 | E17: =SUM('Quarter (Million m3)'!F32:F35) -> 498.4042 | F17: =SUM('Quarter (Million m3)'!G32:G35) -> 14004.998 | G17: ='Annual (GWh)'!G17*0.0914 -> 3348.896 | H17: ='Annual (GWh)'!H17*0.0914 -> 389.4554 | I17: 0 | J17: ='Annual (GWh)'!J17*0.0914 -> 3601.7998 | K17: ='Annual (GWh)'!K17*0.0914 -> 7340.1512 | L17: ='Annual (GWh)'!L17*0.0914 -> 7051.2358
A18: 2006 | B18: ='Annual (GWh)'!B18*0.0914 -> 2788.157 | C18: =SUM('Quarter (Million m3)'!D36:D39) -> 839.98478 | D18: =SUM('Quarter (Million m3)'!E36:E39) -> 14003.449 | E18: =SUM('Quarter (Million m3)'!F36:F39) -> 3437.6854 | F18: =SUM('Quarter (Million m3)'!G36:G39) -> 21068.628 | G18: ='Annual (GWh)'!G18*0.0914 -> 5501.7316 | H18: ='Annual (GWh)'!H18*0.0914 -> 308.1094 | I18: 0 | J18: ='Annual (GWh)'!J18*0.0914 -> 4318.3758 | K18: ='Annual (GWh)'!K18*0.0914 -> 10128.217 | L18: ='Annual (GWh)'!L18*0.0914 -> 11282.416
A19: 2007 | B19: =SUM('Quarter (Million m3)'!C40:C43) -> 592.77821 | C19: =SUM('Quarter (Million m3)'!D40:D43) -> 7106.669 | D19: =SUM('Quarter (Million m3)'!E40:E43) -> 20338.755 | E19: =SUM('Quarter (Million m3)'!F40:F43) -> 1403.9827 | F19: =SUM('Quarter (Million m3)'!G40:G43) -> 29442.185 | G19: =SUM('Quarter (Million m3)'!H40:H43) -> 4696.1717 | H19: =SUM('Quarter (Million m3)'!I40:I43) -> 602.08548 | I19: =SUM('Quarter (Million m3)'!J40:J43) -> 13.68662 | ... L19: =SUM('Quarter (Million m3)'!M40:M43) -> 19474.819
A20: 2008 | B20: =SUM('Quarter (Million m3)'!C44:C47) -> 1126.813 | C20: =SUM('Quarter (Million m3)'!D44:D47) -> 8439.5761 | D20: =SUM('Quarter (Million m3)'!E44:E47) -> 25528.126 | E20: =SUM('Quarter (Million m3)'!F44:F47) -> 834.77152 | F20: =SUM('Quarter (Million m3)'!G44:G47) -> 35929.287 | G20: =SUM('Quarter (Million m3)'!H44:H47) -> 4183.8428 | H20: =SUM('Quarter (Million m3)'!I44:I47) -> 901.242 | I20: =SUM('Quarter (Million m3)'!J44:J47) -> 34.91124 | ... L20: =SUM('Quarter (Million m3)'!M44:M47) -> 25856.923
A21: 2009 | B21: =SUM('Quarter (Million m3)'!C48:C51) -> 728.02163 | C21: =SUM('Quarter (Million m3)'!D48:D51) -> 6474.7133 | D21: =SUM('Quarter (Million m3)'!E48:E51) -> 23477.742 | E21: =SUM('Quarter (Million m3)'!F48:F51) -> 10279.067 | F21: =SUM('Quarter (Million m3)'!G48:G51) -> 40959.544 | G21: =SUM('Quarter (Million m3)'!H48:H51) -> 5702.4513 | H21: =SUM('Quarter (Million m3)'!I48:I51) -> 1210.528 | I21: =SUM('Quarter (Million m3)'!J48:J51) -> 24.039 | ... L21: =SUM('Quarter (Million m3)'!M48:M51) -> 29076.032
A22: 2010 | B22: =SUM('Quarter (Million m3)'!C52:C55) -> 1244.7395 | C22: =SUM('Quarter (Million m3)'!D52:D55) -> 8164.0759 | D22: =SUM('Quarter (Million m3)'!E52:E55) -> 25025.845 | E22: =SUM('Quarter (Million m3)'!F52:F55) -> 19031.632 | F22: =SUM('Quarter (Million m3)'!G52:G55) -> 53466.292 | G22: =SUM('Quarter (Million m3)'!H52:H55) -> 8801.6621 | H22: =SUM('Quarter (Million m3)'!I52:I55) -> 1293.5267 | I22: =SUM('Quarter (Million m3)'!J52:J55) -> 14.17698 | ... L22: =SUM('Quarter (Million m3)'!M52:M55) -> 38223.428
A23: 2011 | B23: =SUM('Quarter (Million m3)'!C56:C59) -> 368.40134 | C23: =SUM('Quarter (Million m3)'!D56:D59) -> 6446.9833 | D23: =SUM('Quarter (Million m3)'!E56:E59) -> 21203.456 | E23: =SUM('Quarter (Million m3)'!F56:F59) -> 25297.299 | F23: =SUM('Quarter (Million m3)'!G56:G59) -> 53316.14 | G23: =SUM('Quarter (Million m3)'!H56:H59) -> 9279.0221 | H23: =SUM('Quarter (Million m3)'!I56:I59) -> 1386.6277 | I23: =SUM('Quarter (Million m3)'!J56:J59) -> 10.8035 | ... L23: =SUM('Quarter (Million m3)'!M56:M59) -> 37352.598
A24: 2012 | B24: =SUM('Quarter (Million m3)'!C60:C63) -> 1310.0102 | C24: =SUM('Quarter (Million m3)'!D60:D63) -> 7296.7934 | D24: =SUM('Quarter (Million m3)'!E60:E63) -> 26831.788 | E24: =SUM('Quarter (Million m3)'!F60:F63) -> 13820.375 | F24: =SUM('Quarter (Million m3)'!G60:G63) -> 49258.966 | G24: =SUM('Quarter (Million m3)'!H60:H63) -> 4627.688 | H24: =SUM('Quarter (Million m3)'!I60:I63) -> 2052.5158 | I24: =SUM('Quarter (Million m3)'!J60:J63) -> 4.43866 | ... L24: =SUM('Quarter (Million m3)'!M60:M63) -> 37294.141
A25: 2013 | B25: =SUM('Quarter (Million m3)'!C64:C67) -> 3307.1542 | C25: =SUM('Quarter (Million m3)'!D64:D67) -> 7597.9429 | D25: =SUM('Quarter (Million m3)'!E64:E67) -> 27865.716 | E25: =SUM('Quarter (Million m3)'!F64:F67) -> 9417.5361 | F25: =SUM('Quarter (Million m3)'!G64:G67) -> 48188.349 | G25: =SUM('Quarter (Million m3)'!H64:H67) -> 2519.3158 | H25: =SUM('Quarter (Million m3)'!I64:I67) -> 1561.7248 | I25: =SUM('Quarter (Million m3)'!J64:J67) -> 1.75972 | ... L25: =SUM('Quarter (Million m3)'!M64:M67) -> 39200.998
A26: 2014 | B26: =SUM('Quarter (Million m3)'!C68:C71) -> 364.9281 | C26: =SUM('Quarter (Million m3)'!D68:D71) -> 6567.1705 | D26: =SUM('Quarter (Million m3)'!E68:E71) -> 24511.793 | E26: =SUM('Quarter (Million m3)'!F68:F71) -> 11312.031 | F26: =SUM('Quarter (Million m3)'!G68:G71) -> 42755.923 | G26: =SUM('Quarter (Million m3)'!H68:H71) -> 4403.3287 | H26: =SUM('Quarter (Million m3)'!I68:I71) -> 1664.6366 | I26: =SUM('Quarter (Million m3)'!J68:J71) -> 1.66952 | ... L26: =SUM('Quarter (Million m3)'!M68:M71) -> 32193.794
A27: 2015 | B27: =SUM('Quarter (Million m3)'!C72:C75) -> 195.97312 | C27: =SUM('Quarter (Million m3)'!D72:D75) -> 3307.0814 | D27: =SUM('Quarter (Million m3)'!E72:E75) -> 27330.844 | E27: =SUM('Quarter (Million m3)'!F72:F75) -> 13649.299 | F27: =SUM('Quarter (Million m3)'!G72:G75) -> 44483.198 | G27: =SUM('Quarter (Million m3)'!H72:H75) -> 7740.7003 | H27: =SUM('Quarter (Million m3)'!I72:I75) -> 1822.8278 | I27: =SUM('Quarter (Million m3)'!J72:J75) -> 0.33046 | ... L27: =SUM('Quarter (Million m3)'!M72:M75) -> 30354.87
A30: Return to contents page

Sheet Quarter (Million m3)
A1: GAS | B1: Natural gas production and supply
A2: TABLE 4.3 Natural gas imports and exports | M2: Million cubic metres
E6: Imports | K6: Exports
C7: From | D7: From the | E7: From | F7: Liquefied | G7: Total | H7: To | I7: To the | J7: To | K7: To the | L7: Total | M7: Net
C8: Belgium | D8: Netherlands | E8: Norway | F8: Natural Gas | G8: Imports | H8: Belgium | I8: Netherlands | J8: Norway | K8: Republic of | L8: Exports | M8: Imports
K9: Ireland
A11: YEAR | B11: MONTH
A12: 2000 | B12: Quarter 1 | C12: ='Quarter (GWh)'!C12*0.0914 -> 0 | D12: ='Quarter (GWh)'!D12*0.0914 -> 0 | E12: =SUM('Month (Million m3)'!E12:E14) -> 280.9636 | F12: ='Quarter (GWh)'!F12*0.0914 -> 0 | G12: =SUM('Month (Million m3)'!G12:G14) -> 280.9636 | H12: ='Quarter (GWh)'!H12*0.0914 -> 1938.9596 | I12: ='Quarter (GWh)'!I12*0.0914 -> 249.3392 | J12: =SUM('Month (Million m3)'!J68:J70) -> 0 | K12: ='Quarter (GWh)'!K12*0.0914 -> 798.379 | L12: ='Quarter (GWh)'!L12*0.0914 -> 2986.6778 | M12: ='Quarter (GWh)'!M12*0.0914 -> -2705.7142
A13: 2000 | B13: Quarter 2 | C13: ='Quarter (GWh)'!C13*0.0914 -> 0 | D13: ='Quarter (GWh)'!D13*0.0914 -> 0 | E13: =SUM('Month (Million m3)'!E15:E17) -> 222.0106 | F13: ='Quarter (GWh)'!F13*0.0914 -> 0 | G13: =SUM('Month (Million m3)'!G15:G17) -> 222.0106 | H13: ='Quarter (GWh)'!H13*0.0914 -> 3144.2514 | I13: ='Quarter (GWh)'!I13*0.0914 -> 196.8756 | J13: =SUM('Month (Million m3)'!J69:J71) -> 0 | K13: ='Quarter (GWh)'!K13*0.0914 -> 746.5552 | L13: ='Quarter (GWh)'!L13*0.0914 -> 4087.6822 | M13: ='Quarter (GWh)'!M13*0.0914 -> -3865.6716
A14: 2000 | B14: Quarter 3 | C14: ='Quarter (GWh)'!C14*0.0914 -> 0 | D14: ='Quarter (GWh)'!D14*0.0914 -> 0 | E14: =SUM('Month (Million m3)'!E18:E20) -> 225.0268 | F14: ='Quarter (GWh)'!F14*0.0914 -> 0 | G14: =SUM('Month (Million m3)'!G18:G20) -> 225.0268 | H14: ='Quarter (GWh)'!H14*0.0914 -> 2961.0858 | I14: ='Quarter (GWh)'!I14*0.0914 -> 110.0456 | J14: =SUM('Month (Million m3)'!J70:J72) -> 0 | K14: ='Quarter (GWh)'!K14*0.0914 -> 608.9982 | L14: ='Quarter (GWh)'!L14*0.0914 -> 3680.1296 | M14: ='Quarter (GWh)'!M14*0.0914 -> -3455.1028
A15: 2000 | B15: Quarter 4 | C15: ='Quarter (GWh)'!C15*0.0914 -> 270.087 | D15: ='Quarter (GWh)'!D15*0.0914 -> 0 | E15: =SUM('Month (Million m3)'!E21:E23) -> 302.8996 | F15: ='Quarter (GWh)'!F15*0.0914 -> 0 | G15: =SUM('Month (Million m3)'!G21:G23) -> 572.9866 | H15: ='Quarter (GWh)'!H15*0.0914 -> 599.7668 | I15: ='Quarter (GWh)'!I15*0.0914 -> 149.6218 | J15: =SUM('Month (Million m3)'!J71:J73) -> 0 | K15: ='Quarter (GWh)'!K15*0.0914 -> 793.5348 | L15: ='Quarter (GWh)'!L15*0.0914 -> 1542.9234 | M15: ='Quarter (GWh)'!M15*0.0914 -> -969.9368
A16: 2001 | B16: Quarter 1 | C16: ='Quarter (GWh)'!C16*0.0914 -> 281.512 | D16: ='Quarter (GWh)'!D16*0.0914 -> 0 | E16: =SUM('Month (Million m3)'!E24:E26) -> 262.5922 | F16: ='Quarter (GWh)'!F16*0.0914 -> 0 | G16: =SUM('Month (Million m3)'!G24:G26) -> 544.1042 | H16: ='Quarter (GWh)'!H16*0.0914 -> 213.1448 | I16: ='Quarter (GWh)'!I16*0.0914 -> 139.1108 | J16: =SUM('Month (Million m3)'!J72:J74) -> 0 | K16: ='Quarter (GWh)'!K16*0.0914 -> 960.0656 | L16: ='Quarter (GWh)'!L16*0.0914 -> 1312.3212 | M16: ='Quarter (GWh)'!M16*0.0914 -> -768.217
A17: 2001 | B17: Quarter 2 | C17: ='Quarter (GWh)'!C17*0.0914 -> 0 | D17: ='Quarter (GWh)'!D17*0.0914 -> 0 | E17: =SUM('Month (Million m3)'!E27:E29) -> 190.2434 | F17: ='Quarter (GWh)'!F17*0.0914 -> 0 | G17: =SUM('Month (Million m3)'!G27:G29) -> 190.2434 | H17: ='Quarter (GWh)'!H17*0.0914 -> 2453.7244 | I17: ='Quarter (GWh)'!I17*0.0914 -> 95.8786 | J17: =SUM('Month (Million m3)'!J73:J75) -> 0 | K17: ='Quarter (GWh)'!K17*0.0914 -> 861.5364 | L17: ='Quarter (GWh)'!L17*0.0914 -> 3411.1394 | M17: ='Quarter (GWh)'!M17*0.0914 -> -3219.565
A18: 2001 | B18: Quarter 3 | C18: ='Quarter (GWh)'!C18*0.0914 -> 0 | D18: ='Quarter (GWh)'!D18*0.0914 -> 0 | E18: =SUM('Month (Million m3)'!E30:E32) -> 128.8994 | F18: ='Quarter (GWh)'!F18*0.0914 -> 0 | G18: =SUM('Month (Million m3)'!G30:G32) -> 128.8994 | H18: ='Quarter (GWh)'!H18*0.0914 -> 3229.0706 | I18: ='Quarter (GWh)'!I18*0.0914 -> 124.2126 | J18: =SUM('Month (Million m3)'!J74:J76) -> 0 | K18: ='Quarter (GWh)'!K18*0.0914 -> 831.5572 | L18: ='Quarter (GWh)'!L18*0.0914 -> 4184.8404 | M18: ='Quarter (GWh)'!M18*0.0914 -> -4055.0524
A19: 2001 | B19: Quarter 4 | C19: ='Quarter (GWh)'!C19*0.0914 -> 85.459 | D19: ='Quarter (GWh)'!D19*0.0914 -> 0 | E19: =SUM('Month (Million m3)'!E33:E35) -> 576 | F19: ='Quarter (GWh)'!F19*0.0914 -> 0 | G19: =SUM('Month (Million m3)'!G33:G35) -> 661.459 | H19: ='Quarter (GWh)'!H19*0.0914 -> 1493.3846 | I19: ='Quarter (GWh)'!I19*0.0914 -> 156.294 | J19: =SUM('Month (Million m3)'!J75:J77) -> 0 | K19: ='Quarter (GWh)'!K19*0.0914 -> 831.74 | L19: ='Quarter (GWh)'!L19*0.0914 -> 2481.4186 | M19: ='Quarter (GWh)'!M19*0.0914 -> -1816.0266
A20: 2002 | B20: Quarter 1 | C20: =SUM('Month (Million m3)'!C36:C38) -> 511 | D20: ='Quarter (GWh)'!D20*0.0914 -> 0 | E20: =SUM('Month (Million m3)'!E36:E38) -> 1060.4991 | F20: ='Quarter (GWh)'!F20*0.0914 -> 0 | G20: =SUM('Month (Million m3)'!G36:G38) -> 1571.4991 | H20: ='Quarter (GWh)'!H20*0.0914 -> 505.1678 | I20: ='Quarter (GWh)'!I20*0.0914 -> 130.6106 | J20: =SUM('Month (Million m3)'!J76:J78) -> 0 | K20: ='Quarter (GWh)'!K20*0.0914 -> 840.9714 | L20: ='Quarter (GWh)'!L20*0.0914 -> 1476.7498 | M20: ='Quarter (GWh)'!M20*0.0914 -> 121.562
A21: 2002 | B21: Quarter 2 | C21: =SUM('Month (Million m3)'!C39:C41) -> 0 | D21: ='Quarter (GWh)'!D21*0.0914 -> 0 | E21: =SUM('Month (Million m3)'!E39:E41) -> 400.55045 | F21: ='Quarter (GWh)'!F21*0.0914 -> 0 | G21: =SUM('Month (Million m3)'!G39:G41) -> 400.55045 | H21: ='Quarter (GWh)'!H21*0.0914 -> 3524.841 | I21: ='Quarter (GWh)'!I21*0.0914 -> 124.5782 | J21: =SUM('Month (Million m3)'!J77:J79) -> 0 | K21: ='Quarter (GWh)'!K21*0.0914 -> 920.5808 | L21: ='Quarter (GWh)'!L21*0.0914 -> 4570 | M21: ='Quarter (GWh)'!M21*0.0914 -> -4163.3614
A22: 2002 | B22: Quarter 3 | C22: =SUM('Month (Million m3)'!C42:C44) -> 70.835 | D22: ='Quarter (GWh)'!D22*0.0914 -> 0 | E22: =SUM('Month (Million m3)'!E42:E44) -> 457.3766 | F22: ='Quarter (GWh)'!F22*0.0914 -> 0 | G22: =SUM('Month (Million m3)'!G42:G44) -> 528.2116 | H22: ='Quarter (GWh)'!H22*0.0914 -> 2116.2756 | I22: ='Quarter (GWh)'!I22*0.0914 -> 93.3194 | J22: =SUM('Month (Million m3)'!J78:J80) -> 0 | K22: ='Quarter (GWh)'!K22*0.0914 -> 841.0628 | L22: ='Quarter (GWh)'!L22*0.0914 -> 3050.6578 | M22: ='Quarter (GWh)'!M22*0.0914 -> -2514.871
A23: 2002 | B23: Quarter 4 | C23: =SUM('Month (Million m3)'!C45:C47) -> 29.4308 | D23: ='Quarter (GWh)'!D23*0.0914 -> 0 | E23: =SUM('Month (Million m3)'!E45:E47) -> 1472.8418 | F23: ='Quarter (GWh)'!F23*0.0914 -> 0 | G23: =SUM('Month (Million m3)'!G45:G47) -> 1502.2726 | H23: ='Quarter (GWh)'!H23*0.0914 -> 2188.3902 | I23: ='Quarter (GWh)'!I23*0.0914 -> 93.5936 | J23: =SUM('Month (Million m3)'!J79:J81) -> 0 | K23: ='Quarter (GWh)'!K23*0.0914 -> 938.221 | L23: ='Quarter (GWh)'!L23*0.0914 -> 3220.2048 | M23: ='Quarter (GWh)'!M23*0.0914 -> -1691.0828
A24: 2003 | B24: Quarter 1 | C24: ='Quarter (GWh)'!C24*0.0914 -> 0 | D24: ='Quarter (GWh)'!D24*0.0914 -> 0 | E24: =SUM('Month (Million m3)'!E48:E50) -> 1732.4919 | F24: ='Quarter (GWh)'!F24*0.0914 -> 0 | G24: =SUM('Month (Million m3)'!G48:G50) -> 1732.4919 | H24: ='Quarter (GWh)'!H24*0.0914 -> 1975.154 | I24: ='Quarter (GWh)'!I24*0.0914 -> 93.5022 | J24: =SUM('Month (Million m3)'!J80:J82) -> 0 | K24: ='Quarter (GWh)'!K24*0.0914 -> 1026.6048 | L24: ='Quarter (GWh)'!L24*0.0914 -> 3095.261 | M24: ='Quarter (GWh)'!M24*0.0914 -> -1299.9822
A25: 2003 | B25: Quarter 2 | C25: ='Quarter (GWh)'!C25*0.0914 -> 0 | D25: ='Quarter (GWh)'!D25*0.0914 -> 0 | E25: =SUM('Month (Million m3)'!E51:E53) -> 1182.8112 | F25: ='Quarter (GWh)'!F25*0.0914 -> 0 | G25: =SUM('Month (Million m3)'!G51:G53) -> 1182.8112 | H25: ='Quarter (GWh)'!H25*0.0914 -> 4818.151 | I25: ='Quarter (GWh)'!I25*0.0914 -> 65.8994 | J25: =SUM('Month (Million m3)'!J81:J83) -> 0 | K25: ='Quarter (GWh)'!K25*0.0914 -> 913.2688 | L25: ='Quarter (GWh)'!L25*0.0914 -> 5797.3192 | M25: ='Quarter (GWh)'!M25*0.0914 -> -4575.3012
A26: 2003 | B26: Quarter 3 | C26: ='Quarter (GWh)'!C26*0.0914 -> 0 | D26: ='Quarter (GWh)'!D26*0.0914 -> 0 | E26: =SUM('Month (Million m3)'!E54:E56) -> 936.40012 | F26: ='Quarter (GWh)'!F26*0.0914 -> 0 | G26: =SUM('Month (Million m3)'!G54:G56) -> 936.40012 | H26: ='Quarter (GWh)'!H26*0.0914 -> 3719.7972 | I26: ='Quarter (GWh)'!I26*0.0914 -> 79.975 | J26: =SUM('Month (Million m3)'!J82:J84) -> 0 | K26: ='Quarter (GWh)'!K26*0.0914 -> 841.337 | L26: ='Quarter (GWh)'!L26*0.0914 -> 4641.1092 | M26: ='Quarter (GWh)'!M26*0.0914 -> -3676.9306
A27: 2003 | B27: Quarter 4 | C27: ='Quarter (GWh)'!C27*0.0914 -> 400.9718 | D27: ='Quarter (GWh)'!D27*0.0914 -> 0 | E27: =SUM('Month (Million m3)'!E57:E59) -> 2475.2379 | F27: ='Quarter (GWh)'!F27*0.0914 -> 0 | G27: =SUM('Month (Million m3)'!G57:G59) -> 2876.2097 | H27: ='Quarter (GWh)'!H27*0.0914 -> 697.1992 | I27: ='Quarter (GWh)'!I27*0.0914 -> 73.577 | J27: =SUM('Month (Million m3)'!J83:J85) -> 0 | K27: ='Quarter (GWh)'!K27*0.0914 -> 948.4578 | L27: ='Quarter (GWh)'!L27*0.0914 -> 1719.234 | M27: ='Quarter (GWh)'!M27*0.0914 -> 1258.6694
A28: 2004 | B28: Quarter 1 | C28: ='Quarter (GWh)'!C28*0.0914 -> 1323.015 | D28: ='Quarter (GWh)'!D28*0.0914 -> 0 | E28: =SUM('Month (Million m3)'!E60:E62) -> 2656.5407 | F28: ='Quarter (GWh)'!F28*0.0914 -> 0 | G28: =SUM('Month (Million m3)'!G60:G62) -> 3979.5557 | H28: ='Quarter (GWh)'!H28*0.0914 -> 95.513 | I28: ='Quarter (GWh)'!I28*0.0914 -> 74.491 | J28: =SUM('Month (Million m3)'!J84:J86) -> 0 | K28: ='Quarter (GWh)'!K28*0.0914 -> 906.5052 | L28: ='Quarter (GWh)'!L28*0.0914 -> 1076.5092 | M28: ='Quarter (GWh)'!M28*0.0914 -> 3001.9416
A29: 2004 | B29: Quarter 2 | C29: ='Quarter (GWh)'!C29*0.0914 -> 0 | D29: ='Quarter (GWh)'!D29*0.0914 -> 0 | E29: =SUM('Month (Million m3)'!E63:E65) -> 1355.5799 | F29: ='Quarter (GWh)'!F29*0.0914 -> 0 | G29: =SUM('Month (Million m3)'!G63:G65) -> 1355.5799 | H29: ='Quarter (GWh)'!H29*0.0914 -> 3078.4434 | I29: ='Quarter (GWh)'!I29*0.0914 -> 71.6576 | J29: =SUM('Month (Million m3)'!J85:J87) -> 0 | K29: ='Quarter (GWh)'!K29*0.0914 -> 877.897 | L29: ='Quarter (GWh)'!L29*0.0914 -> 4027.998 | M29: ='Quarter (GWh)'!M29*0.0914 -> -2652.0624
A30: 2004 | B30: Quarter 3 | C30: ='Quarter (GWh)'!C30*0.0914 -> 20.4736 | D30: ='Quarter (GWh)'!D30*0.0914 -> 0 | E30: =SUM('Month (Million m3)'!E66:E68) -> 1441.2402 | F30: ='Quarter (GWh)'!F30*0.0914 -> 0 | G30: =SUM('Month (Million m3)'!G66:G68) -> 1461.7138 | H30: ='Quarter (GWh)'!H30*0.0914 -> 2315.5276 | I30: ='Quarter (GWh)'!I30*0.0914 -> 56.4852 | J30: =SUM('Month (Million m3)'!J86:J88) -> 0 | K30: ='Quarter (GWh)'!K30*0.0914 -> 836.9498 | L30: ='Quarter (GWh)'!L30*0.0914 -> 3208.9626 | M30: ='Quarter (GWh)'!M30*0.0914 -> -1726.9116
A31: 2004 | B31: Quarter 4 | C31: ='Quarter (GWh)'!C31*0.0914 -> 995.6202 | D31: ='Quarter (GWh)'!D31*0.0914 -> 0 | E31: =SUM('Month (Million m3)'!E69:E71) -> 3005.9659 | F31: ='Quarter (GWh)'!F31*0.0914 -> 0 | G31: =SUM('Month (Million m3)'!G69:G71) -> 4001.5861 | H31: ='Quarter (GWh)'!H31*0.0914 -> 0 | I31: ='Quarter (GWh)'!I31*0.0914 -> 61.238 | J31: =SUM('Month (Million m3)'!J87:J89) -> 0 | K31: ='Quarter (GWh)'!K31*0.0914 -> 950.9256 | L31: ='Quarter (GWh)'!L31*0.0914 -> 1012.1636 | M31: ='Quarter (GWh)'!M31*0.0914 -> 3106.686
A32: 2005 | B32: Quarter 1 | C32: ='Quarter (GWh)'!C32*0.0914 -> 907.0536 | D32: ='Quarter (GWh)'!D32*0.0914 -> 0 | E32: =SUM('Month (Million m3)'!E72:E74) -> 3371.9055 | F32: ='Quarter (GWh)'!F32*0.0914 -> 0 | G32: =SUM('Month (Million m3)'!G72:G74) -> 4278.9591 | H32: ='Quarter (GWh)'!H32*0.0914 -> 175.3966 | I32: ='Quarter (GWh)'!I32*0.0914 -> 80.2492 | J32: =SUM('Month (Million m3)'!J88:J90) -> 0 | K32: ='Quarter (GWh)'!K32*0.0914 -> 866.2892 | L32: ='Quarter (GWh)'!L32*0.0914 -> 1121.935 | M32: ='Quarter (GWh)'!M32*0.0914 -> 3278.6094
A33: 2005 | B33: Quarter 2 | C33: ='Quarter (GWh)'!C33*0.0914 -> 0 | D33: ='Quarter (GWh)'!D33*0.0914 -> 0 | E33: =SUM('Month (Million m3)'!E75:E77) -> 2164.9877 | F33: ='Quarter (GWh)'!F33*0.0914 -> 0 | G33: =SUM('Month (Million m3)'!G75:G77) -> 2164.9877 | H33: ='Quarter (GWh)'!H33*0.0914 -> 1817.032 | I33: ='Quarter (GWh)'!I33*0.0914 -> 113.336 | J33: =SUM('Month (Million m3)'!J89:J91) -> 0 | K33: ='Quarter (GWh)'!K33*0.0914 -> 914.914 | L33: ='Quarter (GWh)'!L33*0.0914 -> 2845.282 | M33: ='Quarter (GWh)'!M33*0.0914 -> -599.9496
A34: 2005 | B34: Quarter 3 | C34: ='Quarter (GWh)'!C34*0.0914 -> 116.1694 | D34: ='Quarter (GWh)'!D34*0.0914 -> 0 | E34: =SUM('Month (Million m3)'!E78:E80) -> 2628.5936 | F34: =SUM('Month (Million m3)'!F78:F80) -> 111.8736 | G34: =SUM('Month (Million m3)'!G78:G80) -> 2856.6366 | H34: ='Quarter (GWh)'!H34*0.0914 -> 1122.2092 | I34: ='Quarter (GWh)'!I34*0.0914 -> 86.9214 | J34: =SUM('Month (Million m3)'!J90:J92) -> 0 | K34: ='Quarter (GWh)'!K34*0.0914 -> 874.7894 | L34: ='Quarter (GWh)'!L34*0.0914 -> 2083.92 | M34: ='Quarter (GWh)'!M34*0.0914 -> 847.0952
A35: 2005 | B35: Quarter 4 | C35: ='Quarter (GWh)'!C35*0.0914 -> 1180.2482 | D35: ='Quarter (GWh)'!D35*0.0914 -> 0 | E35: =SUM('Month (Million m3)'!E81:E83) -> 3137.6357 | F35: =SUM('Month (Million m3)'!F81:F83) -> 386.5306 | G35: =SUM('Month (Million m3)'!G81:G83) -> 4704.4145 | H35: ='Quarter (GWh)'!H35*0.0914 -> 234.2582 | I35: ='Quarter (GWh)'!I35*0.0914 -> 108.9488 | J35: =SUM('Month (Million m3)'!J91:J93) -> 0 | K35: ='Quarter (GWh)'!K35*0.0914 -> 945.8072 | L35: ='Quarter (GWh)'!L35*0.0914 -> 1289.0142 | M35: ='Quarter (GWh)'!M35*0.0914 -> 3525.4808
A36: 2006 | B36: Quarter 1 | C36: ='Quarter (GWh)'!C36*0.0914 -> 2436.724 | D36: ='Quarter (GWh)'!D36*0.0914 -> 0 | E36: =SUM('Month (Million m3)'!E84:E86) -> 3020.1314 | F36: =SUM('Month (Million m3)'!F84:F86) -> 994.25826 | G36: =SUM('Month (Million m3)'!G84:G86) -> 6450.5987 | H36: ='Quarter (GWh)'!H36*0.0914 -> 0 | I36: ='Quarter (GWh)'!I36*0.0914 -> 99.9002 | J36: =SUM('Month (Million m3)'!J92:J94) -> 0 | K36: ='Quarter (GWh)'!K36*0.0914 -> 1011.341 | L36: ='Quarter (GWh)'!L36*0.0914 -> 1111.2412 | M36: ='Quarter (GWh)'!M36*0.0914 -> 5467.8222
A37: 2006 | B37: Quarter 2 | C37: ='Quarter (GWh)'!C37*0.0914 -> 91.2172 | D37: ='Quarter (GWh)'!D37*0.0914 -> 0 | E37: =SUM('Month (Million m3)'!E87:E89) -> 2218.1865 | F37: =SUM('Month (Million m3)'!F87:F89) -> 677.40136 | G37: =SUM('Month (Million m3)'!G87:G89) -> 2986.7879 | H37: ='Quarter (GWh)'!H37*0.0914 -> 1872.5118 | I37: ='Quarter (GWh)'!I37*0.0914 -> 77.233 | J37: =SUM('Month (Million m3)'!J93:J95) -> 0 | K37: ='Quarter (GWh)'!K37*0.0914 -> 1141.586 | L37: ='Quarter (GWh)'!L37*0.0914 -> 3091.3308 | M37: ='Quarter (GWh)'!M37*0.0914 -> -43.0494
A38: 2006 | B38: Quarter 3 | C38: ='Quarter (GWh)'!C38*0.0914 -> 70.4694 | D38: ='Quarter (GWh)'!D38*0.0914 -> 0 | E38: =SUM('Month (Million m3)'!E90:E92) -> 2733.7318 | F38: =SUM('Month (Million m3)'!F90:F92) -> 643.38327 | G38: =SUM('Month (Million m3)'!G90:G92) -> 3447.5151 | H38: ='Quarter (GWh)'!H38*0.0914 -> 2582.2328 | I38: ='Quarter (GWh)'!I38*0.0914 -> 47.8936 | J38: =SUM('Month (Million m3)'!J94:J96) -> 0 | K38: ='Quarter (GWh)'!K38*0.0914 -> 1048.0838 | L38: ='Quarter (GWh)'!L38*0.0914 -> 3678.2102 | M38: ='Quarter (GWh)'!M38*0.0914 -> -169.547
A39: 2006 | B39: Quarter 4 | C39: ='Quarter (GWh)'!C39*0.0914 -> 189.7464 | D39: =SUM('Month (Million m3)'!D93:D95) -> 839.98478 | E39: =SUM('Month (Million m3)'!E93:E95) -> 6031.3994 | F39: =SUM('Month (Million m3)'!F93:F95) -> 1122.6425 | G39: =SUM('Month (Million m3)'!G93:G95) -> 8183.7267 | H39: ='Quarter (GWh)'!H39*0.0914 -> 1046.987 | I39: ='Quarter (GWh)'!I39*0.0914 -> 83.0826 | J39: =SUM('Month (Million m3)'!J95:J97) -> 0 | K39: ='Quarter (GWh)'!K39*0.0914 -> 1117.365 | L39: ='Quarter (GWh)'!L39*0.0914 -> 2247.4346 | M39: ='Quarter (GWh)'!M39*0.0914 -> 6027.1902
A40: 2007 | B40: Quarter 1 | C40: =SUM('Month (Million m3)'!C96:C98) -> 318.77863 | D40: =SUM('Month (Million m3)'!D96:D98) -> 2166.9324 | E40: =SUM('Month (Million m3)'!E96:E98) -> 6909.6467 | F40: =SUM('Month (Million m3)'!F96:F98) -> 783.49302 | G40: =SUM('Month (Million m3)'!G96:G98) -> 10178.851 | H40: =SUM('Month (Million m3)'!H96:H98) -> 560.12185 | I40: =SUM('Month (Million m3)'!I96:I98) -> 80.72918 | J40: =SUM('Month (Million m3)'!J96:J98) -> 0 | ... L40: =SUM('Month (Million m3)'!L96:L98) -> 1884.0065 | M40: =G40-L40 -> 8294.8443
A41: 2007 | B41: Quarter 2 | C41: =SUM('Month (Million m3)'!C99:C101) -> 43.694656 | D41: =SUM('Month (Million m3)'!D99:D101) -> 1381.4136 | E41: =SUM('Month (Million m3)'!E99:E101) -> 4084.7026 | F41: =SUM('Month (Million m3)'!F99:F101) -> 70.921699 | G41: =SUM('Month (Million m3)'!G99:G101) -> 5580.7326 | H41: =SUM('Month (Million m3)'!H99:H101) -> 2207.5942 | I41: =SUM('Month (Million m3)'!I99:I101) -> 95.34009 | J41: =SUM('Month (Million m3)'!J99:J101) -> 0 | ... L41: =SUM('Month (Million m3)'!L99:L101) -> 3336.4829 | M41: =G41-L41 -> 2244.2497
A42: 2007 | B42: Quarter 3 | C42: =SUM('Month (Million m3)'!C102:C104) -> 6.2290076 | D42: =SUM('Month (Million m3)'!D102:D104) -> 999.85956 | E42: =SUM('Month (Million m3)'!E102:E104) -> 3317.8894 | F42: =SUM('Month (Million m3)'!F102:F104) -> 73.810064 | G42: =SUM('Month (Million m3)'!G102:G104) -> 4397.788 | H42: =SUM('Month (Million m3)'!H102:H104) -> 1193.0884 | I42: =SUM('Month (Million m3)'!I102:I104) -> 167.16741 | J42: =SUM('Month (Million m3)'!J102:J104) -> 2.17136 | ... L42: =SUM('Month (Million m3)'!L102:L104) -> 2487.5079 | M42: =G42-L42 -> 1910.2801
A43: 2007 | B43: Quarter 4 | C43: =SUM('Month (Million m3)'!C105:C107) -> 224.07592 | D43: =SUM('Month (Million m3)'!D105:D107) -> 2558.4634 | E43: =SUM('Month (Million m3)'!E105:E107) -> 6026.5166 | F43: =SUM('Month (Million m3)'!F105:F107) -> 475.75794 | G43: =SUM('Month (Million m3)'!G105:G107) -> 9284.8139 | H43: =SUM('Month (Million m3)'!H105:H107) -> 735.36734 | I43: =SUM('Month (Million m3)'!I105:I107) -> 258.8488 | J43: =SUM('Month (Million m3)'!J105:J107) -> 11.51526 | ... L43: =SUM('Month (Million m3)'!L105:L107) -> 2259.369 | M43: =G43-L43 -> 7025.4449
A44: 2008 | B44: Quarter 1 | C44: =SUM('Month (Million m3)'!C108:C110) -> 790.77707 | D44: =SUM('Month (Million m3)'!D108:D110) -> 3150.056 | E44: =SUM('Month (Million m3)'!E108:E110) -> 7453.5656 | F44: =SUM('Month (Million m3)'!F108:F110) -> 193.38592 | G44: =SUM('Month (Million m3)'!G108:G110) -> 11587.785 | H44: =SUM('Month (Million m3)'!H108:H110) -> 66.006954 | I44: =SUM('Month (Million m3)'!I108:I110) -> 221.26514 | J44: =SUM('Month (Million m3)'!J108:J110) -> 10.2295 | ... L44: =SUM('Month (Million m3)'!L108:L110) -> 1617.7394 | M44: =G44-L44 -> 9970.0451
A45: 2008 | B45: Quarter 2 | C45: =SUM('Month (Million m3)'!C111:C113) -> 303.62092 | D45: =SUM('Month (Million m3)'!D111:D113) -> 1924.5611 | E45: =SUM('Month (Million m3)'!E111:E113) -> 4713.2231 | F45: =SUM('Month (Million m3)'!F111:F113) -> 88.502925 | G45: =SUM('Month (Million m3)'!G111:G113) -> 7029.908 | H45: =SUM('Month (Million m3)'!H111:H113) -> 1012.6748 | I45: =SUM('Month (Million m3)'!I111:I113) -> 289.72987 | J45: =SUM('Month (Million m3)'!J111:J113) -> 7.37508 | ... L45: =SUM('Month (Million m3)'!L111:L113) -> 2512.324 | M45: =G45-L45 -> 4517.5839
A46: 2008 | B46: Quarter 3 | C46: =SUM('Month (Million m3)'!C114:C116) -> 0.80746748 | D46: =SUM('Month (Million m3)'!D114:D116) -> 1329.6979 | E46: =SUM('Month (Million m3)'!E114:E116) -> 4738.4514 | F46: =SUM('Month (Million m3)'!F114:F116) -> 73.64637 | G46: =SUM('Month (Million m3)'!G114:G116) -> 6142.6031 | H46: =SUM('Month (Million m3)'!H114:H116) -> 1494.0628 | I46: =SUM('Month (Million m3)'!I114:I116) -> 181.90698 | J46: =SUM('Month (Million m3)'!J114:J116) -> 9.65222 | ... M46: =SUM('Month (Million m3)'!M114:M116) -> 3323.8444
A47: 2008 | B47: Quarter 4 | C47: =SUM('Month (Million m3)'!C117:C119) -> 31.607597 | D47: =SUM('Month (Million m3)'!D117:D119) -> 2035.2612 | E47: =SUM('Month (Million m3)'!E117:E119) -> 8622.8861 | F47: =SUM('Month (Million m3)'!F117:F119) -> 479.23631 | G47: =SUM('Month (Million m3)'!G117:G119) -> 11168.991 | H47: =SUM('Month (Million m3)'!H117:H119) -> 1611.0982 | I47: =SUM('Month (Million m3)'!I117:I119) -> 208.34001 | J47: =SUM('Month (Million m3)'!J117:J119) -> 7.65444 | ... M47: =SUM('Month (Million m3)'!M117:M119) -> 8045.4493
A48: 2009 | B48: Quarter 1 | C48: =SUM('Month (Million m3)'!C120:C122) -> 134.53197 | D48: =SUM('Month (Million m3)'!D120:D122) -> 2375.0226 | E48: =SUM('Month (Million m3)'!E120:E122) -> 8927.3895 | F48: =SUM('Month (Million m3)'!F120:F122) -> 1242.6127 | G48: =SUM('Month (Million m3)'!G120:G122) -> 12679.557 | H48: =SUM('Month (Million m3)'!H120:H122) -> 1394.1664 | I48: =SUM('Month (Million m3)'!I120:I122) -> 315.4077 | J48: =SUM('Month (Million m3)'!J120:J122) -> 7.558 | ... M48: =SUM('Month (Million m3)'!M120:M122) -> 9668.0238
A49: 2009 | B49: Quarter 2 | C49: =SUM('Month (Million m3)'!C123:C125) -> 0 | D49: =SUM('Month (Million m3)'!D123:D125) -> 1289.8098 | E49: =SUM('Month (Million m3)'!E123:E125) -> 4410.0242 | F49: =SUM('Month (Million m3)'!F123:F125) -> 1708.5952 | G49: =SUM('Month (Million m3)'!G123:G125) -> 7408.4292 | H49: =SUM('Month (Million m3)'!H123:H125) -> 2389.4454 | I49: =SUM('Month (Million m3)'!I123:I125) -> 376.1255 | J49: =SUM('Month (Million m3)'!J123:J125) -> 5.843 | ... M49: =SUM('Month (Million m3)'!M123:M125) -> 3392.8925
A50: 2009 | B50: Quarter 3 | C50: =SUM('Month (Million m3)'!C126:C128) -> 5.4674386 | D50: =SUM('Month (Million m3)'!D126:D128) -> 668.60702 | E50: =SUM('Month (Million m3)'!E126:E128) -> 3661.526 | F50: =SUM('Month (Million m3)'!F126:F128) -> 2781.5659 | G50: =SUM('Month (Million m3)'!G126:G128) -> 7117.1663 | H50: =SUM('Month (Million m3)'!H126:H128) -> 1159.2035 | I50: =SUM('Month (Million m3)'!I126:I128) -> 189.42055 | J50: =SUM('Month (Million m3)'!J126:J128) -> 5.643 | ... M50: =SUM('Month (Million m3)'!M126:M128) -> 4675.5787
A51: 2009 | B51: Quarter 4 | C51: =SUM('Month (Million m3)'!C129:C131) -> 588.02222 | D51: =SUM('Month (Million m3)'!D129:D131) -> 2141.2738 | E51: =SUM('Month (Million m3)'!E129:E131) -> 6478.8019 | F51: =SUM('Month (Million m3)'!F129:F131) -> 4546.2936 | G51: =SUM('Month (Million m3)'!G129:G131) -> 13754.392 | H51: =SUM('Month (Million m3)'!H129:H131) -> 759.63601 | I51: =SUM('Month (Million m3)'!I129:I131) -> 329.57429 | J51: =SUM('Month (Million m3)'!J129:J131) -> 4.995 | ... M51: =SUM('Month (Million m3)'!M129:M131) -> 11339.537
A52: 2010 | B52: Quarter 1 | C52: =SUM('Month (Million m3)'!C132:C134) -> 530.87632 | D52: =SUM('Month (Million m3)'!D132:D134) -> 2819.9668 | E52: =SUM('Month (Million m3)'!E132:E134) -> 8561.5267 | F52: =SUM('Month (Million m3)'!F132:F134) -> 4485.5893 | G52: =SUM('Month (Million m3)'!G132:G134) -> 16397.959 | H52: =SUM('Month (Million m3)'!H132:H134) -> 375.69726 | I52: =SUM('Month (Million m3)'!I132:I134) -> 387.363 | J52: =SUM('Month (Million m3)'!J132:J134) -> 3.8376 | ... M52: =SUM('Month (Million m3)'!M132:M134) -> 14342.368
A53: 2010 | B53: Quarter 2 | C53: =SUM('Month (Million m3)'!C135:C137) -> 0 | D53: =SUM('Month (Million m3)'!D135:D137) -> 1686.602 | E53: =SUM('Month (Million m3)'!E135:E137) -> 5538.08 | F53: =SUM('Month (Million m3)'!F135:F137) -> 4524.7739 | G53: =SUM('Month (Million m3)'!G135:G137) -> 11749.456 | H53: =SUM('Month (Million m3)'!H135:H137) -> 3585.6891 | I53: =SUM('Month (Million m3)'!I135:I137) -> 373.11469 | J53: =SUM('Month (Million m3)'!J135:J137) -> 2.70272 | ... M53: =SUM('Month (Million m3)'!M135:M137) -> 6542.7176
A54: 2010 | B54: Quarter 3 | C54: =SUM('Month (Million m3)'!C138:C140) -> 0 | D54: =SUM('Month (Million m3)'!D138:D140) -> 1288.245 | E54: =SUM('Month (Million m3)'!E138:E140) -> 2999.0254 | F54: =SUM('Month (Million m3)'!F138:F140) -> 4094.3154 | G54: =SUM('Month (Million m3)'!G138:G140) -> 8381.5857 | H54: =SUM('Month (Million m3)'!H138:H140) -> 2997.6649 | I54: =SUM('Month (Million m3)'!I138:I140) -> 193.64357 | J54: =SUM('Month (Million m3)'!J138:J140) -> 3.42678 | ... M54: =SUM('Month (Million m3)'!M138:M140) -> 3946.9663
A55: 2010 | B55: Quarter 4 | C55: =SUM('Month (Million m3)'!C141:C143) -> 713.86314 | D55: =SUM('Month (Million m3)'!D141:D143) -> 2369.262 | E55: =SUM('Month (Million m3)'!E141:E143) -> 7927.213 | F55: =SUM('Month (Million m3)'!F141:F143) -> 5926.953 | G55: =SUM('Month (Million m3)'!G141:G143) -> 16937.291 | H55: =SUM('Month (Million m3)'!H141:H143) -> 1842.611 | I55: =SUM('Month (Million m3)'!I141:I143) -> 339.40545 | J55: =SUM('Month (Million m3)'!J141:J143) -> 4.20988 | ... M55: =SUM('Month (Million m3)'!M141:M143) -> 13391.376
A56: 2011 | B56: Quarter 1 | C56: =SUM('Month (Million m3)'!C144:C146) -> 362.48736 | D56: =SUM('Month (Million m3)'!D144:D146) -> 1704.4774 | E56: =SUM('Month (Million m3)'!E144:E146) -> 6944.4781 | F56: =SUM('Month (Million m3)'!F144:F146) -> 7321.0702 | G56: =SUM('Month (Million m3)'!G144:G146) -> 16332.513 | H56: =SUM('Month (Million m3)'!H144:H146) -> 218.44308 | I56: =SUM('Month (Million m3)'!I144:I146) -> 400.42302 | J56: =SUM('Month (Million m3)'!J144:J146) -> 3.96798 | ... M56: =SUM('Month (Million m3)'!M144:M146) -> 14440.485
A57: 2011 | B57: Quarter 2 | C57: =SUM('Month (Million m3)'!C147:C149) -> 0 | D57: =SUM('Month (Million m3)'!D147:D149) -> 1415.1588 | E57: =SUM('Month (Million m3)'!E147:E149) -> 2803.4136 | F57: =SUM('Month (Million m3)'!F147:F149) -> 7616.7606 | G57: =SUM('Month (Million m3)'!G147:G149) -> 11835.333 | H57: =SUM('Month (Million m3)'!H147:H149) -> 3241.3625 | I57: =SUM('Month (Million m3)'!I147:I149) -> 341.99529 | J57: =SUM('Month (Million m3)'!J147:J149) -> 2.74208 | ... M57: =SUM('Month (Million m3)'!M147:M149) -> 7031.7063
A58: 2011 | B58: Quarter 3 | C58: =SUM('Month (Million m3)'!C150:C152) -> 0 | D58: =SUM('Month (Million m3)'!D150:D152) -> 1279.7118 | E58: =SUM('Month (Million m3)'!E150:E152) -> 4328.3196 | F58: =SUM('Month (Million m3)'!F150:F152) -> 5599.352 | G58: =SUM('Month (Million m3)'!G150:G152) -> 11207.383 | H58: =SUM('Month (Million m3)'!H150:H152) -> 3020.843 | I58: =SUM('Month (Million m3)'!I150:I152) -> 290.77028 | J58: =SUM('Month (Million m3)'!J150:J152) -> 2.20334 | ... M58: =SUM('Month (Million m3)'!M150:M152) -> 6536.6283
A59: 2011 | B59: Quarter 4 | C59: =SUM('Month (Million m3)'!C153:C155) -> 5.9139748 | D59: =SUM('Month (Million m3)'!D153:D155) -> 2047.6352 | E59: =SUM('Month (Million m3)'!E153:E155) -> 7127.2452 | F59: =SUM('Month (Million m3)'!F153:F155) -> 4760.1159 | G59: =SUM('Month (Million m3)'!G153:G155) -> 13940.91 | H59: =SUM('Month (Million m3)'!H153:H155) -> 2798.3736 | I59: =SUM('Month (Million m3)'!I153:I155) -> 353.43909 | J59: =SUM('Month (Million m3)'!J153:J155) -> 1.8901 | ... M59: =SUM('Month (Million m3)'!M153:M155) -> 9343.7785
A60: 2012 | B60: Quarter 1 | C60: =SUM('Month (Million m3)'!C156:C158) -> 31.397039 | D60: =SUM('Month (Million m3)'!D156:D158) -> 2516.5958 | E60: =SUM('Month (Million m3)'!E156:E158) -> 8820.9996 | F60: =SUM('Month (Million m3)'!F156:F158) -> 3611.543 | G60: =SUM('Month (Million m3)'!G156:G158) -> 14980.535 | H60: =SUM('Month (Million m3)'!H156:H158) -> 914.35058 | I60: =SUM('Month (Million m3)'!I156:I158) -> 551.00888 | J60: =SUM('Month (Million m3)'!J156:J158) -> 1.7794 | ... M60: =SUM('Month (Million m3)'!M156:M158) -> 12259.976
A61: 2012 | B61: Quarter 2 | C61: =SUM('Month (Million m3)'!C159:C161) -> 11.246788 | D61: =SUM('Month (Million m3)'!D159:D161) -> 1641.4882 | E61: =SUM('Month (Million m3)'!E159:E161) -> 4919.6978 | F61: =SUM('Month (Million m3)'!F159:F161) -> 4427.0949 | G61: =SUM('Month (Million m3)'!G159:G161) -> 10999.528 | H61: =SUM('Month (Million m3)'!H159:H161) -> 1417.7246 | I61: =SUM('Month (Million m3)'!I159:I161) -> 576.53864 | J61: =SUM('Month (Million m3)'!J159:J161) -> 1.28166 | ... M61: =SUM('Month (Million m3)'!M159:M161) -> 7604.0869
A62: 2012 | B62: Quarter 3 | C62: =SUM('Month (Million m3)'!C162:C164) -> 5.9715656 | D62: =SUM('Month (Million m3)'!D162:D164) -> 967.94385 | E62: =SUM('Month (Million m3)'!E162:E164) -> 4305.136 | F62: =SUM('Month (Million m3)'!F162:F164) -> 3242.9408 | G62: =SUM('Month (Million m3)'!G162:G164) -> 8521.9922 | H62: =SUM('Month (Million m3)'!H162:H164) -> 2210.9941 | I62: =SUM('Month (Million m3)'!I162:I164) -> 442.49773 | J62: =SUM('Month (Million m3)'!J162:J164) -> 0.76014 | ... M62: =SUM('Month (Million m3)'!M162:M164) -> 4489.9846
A63: 2012 | B63: Quarter 4 | C63: =SUM('Month (Million m3)'!C165:C167) -> 1261.3948 | D63: =SUM('Month (Million m3)'!D165:D167) -> 2170.7655 | E63: =SUM('Month (Million m3)'!E165:E167) -> 8785.955 | F63: =SUM('Month (Million m3)'!F165:F167) -> 2538.7959 | G63: =SUM('Month (Million m3)'!G165:G167) -> 14756.911 | H63: =SUM('Month (Million m3)'!H165:H167) -> 84.618673 | I63: =SUM('Month (Million m3)'!I165:I167) -> 482.47059 | J63: =SUM('Month (Million m3)'!J165:J167) -> 0.61746 | ... M63: =SUM('Month (Million m3)'!M165:M167) -> 12940.093
A64: 2013 | B64: Quarter 1 | C64: =SUM('Month (Million m3)'!C168:C170) -> 2610.9214 | D64: =SUM('Month (Million m3)'!D168:D170) -> 2857.5603 | E64: =SUM('Month (Million m3)'!E168:E170) -> 9529.3684 | F64: =SUM('Month (Million m3)'!F168:F170) -> 1496.6913 | G64: =SUM('Month (Million m3)'!G168:G170) -> 16494.541 | H64: =SUM('Month (Million m3)'!H168:H170) -> 32.632905 | I64: =SUM('Month (Million m3)'!I168:I170) -> 447.03779 | J64: =SUM('Month (Million m3)'!J168:J170) -> 0.41574 | ... M64: =SUM('Month (Million m3)'!M168:M170) -> 14752.794
A65: 2013 | B65: Quarter 2 | C65: =SUM('Month (Million m3)'!C171:C173) -> 146.84151 | D65: =SUM('Month (Million m3)'!D171:D173) -> 1477.7792 | E65: =SUM('Month (Million m3)'!E171:E173) -> 6044.4544 | F65: =SUM('Month (Million m3)'!F171:F173) -> 4053.0153 | G65: =SUM('Month (Million m3)'!G171:G173) -> 11722.09 | H65: =SUM('Month (Million m3)'!H171:H173) -> 1314.6913 | I65: =SUM('Month (Million m3)'!I171:I173) -> 354.488 | J65: =SUM('Month (Million m3)'!J171:J173) -> 0.10824 | ... M65: =SUM('Month (Million m3)'!M171:M173) -> 8726.1335
A66: 2013 | B66: Quarter 3 | C66: =SUM('Month (Million m3)'!C174:C176) -> 25.578803 | D66: =SUM('Month (Million m3)'!D174:D176) -> 980.50339 | E66: =SUM('Month (Million m3)'!E174:E176) -> 4196.7575 | F66: =SUM('Month (Million m3)'!F174:F176) -> 1779.7907 | G66: =SUM('Month (Million m3)'!G174:G176) -> 6982.6304 | H66: =SUM('Month (Million m3)'!H174:H176) -> 1000.5398 | I66: =SUM('Month (Million m3)'!I174:I176) -> 410.75326 | J66: =SUM('Month (Million m3)'!J174:J176) -> 0.0902 | ... M66: =SUM('Month (Million m3)'!M174:M176) -> 4399.4346
A67: 2013 | B67: Quarter 4 | C67: =SUM('Month (Million m3)'!C177:C179) -> 523.81247 | D67: =SUM('Month (Million m3)'!D177:D179) -> 2282.1 | E67: =SUM('Month (Million m3)'!E177:E179) -> 8095.1359 | F67: =SUM('Month (Million m3)'!F177:F179) -> 2088.0387 | G67: =SUM('Month (Million m3)'!G177:G179) -> 12989.087 | H67: =SUM('Month (Million m3)'!H177:H179) -> 171.45179 | I67: =SUM('Month (Million m3)'!I177:I179) -> 349.44576 | J67: =SUM('Month (Million m3)'!J177:J179) -> 1.14554 | ... M67: =SUM('Month (Million m3)'!M177:M179) -> 11322.635
A68: 2014 | B68: Quarter 1 | C68: =SUM('Month (Million m3)'!C180:C182) -> 296.91473 | D68: =SUM('Month (Million m3)'!D180:D182) -> 2786.999 | E68: =SUM('Month (Million m3)'!E180:E182) -> 8572.6422 | F68: =SUM('Month (Million m3)'!F180:F182) -> 1184.8075 | G68: =SUM('Month (Million m3)'!G180:G182) -> 12841.363 | H68: =SUM('Month (Million m3)'!H180:H182) -> 53.761959 | I68: =SUM('Month (Million m3)'!I180:I182) -> 511.50098 | J68: =SUM('Month (Million m3)'!J180:J182) -> 0.44608 | ... M68: =SUM('Month (Million m3)'!M180:M182) -> 11094.87
A69: 2014 | B69: Quarter 2 | C69: =SUM('Month (Million m3)'!C183:C185) -> 0 | D69: =SUM('Month (Million m3)'!D183:D185) -> 1373.7092 | E69: =SUM('Month (Million m3)'!E183:E185) -> 3986.5674 | F69: =SUM('Month (Million m3)'!F183:F185) -> 4028.74 | G69: =SUM('Month (Million m3)'!G183:G185) -> 9389.0166 | H69: =SUM('Month (Million m3)'!H183:H185) -> 1755.772 | I69: =SUM('Month (Million m3)'!I183:I185) -> 492.9331 | J69: =SUM('Month (Million m3)'!J183:J185) -> 0.18532 | ... M69: =SUM('Month (Million m3)'!M183:M185) -> 5948.0653
A70: 2014 | B70: Quarter 3 | C70: =SUM('Month (Million m3)'!C186:C188) -> 0 | D70: =SUM('Month (Million m3)'!D186:D188) -> 845.15569 | E70: =SUM('Month (Million m3)'!E186:E188) -> 3467.0182 | F70: =SUM('Month (Million m3)'!F186:F188) -> 3680.9523 | G70: =SUM('Month (Million m3)'!G186:G188) -> 7993.1262 | H70: =SUM('Month (Million m3)'!H186:H188) -> 1987.2774 | I70: =SUM('Month (Million m3)'!I186:I188) -> 335.4581 | J70: =SUM('Month (Million m3)'!J186:J188) -> 0.16892 | ... M70: =SUM('Month (Million m3)'!M186:M188) -> 4553.4846
A71: 2014 | B71: Quarter 4 | C71: =SUM('Month (Million m3)'!C189:C191) -> 68.013369 | D71: =SUM('Month (Million m3)'!D189:D191) -> 1561.3067 | E71: =SUM('Month (Million m3)'!E189:E191) -> 8485.5651 | F71: =SUM('Month (Million m3)'!F189:F191) -> 2417.5316 | G71: =SUM('Month (Million m3)'!G189:G191) -> 12532.417 | H71: =SUM('Month (Million m3)'!H189:H191) -> 606.51734 | I71: =SUM('Month (Million m3)'!I189:I191) -> 324.74439 | J71: =SUM('Month (Million m3)'!J189:J191) -> 0.8692 | ... M71: =SUM('Month (Million m3)'!M189:M191) -> 10597.375
A72: 2015 | B72: Quarter 1 | C72: =SUM('Month (Million m3)'!C192:C194) -> 195.78681 | D72: =SUM('Month (Million m3)'!D192:D194) -> 2096.5744 | E72: =SUM('Month (Million m3)'!E192:E194) -> 8630.8738 | F72: =SUM('Month (Million m3)'!F192:F194) -> 3175.3718 | G72: =SUM('Month (Million m3)'!G192:G194) -> 14098.607 | H72: =SUM('Month (Million m3)'!H192:H194) -> 543.12596 | I72: =SUM('Month (Million m3)'!I192:I194) -> 547.32485 | J72: =SUM('Month (Million m3)'!J192:J194) -> 0.1025 | ... M72: =SUM('Month (Million m3)'!M192:M194) -> 11827.501
A73: 2015 | B73: Quarter 2 | C73: =SUM('Month (Million m3)'!C195:C197) -> 0.186301 | D73: =SUM('Month (Million m3)'!D195:D197) -> 305.82584 | E73: =SUM('Month (Million m3)'!E195:E197) -> 4803.1495 | F73: =SUM('Month (Million m3)'!F195:F197) -> 3233.183 | G73: =SUM('Month (Million m3)'!G195:G197) -> 8342.3447 | H73: =SUM('Month (Million m3)'!H195:H197) -> 1878.0975 | I73: =SUM('Month (Million m3)'!I195:I197) -> 413.0144 | J73: =SUM('Month (Million m3)'!J195:J197) -> 0.0574 | ... M73: =SUM('Month (Million m3)'!M195:M197) -> 4892.1596
A74: 2015 | B74: Quarter 3 | C74: =SUM('Month (Million m3)'!C198:C200) -> 0 | D74: =SUM('Month (Million m3)'!D198:D200) -> 24.533474 | E74: =SUM('Month (Million m3)'!E198:E200) -> 5710.3736 | F74: =SUM('Month (Million m3)'!F198:F200) -> 3509.6969 | G74: =SUM('Month (Million m3)'!G198:G200) -> 9244.604 | H74: =SUM('Month (Million m3)'!H198:H200) -> 3132.2622 | I74: =SUM('Month (Million m3)'!I198:I200) -> 446.8845 | J74: =SUM('Month (Million m3)'!J198:J200) -> 0.09922 | ... M74: =SUM('Month (Million m3)'!M198:M200) -> 4549.7528
A75: 2015 | B75: Quarter 4 | C75: =SUM('Month (Million m3)'!C201:C203) -> 0 | D75: =SUM('Month (Million m3)'!D201:D203) -> 880.14762 | E75: =SUM('Month (Million m3)'!E201:E203) -> 8186.4472 | F75: =SUM('Month (Million m3)'!F201:F203) -> 3731.0472 | G75: =SUM('Month (Million m3)'!G201:G203) -> 12797.642 | H75: =SUM('Month (Million m3)'!H201:H203) -> 2187.2146 | I75: =SUM('Month (Million m3)'!I201:I203) -> 415.60406 | J75: =SUM('Month (Million m3)'!J201:J203) -> 0.07134 | ... M75: =SUM('Month (Million m3)'!M201:M203) -> 9085.4565
A78: Return to contents page

Sheet Month (Million m3)
A1: GAS | B1: Natural gas production and supply
A2: TABLE 4.3 Natural gas imports and exports | M2: Million cubic metres
E6: Imports | K6: Exports
C7: From | D7: From the | E7: From | F7: Liquefied | G7: Total | H7: To | I7: To the | J7: To | K7: To the | L7: Total | M7: Net
C8: Belgium | D8: Netherlands | E8: Norway | F8: Natural Gas | G8: Imports | H8: Belgium | I8: Netherlands | J8: Norway | K8: Republic of | L8: Exports | M8: Imports
K9: Ireland
A11: YEAR | B11: MONTH
A12: 2000 | B12: January | C12: 0 | D12: 0 | E12: 95.056 | F12: 0 | G12: 95.056 | H12: 537.7976 | I12: 89.0236 | J12: 0 | K12: 278.8614 | L12: 905.6826 | M12: -810.6266
A13: 2000 | B13: February | C13: 0 | D13: 0 | E13: 88.7494 | F13: 0 | G13: 88.7494 | H13: 649.9454 | I13: 77.3244 | J13: 0 | K13: 259.6674 | L13: 986.9372 | M13: -898.1878
A14: 2000 | B14: March | C14: 0 | D14: 0 | E14: 97.1582 | F14: 0 | G14: 97.1582 | H14: 751.2166 | I14: 82.9912 | J14: 0 | K14: 259.8502 | L14: 1094.058 | M14: -996.8998
A15: 2000 | B15: April | C15: 0 | D15: 0 | E15: 89.115 | F15: 0 | G15: 89.115 | H15: 1076.9662 | I15: 74.3996 | J15: 0 | K15: 253.9092 | L15: 1405.275 | M15: -1316.16
A16: 2000 | B16: May | C16: 0 | D16: 0 | E16: 78.5126 | F16: 0 | G16: 78.5126 | H16: 1101.827 | I16: 62.9746 | J16: 0 | K16: 229.7796 | L16: 1394.5812 | M16: -1316.0686
A17: 2000 | B17: June | C17: 0 | D17: 0 | E17: 54.383 | F17: 0 | G17: 54.383 | H17: 965.4582 | I17: 59.5014 | J17: 0 | K17: 262.8664 | L17: 1287.826 | M17: -1233.443
A18: 2000 | B18: July | C18: 0 | D18: 0 | E18: 50.1786 | F18: 0 | G18: 50.1786 | H18: 795.7284 | I18: 31.2588 | J18: 0 | K18: 217.7148 | L18: 1044.702 | M18: -994.5234
A19: 2000 | B19: August | C19: 0 | D19: 0 | E19: 84.088 | F19: 0 | G19: 84.088 | H19: 1133.0858 | I19: 40.7644 | J19: 0 | K19: 192.6712 | L19: 1366.5214 | M19: -1282.4334
A20: 2000 | B20: September | C20: 0 | D20: 0 | E20: 90.7602 | F20: 0 | G20: 90.7602 | H20: 1032.2716 | I20: 38.0224 | J20: 0 | K20: 198.6122 | L20: 1268.9062 | M20: -1178.146
A21: 2000 | B21: October | C21: 0 | D21: 0 | E21: 100.997 | F21: 0 | G21: 100.997 | H21: 407.5526 | I21: 42.7752 | J21: 0 | K21: 226.7634 | L21: 677.0912 | M21: -576.0942
A22: 2000 | B22: November | C22: 32.0814 | D22: 0 | E22: 99.3518 | F22: 0 | G22: 131.4332 | H22: 192.2142 | I22: 58.039 | J22: 0 | K22: 263.9632 | L22: 514.2164 | M22: -382.7832
A23: 2000 | B23: December | C23: 238.0056 | D23: 0 | E23: 102.5508 | F23: 0 | G23: 340.5564 | H23: 0 | I23: 48.8076 | J23: 0 | K23: 302.8082 | L23: 351.6158 | M23: -11.0594
... A107: 2007 | B107: December | C107: 164.84083 | D107: 1149.9966 | E107: 2054.4294 | F107: 170.70161 | G107: 3539.9685 | H107: 65.997294 | I107: 87.34817 | J107: 3.97782 | K107: 413.51305 | L107: 570.83634 | M107: 2969.1321
A108: 2008 | B108: January | C108: 449.88875 | D108: 1126.1688 | E108: 2204.0559 | F108: 172.71037 | G108: =SUM(C108:F108) -> 3952.8238 | H108: 11.701617 | I108: 98.60424 | J108: 3.5424 | K108: 423.03128 | L108: 536.87954 | M108: =G108-L108 -> 3415.9443
A109: 2008 | B109: February | C109: 165.79089 | D109: 986.17822 | E109: 2527.8953 | F109: 12.178985 | G109: =SUM(C109:F109) -> 3692.0434 | H109: 31.192366 | I109: 55.0519 | J109: 3.08976 | K109: 433.74918 | L109: 523.08321 | M109: =G109-L109 -> 3168.9602
A110: 2008 | B110: March | C110: 175.09742 | D110: 1037.709 | E110: 2721.6144 | F110: 8.496565 | G110: =SUM(C110:F110) -> 3942.9173 | H110: 23.11297 | I110: 67.609 | J110: 3.59734 | K110: 463.45738 | L110: 557.77669 | M110: =G110-L110 -> 3385.1406
A111: 2008 | B111: April | C111: 276.9248 | D111: 850.30575 | E111: 2028.4198 | F111: 53.073335 | G111: =SUM(C111:F111) -> 3208.7237 | H111: 41.280948 | I111: 85.68372 | J111: 1.85402 | K111: 432.27019 | L111: 561.08888 | M111: =G111-L111 -> 2647.6348
A112: 2008 | B112: May | C112: 26.696124 | D112: 551.64194 | E112: 1533.8452 | F112: 26.693485 | G112: =SUM(C112:F112) -> 2138.8768 | H112: 443.99541 | I112: 107.6104 | J112: 2.93396 | K112: 412.42757 | L112: 966.96735 | M112: =G112-L112 -> 1171.9094
A113: 2008 | B113: June | C113: 0 | D113: 522.61336 | E113: 1150.9581 | F113: 8.736105 | G113: =SUM(C113:F113) -> 1682.3075 | H113: 527.39845 | I113: 96.43575 | J113: 2.5871 | K113: 357.84651 | L113: 984.26781 | M113: =G113-L113 -> 698.0397
A114: 2008 | B114: July | C114: 0.80746748 | D114: 533.36745 | E114: 2357.7016 | F114: 21.61747 | G114: =SUM(C114:F114) -> 2913.4939 | H114: 554.5736 | I114: 79.32486 | J114: 2.9192 | K114: 386.2192 | L114: 1023.0369 | M114: =G114-L114 -> 1890.4571
A115: 2008 | B115: August | C115: 0 | D115: 499.83261 | E115: 1346.0507 | F115: 16.47345 | G115: =SUM(C115:F115) -> 1862.3568 | H115: 565.86085 | I115: 74.6362 | J115: 3.8991 | K115: 378.54399 | L115: 1022.9401 | M115: =G115-L115 -> 839.41665
A116: 2008 | B116: September | C116: 0 | D116: 296.4978 | E116: 1034.6991 | F116: 35.55545 | G116: =SUM(C116:F116) -> 1366.7523 | H116: 373.62838 | I116: 27.94592 | J116: 2.83392 | K116: 368.37344 | L116: 772.78167 | M116: =G116-L116 -> 593.97068
A117: 2008 | B117: October | C117: 0 | D117: 488.85947 | E117: 2790.7254 | F117: 74.19041 | G117: =SUM(C117:F117) -> 3353.7753 | H117: 997.9628 | I117: 60.26685 | J117: 2.666 | K117: 404.3243 | L117: 1465.22 | M117: =G117-L117 -> 1888.5554
A118: 2008 | B118: November | C118: 1.1776661 | D118: 748.03913 | E118: 2750.9657 | F118: 182.14683 | G118: =SUM(C118:F118) -> 3682.3293 | H118: 428.27637 | I118: 62.22632 | J118: 2.494 | K118: 431.04007 | L118: 924.03675 | M118: =G118-L118 -> 2758.2925
A119: 2008 | B119: December | C119: 30.429931 | D119: 798.36261 | E119: 3081.195 | F119: 222.89908 | G119: =SUM(C119:F119) -> 4132.8866 | H119: 184.859 | I119: 85.84684 | J119: 2.49444 | K119: 461.08494 | L119: 734.28522 | M119: =G119-L119 -> 3398.6013
... A131: 2009 | B131: December | C131: 483.73488 | D131: 1044.8833 | E131: 2512.3576 | F131: 1773.0274 | G131: =SUM(C131:F131) -> 5814.0032 | H131: 0 | I131: 116.19674 | J131: 1.437 | K131: 494.90612 | L131: 612.53986 | M131: =G131-L131 -> 5201.4633
A132: 2010 | B132: January | C132: 390.31886 | D132: 1031.8662 | E132: 3049.4286 | F132: 1645.1792 | G132: 6116.7928 | H132: 42.651953 | I132: 128.654 | J132: 1.56784 | K132: 510.5332 | L132: 683.40699 | M132: =G132-L132 -> 5433.3858
A133: 2010 | B133: February | C133: 128.98485 | D133: 876.99792 | E133: 2684.0991 | F133: 1432.5179 | G133: 5122.5998 | H133: 71.710476 | I133: 120.397 | J133: 0.92824 | K133: 296.49019 | L133: 489.52591 | M133: =G133-L133 -> 4633.0739
A134: 2010 | B134: March | C134: 11.572609 | D134: 911.10275 | E134: 2827.999 | F134: 1407.8922 | G134: 5158.5665 | H134: 261.33483 | I134: 138.312 | J134: 1.34152 | K134: 481.66998 | L134: 882.65833 | M134: =G134-L134 -> 4275.9082
A135: 2010 | B135: April | C135: 0 | D135: 721.95621 | E135: 1691.4703 | F135: 1820.1584 | G135: 4233.5849 | H135: 864.69279 | I135: 127.05694 | J135: 1.47682 | K135: 406.47073 | L135: 1399.6973 | M135: =G135-L135 -> 2833.8877
A136: 2010 | B136: May | C136: 0 | D136: 520.74414 | E136: 1758.16 | F136: 1699.4857 | G136: 3978.3899 | H136: 1306.2872 | I136: 123.1081 | J136: 1.08486 | K136: 425.86629 | L136: 1856.3464 | M136: =G136-L136 -> 2122.0435
A137: 2010 | B137: June | C137: 0 | D137: 443.90169 | E137: 2088.4497 | F137: 1005.1298 | G137: 3537.4811 | H137: 1414.7091 | I137: 122.94965 | J137: 0.14104 | K137: 412.89483 | L137: 1950.6946 | M137: =G137-L137 -> 1586.7865
A138: 2010 | B138: July | C138: 0 | D138: 467.6865 | E138: 1267.6478 | F138: 1037.0885 | G138: 2772.4228 | H138: 1302.458 | I138: 79.07843 | J138: 0.38294 | K138: 405.0913 | L138: 1787.0107 | M138: =G138-L138 -> 985.41209
A139: 2010 | B139: August | C139: 0 | D139: 407.58155 | E139: 1108.749 | F139: 1481.2837 | G139: 2997.6142 | H139: 1025.6864 | I139: 97.44885 | J139: 1.47026 | K139: 413.28358 | L139: 1537.8891 | M139: =G139-L139 -> 1459.7251
A140: 2010 | B140: September | C140: 0 | D140: 412.97697 | E140: 622.6286 | F140: 1575.9432 | G140: 2611.5488 | H140: 669.52047 | I140: 17.11629 | J140: 1.57358 | K140: 421.50941 | L140: 1109.7198 | M140: =G140-L140 -> 1501.829
A141: 2010 | B141: October | C141: 0 | D141: 558.20644 | E141: 2161.8713 | F141: 1771.7527 | G141: 4491.8304 | H141: 1506.2208 | I141: 94.47283 | J141: 1.75808 | K141: 396.28374 | L141: 1998.7355 | M141: =G141-L141 -> 2493.095
A142: 2010 | B142: November | C142: 86.755993 | D142: 887.78093 | E142: 2554.4075 | F142: 1921.7992 | G142: 5450.7436 | H142: 335.4637 | I142: 109.3121 | J142: 1.1931 | K142: 490.79542 | L142: 936.76432 | M142: =G142-L142 -> 4513.9792
A143: 2010 | B143: December | C143: 627.10715 | D143: 923.27458 | E143: 3210.9342 | F143: 2233.4011 | G143: 6994.7171 | H143: 0.92646192 | I143: 135.62052 | J143: 1.2587 | K143: 472.60941 | L143: 610.41509 | M143: =G143-L143 -> 6384.302
... A167: 2012 | B167: December | C167: 416.77163 | D167: 917.06796 | E167: 3331.811 | F167: 1232.3731 | G167: 5898.0237 | H167: 33.539796 | I167: 165.80667 | J167: 0.20582 | K167: 426.71174 | L167: 626.26402 | M167: =G167-L167 -> 5271.7597
A168: 2013 | B168: January | C168: 417.46178 | D168: 967.33467 | E168: 3344.0914 | F168: 660.32144 | G168: 5389.2093 | H168: 32.632905 | I168: 159.249 | J168: 0 | K168: 410.76952 | L168: 602.65142 | M168: 4786.5579
A169: 2013 | B169: February | C169: 510.05312 | D169: 936.07174 | E169: 2973.8358 | F169: 438.89107 | G169: 4858.8518 | H169: 0 | I169: 147.89463 | J169: 0.35998 | K169: 386.53195 | L169: 534.78656 | M169: 4324.0652
A170: 2013 | B170: March | C170: 1683.4065 | D170: 954.15389 | E170: 3211.4411 | F170: 397.47881 | G170: 6246.4804 | H170: 0 | I170: 139.89416 | J170: 0.05576 | K170: 464.35934 | L170: 604.30926 | M170: 5642.1711
A171: 2013 | B171: April | C171: 144.85432 | D171: 657.15212 | E171: 2800.74 | F171: 1169.9946 | G171: 4772.741 | H171: 229.64826 | I171: 101.67325 | J171: 0.02624 | K171: 413.73954 | L171: 745.08729 | M171: 4027.6537
A172: 2013 | B172: May | C172: 1.9871938 | D172: 548.57528 | E172: 1545.7547 | F172: 1459.8976 | G172: 3556.2148 | H172: 468.81042 | I172: 121.11358 | J172: 0.082 | K172: 452.71786 | L172: 1042.7239 | M172: 2513.4909
A173: 2013 | B173: June | C173: 0 | D173: 272.05181 | E173: 1697.9598 | F173: 1423.1231 | G173: 3393.1347 | H173: 616.23264 | I173: 131.70117 | J173: 0 | K173: 460.21202 | L173: 1208.1458 | M173: 2184.9889
A174: 2013 | B174: July | C174: 0 | D174: 366.49548 | E174: 1463.8264 | F174: 737.83234 | G174: 2568.1542 | H174: 591.29681 | I174: 147.27216 | J174: 0 | K174: 392.32646 | L174: 1130.8954 | M174: 1437.2588
A175: 2013 | B175: August | C175: 21.519329 | D175: 318.83268 | E175: 1228.4553 | F175: 596.33077 | G175: 2165.1381 | H175: 181.1917 | I175: 129.468 | J175: 0.06478 | K175: 392.99899 | L175: 703.72347 | M175: 1461.4146
A176: 2013 | B176: September | C176: 4.0594738 | D176: 295.17523 | E176: 1504.4758 | F176: 445.62763 | G176: 2249.3382 | H176: 228.05127 | I176: 134.0131 | J176: 0.02542 | K176: 386.48718 | L176: 748.57697 | M176: 1500.7612
A177: 2013 | B177: October | C177: 7.8104763 | D177: 405.07302 | E177: 2080.7658 | F177: 675.12725 | G177: 3168.7765 | H177: 170.80688 | I177: 120.14276 | J177: 0.23698 | K177: 370.97259 | L177: 662.15921 | M177: 2506.6173
A178: 2013 | B178: November | C178: 262.91544 | D178: 906.87048 | E178: 2800.0476 | F178: 1043.8554 | G178: 5013.6889 | H178: 0 | I178: 125.88 | J178: 0.44854 | K178: 402.10817 | L178: 528.43671 | M178: 4485.2522
A179: 2013 | B179: December | C179: 253.08656 | D179: 970.15646 | E179: 3214.3225 | F179: 369.05603 | G179: 4806.6216 | H179: 0.64491132 | I179: 103.423 | J179: 0.46002 | K179: 371.32775 | L179: 475.85568 | M179: 4330.7659
... A205: 2016 | B205: February | C205: 20.517895 | D205: 624.31913 | E205: 2772.8227 | F205: 1258.2133 | G205: 4675.873 | H205: 124.47467 | I205: 142.72416 | J205: 0 | K205: 249.75917 | L205: 516.95799 | M205: 4158.915
A207: Return to contents page

Sheet Calculated CV's
A1: GAS | B1: Natural gas production and supply
A2: TABLE 4.3 Natural gas imports and exports
M3: Calorific values (Mj/m3)
E6: Imports | K6: Exports
C7: From | D7: From the | E7: From | F7: Liquefied | G7: Total | H7: To | I7: To the | J7: To | K7: To the | L7: Total | M7: Net
C8: Belgium | D8: Netherlands | E8: Norway | F8: Natural Gas | G8: Imports | H8: Belgium | I8: Netherlands | J8: Norway | K8: Republic of | L8: Exports | M8: Imports
K9: Ireland
A11: YEAR | B11: MONTH
A12: 2000 | B12: January | E12: ='Month (GWh)'!E12*3.6/'Month (Million m3)'!E12 -> 39.387309 | G12: ='Month (GWh)'!G12*3.6/'Month (Million m3)'!G12 -> 39.387309 | H12: ='Month (GWh)'!H12*3.6/'Month (Million m3)'!H12 -> 39.387309 | I12: ='Month (GWh)'!I12*3.6/'Month (Million m3)'!I12 -> 39.387309 | K12: ='Month (GWh)'!K12*3.6/'Month (Million m3)'!K12 -> 39.387309 | L12: ='Month (GWh)'!L12*3.6/'Month (Million m3)'!L12 -> 39.387309 | M12: ='Month (GWh)'!M12*3.6/'Month (Million m3)'!M12 -> 39.387309 | N12: =IF(($M12)>41,"Too High?","") | O12: =IF(($M12)<38,"Too Low?","")
A13: 2000 | B13: February | E13: ='Month (GWh)'!E13*3.6/'Month (Million m3)'!E13 -> 39.387309 | G13: ='Month (GWh)'!G13*3.6/'Month (Million m3)'!G13 -> 39.387309 | H13: ='Month (GWh)'!H13*3.6/'Month (Million m3)'!H13 -> 39.387309 | I13: ='Month (GWh)'!I13*3.6/'Month (Million m3)'!I13 -> 39.387309 | K13: ='Month (GWh)'!K13*3.6/'Month (Million m3)'!K13 -> 39.387309 | L13: ='Month (GWh)'!L13*3.6/'Month (Million m3)'!L13 -> 39.387309 | M13: ='Month (GWh)'!M13*3.6/'Month (Million m3)'!M13 -> 39.387309 | N13: =IF(($M13)>41,"Too High?","") | O13: =IF(($M13)<38,"Too Low?","")
A14: 2000 | B14: March | E14: ='Month (GWh)'!E14*3.6/'Month (Million m3)'!E14 -> 39.387309 | G14: ='Month (GWh)'!G14*3.6/'Month (Million m3)'!G14 -> 39.387309 | H14: ='Month (GWh)'!H14*3.6/'Month (Million m3)'!H14 -> 39.387309 | I14: ='Month (GWh)'!I14*3.6/'Month (Million m3)'!I14 -> 39.387309 | K14: ='Month (GWh)'!K14*3.6/'Month (Million m3)'!K14 -> 39.387309 | L14: ='Month (GWh)'!L14*3.6/'Month (Million m3)'!L14 -> 39.387309 | M14: ='Month (GWh)'!M14*3.6/'Month (Million m3)'!M14 -> 39.387309 | N14: =IF(($M14)>41,"Too High?","") | O14: =IF(($M14)<38,"Too Low?","")
A15: 2000 | B15: April | E15: ='Month (GWh)'!E15*3.6/'Month (Million m3)'!E15 -> 39.387309 | G15: ='Month (GWh)'!G15*3.6/'Month (Million m3)'!G15 -> 39.387309 | H15: ='Month (GWh)'!H15*3.6/'Month (Million m3)'!H15 -> 39.387309 | I15: ='Month (GWh)'!I15*3.6/'Month (Million m3)'!I15 -> 39.387309 | K15: ='Month (GWh)'!K15*3.6/'Month (Million m3)'!K15 -> 39.387309 | L15: ='Month (GWh)'!L15*3.6/'Month (Million m3)'!L15 -> 39.387309 | M15: ='Month (GWh)'!M15*3.6/'Month (Million m3)'!M15 -> 39.387309 | N15: =IF(($M15)>41,"Too High?","") | O15: =IF(($M15)<38,"Too Low?","")
A16: 2000 | B16: May | E16: ='Month (GWh)'!E16*3.6/'Month (Million m3)'!E16 -> 39.387309 | G16: ='Month (GWh)'!G16*3.6/'Month (Million m3)'!G16 -> 39.387309 | H16: ='Month (GWh)'!H16*3.6/'Month (Million m3)'!H16 -> 39.387309 | I16: ='Month (GWh)'!I16*3.6/'Month (Million m3)'!I16 -> 39.387309 | K16: ='Month (GWh)'!K16*3.6/'Month (Million m3)'!K16 -> 39.387309 | L16: ='Month (GWh)'!L16*3.6/'Month (Million m3)'!L16 -> 39.387309 | M16: ='Month (GWh)'!M16*3.6/'Month (Million m3)'!M16 -> 39.387309 | N16: =IF(($M16)>41,"Too High?","") | O16: =IF(($M16)<38,"Too Low?","")
A17: 2000 | B17: June | E17: ='Month (GWh)'!E17*3.6/'Month (Million m3)'!E17 -> 39.387309 | G17: ='Month (GWh)'!G17*3.6/'Month (Million m3)'!G17 -> 39.387309 | H17: ='Month (GWh)'!H17*3.6/'Month (Million m3)'!H17 -> 39.387309 | I17: ='Month (GWh)'!I17*3.6/'Month (Million m3)'!I17 -> 39.387309 | K17: ='Month (GWh)'!K17*3.6/'Month (Million m3)'!K17 -> 39.387309 | L17: ='Month (GWh)'!L17*3.6/'Month (Million m3)'!L17 -> 39.387309 | M17: ='Month (GWh)'!M17*3.6/'Month (Million m3)'!M17 -> 39.387309 | N17: =IF(($M17)>41,"Too High?","") | O17: =IF(($M17)<38,"Too Low?","")
A18: 2000 | B18: July | E18: ='Month (GWh)'!E18*3.6/'Month (Million m3)'!E18 -> 39.387309 | G18: ='Month (GWh)'!G18*3.6/'Month (Million m3)'!G18 -> 39.387309 | H18: ='Month (GWh)'!H18*3.6/'Month (Million m3)'!H18 -> 39.387309 | I18: ='Month (GWh)'!I18*3.6/'Month (Million m3)'!I18 -> 39.387309 | K18: ='Month (GWh)'!K18*3.6/'Month (Million m3)'!K18 -> 39.387309 | L18: ='Month (GWh)'!L18*3.6/'Month (Million m3)'!L18 -> 39.387309 | M18: ='Month (GWh)'!M18*3.6/'Month (Million m3)'!M18 -> 39.387309 | N18: =IF(($M18)>41,"Too High?","") | O18: =IF(($M18)<38,"Too Low?","")
A19: 2000 | B19: August | E19: ='Month (GWh)'!E19*3.6/'Month (Million m3)'!E19 -> 39.387309 | G19: ='Month (GWh)'!G19*3.6/'Month (Million m3)'!G19 -> 39.387309 | H19: ='Month (GWh)'!H19*3.6/'Month (Million m3)'!H19 -> 39.387309 | I19: ='Month (GWh)'!I19*3.6/'Month (Million m3)'!I19 -> 39.387309 | K19: ='Month (GWh)'!K19*3.6/'Month (Million m3)'!K19 -> 39.387309 | L19: ='Month (GWh)'!L19*3.6/'Month (Million m3)'!L19 -> 39.387309 | M19: ='Month (GWh)'!M19*3.6/'Month (Million m3)'!M19 -> 39.387309 | N19: =IF(($M19)>41,"Too High?","") | O19: =IF(($M19)<38,"Too Low?","")
A20: 2000 | B20: September | E20: ='Month (GWh)'!E20*3.6/'Month (Million m3)'!E20 -> 39.387309 | G20: ='Month (GWh)'!G20*3.6/'Month (Million m3)'!G20 -> 39.387309 | H20: ='Month (GWh)'!H20*3.6/'Month (Million m3)'!H20 -> 39.387309 | I20: ='Month (GWh)'!I20*3.6/'Month (Million m3)'!I20 -> 39.387309 | K20: ='Month (GWh)'!K20*3.6/'Month (Million m3)'!K20 -> 39.387309 | L20: ='Month (GWh)'!L20*3.6/'Month (Million m3)'!L20 -> 39.387309 | M20: ='Month (GWh)'!M20*3.6/'Month (Million m3)'!M20 -> 39.387309 | N20: =IF(($M20)>41,"Too High?","") | O20: =IF(($M20)<38,"Too Low?","")
A21: 2000 | B21: October | E21: ='Month (GWh)'!E21*3.6/'Month (Million m3)'!E21 -> 39.387309 | G21: ='Month (GWh)'!G21*3.6/'Month (Million m3)'!G21 -> 39.387309 | H21: ='Month (GWh)'!H21*3.6/'Month (Million m3)'!H21 -> 39.387309 | I21: ='Month (GWh)'!I21*3.6/'Month (Million m3)'!I21 -> 39.387309 | K21: ='Month (GWh)'!K21*3.6/'Month (Million m3)'!K21 -> 39.387309 | L21: ='Month (GWh)'!L21*3.6/'Month (Million m3)'!L21 -> 39.387309 | M21: ='Month (GWh)'!M21*3.6/'Month (Million m3)'!M21 -> 39.387309 | N21: =IF(($M21)>41,"Too High?","") | O21: =IF(($M21)<38,"Too Low?","")
A22: 2000 | B22: November | C22: ='Month (GWh)'!C22*3.6/'Month (Million m3)'!C22 -> 39.387309 | E22: ='Month (GWh)'!E22*3.6/'Month (Million m3)'!E22 -> 39.387309 | G22: ='Month (GWh)'!G22*3.6/'Month (Million m3)'!G22 -> 39.387309 | H22: ='Month (GWh)'!H22*3.6/'Month (Million m3)'!H22 -> 39.387309 | I22: ='Month (GWh)'!I22*3.6/'Month (Million m3)'!I22 -> 39.387309 | K22: ='Month (GWh)'!K22*3.6/'Month (Million m3)'!K22 -> 39.387309 | L22: ='Month (GWh)'!L22*3.6/'Month (Million m3)'!L22 -> 39.387309 | M22: ='Month (GWh)'!M22*3.6/'Month (Million m3)'!M22 -> 39.387309 | N22: =IF(($M22)>41,"Too High?","") | O22: =IF(($M22)<38,"Too Low?","")
A23: 2000 | B23: December | C23: ='Month (GWh)'!C23*3.6/'Month (Million m3)'!C23 -> 39.387309 | E23: ='Month (GWh)'!E23*3.6/'Month (Million m3)'!E23 -> 39.387309 | G23: ='Month (GWh)'!G23*3.6/'Month (Million m3)'!G23 -> 39.387309 | I23: ='Month (GWh)'!I23*3.6/'Month (Million m3)'!I23 -> 39.387309 | K23: ='Month (GWh)'!K23*3.6/'Month (Million m3)'!K23 -> 39.387309 | L23: ='Month (GWh)'!L23*3.6/'Month (Million m3)'!L23 -> 39.387309 | M23: ='Month (GWh)'!M23*3.6/'Month (Million m3)'!M23 -> 39.387309 | N23: =IF(($M23)>41,"Too High?","") | O23: =IF(($M23)<38,"Too Low?","")
A24: 2001 | B24: January | C24: ='Month (GWh)'!C24*3.6/'Month (Million m3)'!C24 -> 39.387309 | E24: ='Month (GWh)'!E24*3.6/'Month (Million m3)'!E24 -> 39.387309 | G24: ='Month (GWh)'!G24*3.6/'Month (Million m3)'!G24 -> 39.387309 | H24: ='Month (GWh)'!H24*3.6/'Month (Million m3)'!H24 -> 39.387309 | I24: ='Month (GWh)'!I24*3.6/'Month (Million m3)'!I24 -> 39.387309 | K24: ='Month (GWh)'!K24*3.6/'Month (Million m3)'!K24 -> 39.040678 | L24: ='Month (GWh)'!L24*3.6/'Month (Million m3)'!L24 -> 39.089636 | M24: ='Month (GWh)'!M24*3.6/'Month (Million m3)'!M24 -> 38.843132 | N24: =IF(($M24)>41,"Too High?","") | O24: =IF(($M24)<38,"Too Low?","")
A25: 2001 | B25: February | C25: ='Month (GWh)'!C25*3.6/'Month (Million m3)'!C25 -> 39.387309 | E25: ='Month (GWh)'!E25*3.6/'Month (Million m3)'!E25 -> 39.387309 | G25: ='Month (GWh)'!G25*3.6/'Month (Million m3)'!G25 -> 39.387309 | I25: ='Month (GWh)'!I25*3.6/'Month (Million m3)'!I25 -> 39.387309 | K25: ='Month (GWh)'!K25*3.6/'Month (Million m3)'!K25 -> 39.387309 | L25: ='Month (GWh)'!L25*3.6/'Month (Million m3)'!L25 -> 39.387309 | M25: ='Month (GWh)'!M25*3.6/'Month (Million m3)'!M25 -> 39.387309 | N25: =IF(($M25)>41,"Too High?","") | O25: =IF(($M25)<38,"Too Low?","")
A26: 2001 | B26: March | C26: ='Month (GWh)'!C26*3.6/'Month (Million m3)'!C26 -> 39.387309 | E26: ='Month (GWh)'!E26*3.6/'Month (Million m3)'!E26 -> 39.387309 | G26: ='Month (GWh)'!G26*3.6/'Month (Million m3)'!G26 -> 39.387309 | H26: ='Month (GWh)'!H26*3.6/'Month (Million m3)'!H26 -> 39.387309 | I26: ='Month (GWh)'!I26*3.6/'Month (Million m3)'!I26 -> 39.387309 | K26: ='Month (GWh)'!K26*3.6/'Month (Million m3)'!K26 -> 39.241121 | L26: ='Month (GWh)'!L26*3.6/'Month (Million m3)'!L26 -> 39.305189 | M26: ='Month (GWh)'!M26*3.6/'Month (Million m3)'!M26 -> 39.289423 | N26: =IF(($M26)>41,"Too High?","") | O26: =IF(($M26)<38,"Too Low?","")
A27: 2001 | B27: April | E27: ='Month (GWh)'!E27*3.6/'Month (Million m3)'!E27 -> 39.387309 | G27: ='Month (GWh)'!G27*3.6/'Month (Million m3)'!G27 -> 39.387309 | H27: ='Month (GWh)'!H27*3.6/'Month (Million m3)'!H27 -> 39.387309 | I27: ='Month (GWh)'!I27*3.6/'Month (Million m3)'!I27 -> 39.387309 | K27: ='Month (GWh)'!K27*3.6/'Month (Million m3)'!K27 -> 38.97492 | L27: ='Month (GWh)'!L27*3.6/'Month (Million m3)'!L27 -> 39.259321 | M27: ='Month (GWh)'!M27*3.6/'Month (Million m3)'!M27 -> 39.250845 | N27: =IF(($M27)>41,"Too High?","") | O27: =IF(($M27)<38,"Too Low?","")
A28: 2001 | B28: May | E28: ='Month (GWh)'!E28*3.6/'Month (Million m3)'!E28 -> 39.821538 | G28: ='Month (GWh)'!G28*3.6/'Month (Million m3)'!G28 -> 39.821538 | H28: ='Month (GWh)'!H28*3.6/'Month (Million m3)'!H28 -> 39.257541 | I28: ='Month (GWh)'!I28*3.6/'Month (Million m3)'!I28 -> 39.387309 | K28: ='Month (GWh)'!K28*3.6/'Month (Million m3)'!K28 -> 39.145392 | L28: ='Month (GWh)'!L28*3.6/'Month (Million m3)'!L28 -> 39.235182 | M28: ='Month (GWh)'!M28*3.6/'Month (Million m3)'!M28 -> 39.201639 | N28: =IF(($M28)>41,"Too High?","") | O28: =IF(($M28)<38,"Too Low?","")
A29: 2001 | B29: June | E29: ='Month (GWh)'!E29*3.6/'Month (Million m3)'!E29 -> 39.771429 | G29: ='Month (GWh)'!G29*3.6/'Month (Million m3)'!G29 -> 39.771429 | H29: ='Month (GWh)'!H29*3.6/'Month (Million m3)'!H29 -> 39.218067 | I29: ='Month (GWh)'!I29*3.6/'Month (Million m3)'!I29 -> 39.387309 | K29: ='Month (GWh)'!K29*3.6/'Month (Million m3)'!K29 -> 39.177273 | L29: ='Month (GWh)'!L29*3.6/'Month (Million m3)'!L29 -> 39.20997 | M29: ='Month (GWh)'!M29*3.6/'Month (Million m3)'!M29 -> 39.17943 | N29: =IF(($M29)>41,"Too High?","") | O29: =IF(($M29)<38,"Too Low?","")
A30: 2001 | B30: July | E30: 0 | G30: 0 | H30: ='Month (GWh)'!H30*3.6/'Month (Million m3)'!H30 -> 39.173014 | I30: ='Month (GWh)'!I30*3.6/'Month (Million m3)'!I30 -> 39.173014 | K30: ='Month (GWh)'!K30*3.6/'Month (Million m3)'!K30 -> 39.101351 | L30: ='Month (GWh)'!L30*3.6/'Month (Million m3)'!L30 -> 39.160116 | M30: ='Month (GWh)'!M30*3.6/'Month (Million m3)'!M30 -> 39.160116 | N30: =IF(($M30)>41,"Too High?","") | O30: =IF(($M30)<38,"Too Low?","")
A31: 2001 | B31: August | E31: ='Month (GWh)'!E31*3.6/'Month (Million m3)'!E31 -> 39.387309 | G31: ='Month (GWh)'!G31*3.6/'Month (Million m3)'!G31 -> 39.387309 | H31: ='Month (GWh)'!H31*3.6/'Month (Million m3)'!H31 -> 39.173014 | I31: ='Month (GWh)'!I31*3.6/'Month (Million m3)'!I31 -> 39.387309 | K31: ='Month (GWh)'!K31*3.6/'Month (Million m3)'!K31 -> 39.387309 | L31: ='Month (GWh)'!L31*3.6/'Month (Million m3)'!L31 -> 39.222543 | M31: ='Month (GWh)'!M31*3.6/'Month (Million m3)'!M31 -> 39.214665 | N31: =IF(($M31)>41,"Too High?","") | O31: =IF(($M31)<38,"Too Low?","")
A32: 2001 | B32: September | E32: ='Month (GWh)'!E32*3.6/'Month (Million m3)'!E32 -> 39.942857 | G32: ='Month (GWh)'!G32*3.6/'Month (Million m3)'!G32 -> 39.942857 | H32: ='Month (GWh)'!H32*3.6/'Month (Million m3)'!H32 -> 39.267488 | I32: ='Month (GWh)'!I32*3.6/'Month (Million m3)'!I32 -> 39.387309 | K32: ='Month (GWh)'!K32*3.6/'Month (Million m3)'!K32 -> 39.228571 | L32: ='Month (GWh)'!L32*3.6/'Month (Million m3)'!L32 -> 39.264173 | M32: ='Month (GWh)'!M32*3.6/'Month (Million m3)'!M32 -> 39.223529 | N32: =IF(($M32)>41,"Too High?","") | O32: =IF(($M32)<38,"Too Low?","")
A33: 2001 | B33: October | E33: ='Month (GWh)'!E33*3.6/'Month (Million m3)'!E33 -> 39.753191 | G33: ='Month (GWh)'!G33*3.6/'Month (Million m3)'!G33 -> 39.753191 | H33: ='Month (GWh)'!H33*3.6/'Month (Million m3)'!H33 -> 39.089032 | I33: ='Month (GWh)'!I33*3.6/'Month (Million m3)'!I33 -> 39.130435 | K33: ='Month (GWh)'!K33*3.6/'Month (Million m3)'!K33 -> 39.130435 | L33: ='Month (GWh)'!L33*3.6/'Month (Million m3)'!L33 -> 39.099615 | M33: ='Month (GWh)'!M33*3.6/'Month (Million m3)'!M33 -> 39.016468 | N33: =IF(($M33)>41,"Too High?","") | O33: =IF(($M33)<38,"Too Low?","")
A34: 2001 | B34: November | E34: ='Month (GWh)'!E34*3.6/'Month (Million m3)'!E34 -> 39.852229 | G34: ='Month (GWh)'!G34*3.6/'Month (Million m3)'!G34 -> 39.852229 | H34: ='Month (GWh)'!H34*3.6/'Month (Million m3)'!H34 -> 39.124528 | I34: ='Month (GWh)'!I34*3.6/'Month (Million m3)'!I34 -> 39.387309 | K34: ='Month (GWh)'!K34*3.6/'Month (Million m3)'!K34 -> 39.12809 | L34: ='Month (GWh)'!L34*3.6/'Month (Million m3)'!L34 -> 39.142442 | M34: ='Month (GWh)'!M34*3.6/'Month (Million m3)'!M34 -> 38.967651 | N34: =IF(($M34)>41,"Too High?","") | O34: =IF(($M34)<38,"Too Low?","")
A35: 2001 | B35: December | C35: ='Month (GWh)'!C35*3.6/'Month (Million m3)'!C35 -> 39.387309 | E35: ='Month (GWh)'!E35*3.6/'Month (Million m3)'!E35 -> 39.496403 | G35: ='Month (GWh)'!G35*3.6/'Month (Million m3)'!G35 -> 39.470752 | H35: ='Month (GWh)'!H35*3.6/'Month (Million m3)'!H35 -> 39.387309 | I35: ='Month (GWh)'!I35*3.6/'Month (Million m3)'!I35 -> 39.387309 | K35: ='Month (GWh)'!K35*3.6/'Month (Million m3)'!K35 -> 39.387309 | L35: ='Month (GWh)'!L35*3.6/'Month (Million m3)'!L35 -> 39.387309 | M35: ='Month (GWh)'!M35*3.6/'Month (Million m3)'!M35 -> 39.04325 | N35: =IF(($M35)>41,"Too High?","") | O35: =IF(($M35)<38,"Too Low?","")
A36: 2002 | B36: January | C36: ='Month (GWh)'!C36*3.6/'Month (Million m3)'!C36 -> 39.153639 | E36: ='Month (GWh)'!E36*3.6/'Month (Million m3)'!E36 -> 40.591335 | G36: ='Month (GWh)'!G36*3.6/'Month (Million m3)'!G36 -> 39.76784 | I36: ='Month (GWh)'!I36*3.6/'Month (Million m3)'!I36 -> 39.387309 | K36: ='Month (GWh)'!K36*3.6/'Month (Million m3)'!K36 -> 39.708271 | L36: ='Month (GWh)'!L36*3.6/'Month (Million m3)'!L36 -> 39.656012 | M36: ='Month (GWh)'!M36*3.6/'Month (Million m3)'!M36 -> 39.875518 | N36: =IF(($M36)>41,"Too High?","") | O36: =IF(($M36)<38,"Too Low?","")
A37: 2002 | B37: February | C37: ='Month (GWh)'!C37*3.6/'Month (Million m3)'!C37 -> 38.905714 | E37: ='Month (GWh)'!E37*3.6/'Month (Million m3)'!E37 -> 40.556357 | G37: ='Month (GWh)'!G37*3.6/'Month (Million m3)'!G37 -> 40.103374 | I37: ='Month (GWh)'!I37*3.6/'Month (Million m3)'!I37 -> 39.387309 | K37: ='Month (GWh)'!K37*3.6/'Month (Million m3)'!K37 -> 39.459922 | L37: ='Month (GWh)'!L37*3.6/'Month (Million m3)'!L37 -> 39.451803 | M37: ='Month (GWh)'!M37*3.6/'Month (Million m3)'!M37 -> 40.957265 | N37: =IF(($M37)>41,"Too High?","") | O37: =IF(($M37)<38,"Too Low?","")
A38: 2002 | B38: March | E38: ='Month (GWh)'!E38*3.6/'Month (Million m3)'!E38 -> 40.461445 | G38: ='Month (GWh)'!G38*3.6/'Month (Million m3)'!G38 -> 40.461445 | H38: ='Month (GWh)'!H38*3.6/'Month (Million m3)'!H38 -> 39.24497 | I38: ='Month (GWh)'!I38*3.6/'Month (Million m3)'!I38 -> 39.387309 | K38: ='Month (GWh)'!K38*3.6/'Month (Million m3)'!K38 -> 39.179811 | L38: ='Month (GWh)'!L38*3.6/'Month (Million m3)'!L38 -> 39.228849 | M38: ='Month (GWh)'!M38*3.6/'Month (Million m3)'!M38 -> 38.112924 | N38: =IF(($M38)>41,"Too High?","") | O38: =IF(($M38)<38,"Too Low?","")
A39: 2002 | B39: April | E39: ='Month (GWh)'!E39*3.6/'Month (Million m3)'!E39 -> 40.336886 | G39: ='Month (GWh)'!G39*3.6/'Month (Million m3)'!G39 -> 40.336886 | H39: ='Month (GWh)'!H39*3.6/'Month (Million m3)'!H39 -> 39.234375 | I39: ='Month (GWh)'!I39*3.6/'Month (Million m3)'!I39 -> 39.387309 | K39: ='Month (GWh)'!K39*3.6/'Month (Million m3)'!K39 -> 39.162431 | L39: ='Month (GWh)'!L39*3.6/'Month (Million m3)'!L39 -> 39.2193 | M39: ='Month (GWh)'!M39*3.6/'Month (Million m3)'!M39 -> 39.020286 | N39: =IF(($M39)>41,"Too High?","") | O39: =IF(($M39)<38,"Too Low?","")
A40: 2002 | B40: May | E40: ='Month (GWh)'!E40*3.6/'Month (Million m3)'!E40 -> 38.995174 | G40: ='Month (GWh)'!G40*3.6/'Month (Million m3)'!G40 -> 38.995174 | H40: ='Month (GWh)'!H40*3.6/'Month (Million m3)'!H40 -> 39.102292 | I40: ='Month (GWh)'!I40*3.6/'Month (Million m3)'!I40 -> 39.387309 | K40: ='Month (GWh)'!K40*3.6/'Month (Million m3)'!K40 -> 39.387309 | L40: ='Month (GWh)'!L40*3.6/'Month (Million m3)'!L40 -> 39.158247 | M40: ='Month (GWh)'!M40*3.6/'Month (Million m3)'!M40 -> 39.164952 | N40: =IF(($M40)>41,"Too High?","") | O40: =IF(($M40)<38,"Too Low?","")
A41: 2002 | B41: June | E41: ='Month (GWh)'!E41*3.6/'Month (Million m3)'!E41 -> 39.978586 | G41: ='Month (GWh)'!G41*3.6/'Month (Million m3)'!G41 -> 39.978586 | H41: ='Month (GWh)'!H41*3.6/'Month (Million m3)'!H41 -> 39.118088 | I41: ='Month (GWh)'!I41*3.6/'Month (Million m3)'!I41 -> 39.387309 | K41: ='Month (GWh)'!K41*3.6/'Month (Million m3)'!K41 -> 39.387309 | L41: ='Month (GWh)'!L41*3.6/'Month (Million m3)'!L41 -> 39.170317 | M41: ='Month (GWh)'!M41*3.6/'Month (Million m3)'!M41 -> 39.093318 | N41: =IF(($M41)>41,"Too High?","") | O41: =IF(($M41)<38,"Too Low?","")
A42: 2002 | B42: July | C42: ='Month (GWh)'!C42*3.6/'Month (Million m3)'!C42 -> 39.387309 | E42: ='Month (GWh)'!E42*3.6/'Month (Million m3)'!E42 -> 40.169603 | G42: ='Month (GWh)'!G42*3.6/'Month (Million m3)'!G42 -> 39.934854 | H42: ='Month (GWh)'!H42*3.6/'Month (Million m3)'!H42 -> 39.387309 | I42: ='Month (GWh)'!I42*3.6/'Month (Million m3)'!I42 -> 39.387309 | K42: ='Month (GWh)'!K42*3.6/'Month (Million m3)'!K42 -> 39.387309 | L42: ='Month (GWh)'!L42*3.6/'Month (Million m3)'!L42 -> 39.387309 | M42: ='Month (GWh)'!M42*3.6/'Month (Million m3)'!M42 -> 38.566786 | N42: =IF(($M42)>41,"Too High?","") | O42: =IF(($M42)<38,"Too Low?","")
A43: 2002 | B43: August | C43: ='Month (GWh)'!C43*3.6/'Month (Million m3)'!C43 -> 39.387309 | E43: ='Month (GWh)'!E43*3.6/'Month (Million m3)'!E43 -> 39.990729 | G43: ='Month (GWh)'!G43*3.6/'Month (Million m3)'!G43 -> 39.983611 | H43: ='Month (GWh)'!H43*3.6/'Month (Million m3)'!H43 -> 39.207715 | I43: ='Month (GWh)'!I43*3.6/'Month (Million m3)'!I43 -> 39.387309 | K43: ='Month (GWh)'!K43*3.6/'Month (Million m3)'!K43 -> 39.067148 | L43: ='Month (GWh)'!L43*3.6/'Month (Million m3)'!L43 -> 39.181024 | M43: ='Month (GWh)'!M43*3.6/'Month (Million m3)'!M43 -> 39.075432 | N43: =IF(($M43)>41,"Too High?","") | O43: =IF(($M43)<38,"Too Low?","")
A44: 2002 | B44: September | E44: ='Month (GWh)'!E44*3.6/'Month (Million m3)'!E44 -> 39.945963 | G44: ='Month (GWh)'!G44*3.6/'Month (Million m3)'!G44 -> 39.945963 | H44: ='Month (GWh)'!H44*3.6/'Month (Million m3)'!H44 -> 39.138828 | I44: ='Month (GWh)'!I44*3.6/'Month (Million m3)'!I44 -> 39.387309 | K44: ='Month (GWh)'!K44*3.6/'Month (Million m3)'!K44 -> 39.387309 | L44: ='Month (GWh)'!L44*3.6/'Month (Million m3)'!L44 -> 39.201662 | M44: ='Month (GWh)'!M44*3.6/'Month (Million m3)'!M44 -> 39.113119 | N44: =IF(($M44)>41,"Too High?","") | O44: =IF(($M44)<38,"Too Low?","")
A45: 2002 | B45: October | E45: ='Month (GWh)'!E45*3.6/'Month (Million m3)'!E45 -> 40.312736 | G45: ='Month (GWh)'!G45*3.6/'Month (Million m3)'!G45 -> 40.312736 | H45: ='Month (GWh)'!H45*3.6/'Month (Million m3)'!H45 -> 39.387309 | I45: ='Month (GWh)'!I45*3.6/'Month (Million m3)'!I45 -> 39.387309 | K45: ='Month (GWh)'!K45*3.6/'Month (Million m3)'!K45 -> 39.387309 | L45: ='Month (GWh)'!L45*3.6/'Month (Million m3)'!L45 -> 39.387309 | M45: ='Month (GWh)'!M45*3.6/'Month (Million m3)'!M45 -> 39.062954 | N45: =IF(($M45)>41,"Too High?","") | O45: =IF(($M45)<38,"Too Low?","")
A46: 2002 | B46: November | E46: ='Month (GWh)'!E46*3.6/'Month (Million m3)'!E46 -> 39.379856 | G46: ='Month (GWh)'!G46*3.6/'Month (Million m3)'!G46 -> 39.379856 | H46: ='Month (GWh)'!H46*3.6/'Month (Million m3)'!H46 -> 39.244377 | I46: ='Month (GWh)'!I46*3.6/'Month (Million m3)'!I46 -> 39.387309 | K46: ='Month (GWh)'!K46*3.6/'Month (Million m3)'!K46 -> 39.164331 | L46: ='Month (GWh)'!L46*3.6/'Month (Million m3)'!L46 -> 39.222653 | M46: ='Month (GWh)'!M46*3.6/'Month (Million m3)'!M46 -> 39.024186 | N46: =IF(($M46)>41,"Too High?","") | O46: =IF(($M46)<38,"Too Low?","")
A47: 2002 | B47: December | C47: ='Month (GWh)'!C47*3.6/'Month (Million m3)'!C47 -> 39.387309 | E47: ='Month (GWh)'!E47*3.6/'Month (Million m3)'!E47 -> 40.720434 | G47: ='Month (GWh)'!G47*3.6/'Month (Million m3)'!G47 -> 40.649403 | H47: ='Month (GWh)'!H47*3.6/'Month (Million m3)'!H47 -> 39.280229 | I47: ='Month (GWh)'!I47*3.6/'Month (Million m3)'!I47 -> 39.387309 | K47: ='Month (GWh)'!K47*3.6/'Month (Million m3)'!K47 -> 39.217021 | L47: ='Month (GWh)'!L47*3.6/'Month (Million m3)'!L47 -> 39.256237 | M47: ='Month (GWh)'!M47*3.6/'Month (Million m3)'!M47 -> 34.452268 | N47: =IF(($M47)>41,"Too High?","")
A48: 2003 | B48: January | E48: ='Month (GWh)'!E48*3.6/'Month (Million m3)'!E48 -> 40.727323 | G48: ='Month (GWh)'!G48*3.6/'Month (Million m3)'!G48 -> 40.727323 | H48: ='Month (GWh)'!H48*3.6/'Month (Million m3)'!H48 -> 38.978182 | I48: ='Month (GWh)'!I48*3.6/'Month (Million m3)'!I48 -> 39.387309 | K48: ='Month (GWh)'!K48*3.6/'Month (Million m3)'!K48 -> 39.405988 | L48: ='Month (GWh)'!L48*3.6/'Month (Million m3)'!L48 -> 39.305648 | M48: ='Month (GWh)'!M48*3.6/'Month (Million m3)'!M48 -> 46.057089
A49: 2003 | B49: February | E49: ='Month (GWh)'!E49*3.6/'Month (Million m3)'!E49 -> 40.613041 | G49: ='Month (GWh)'!G49*3.6/'Month (Million m3)'!G49 -> 40.613041 | H49: ='Month (GWh)'!H49*3.6/'Month (Million m3)'!H49 -> 39.252706 | I49: ='Month (GWh)'!I49*3.6/'Month (Million m3)'!I49 -> 39.387309 | K49: ='Month (GWh)'!K49*3.6/'Month (Million m3)'!K49 -> 39.280734 | L49: ='Month (GWh)'!L49*3.6/'Month (Million m3)'!L49 -> 39.269449 | M49: ='Month (GWh)'!M49*3.6/'Month (Million m3)'!M49 -> 36.490096
A50: 2003 | B50: March | E50: ='Month (GWh)'!E50*3.6/'Month (Million m3)'!E50 -> 41.077319 | G50: ='Month (GWh)'!G50*3.6/'Month (Million m3)'!G50 -> 41.077319 | H50: ='Month (GWh)'!H50*3.6/'Month (Million m3)'!H50 -> 39.136364 | I50: ='Month (GWh)'!I50*3.6/'Month (Million m3)'!I50 -> 39.387309 | K50: ='Month (GWh)'!K50*3.6/'Month (Million m3)'!K50 -> 39.208696 | L50: ='Month (GWh)'!L50*3.6/'Month (Million m3)'!L50 -> 39.155289 | M50: ='Month (GWh)'!M50*3.6/'Month (Million m3)'!M50 -> 38.224932
A51: 2003 | B51: April | E51: ='Month (GWh)'!E51*3.6/'Month (Million m3)'!E51 -> 40.858696 | G51: ='Month (GWh)'!G51*3.6/'Month (Million m3)'!G51 -> 40.858696 | H51: ='Month (GWh)'!H51*3.6/'Month (Million m3)'!H51 -> 39.147772 | I51: ='Month (GWh)'!I51*3.6/'Month (Million m3)'!I51 -> 39.387309 | K51: ='Month (GWh)'!K51*3.6/'Month (Million m3)'!K51 -> 39.120743 | L51: ='Month (GWh)'!L51*3.6/'Month (Million m3)'!L51 -> 39.146952 | M51: ='Month (GWh)'!M51*3.6/'Month (Million m3)'!M51 -> 38.701374
A52: 2003 | B52: May | E52: ='Month (GWh)'!E52*3.6/'Month (Million m3)'!E52 -> 40.692294 | G52: ='Month (GWh)'!G52*3.6/'Month (Million m3)'!G52 -> 40.692294 | H52: ='Month (GWh)'!H52*3.6/'Month (Million m3)'!H52 -> 39.1455 | I52: ='Month (GWh)'!I52*3.6/'Month (Million m3)'!I52 -> 39.387309 | K52: ='Month (GWh)'!K52*3.6/'Month (Million m3)'!K52 -> 39.157098 | L52: ='Month (GWh)'!L52*3.6/'Month (Million m3)'!L52 -> 39.151078 | M52: ='Month (GWh)'!M52*3.6/'Month (Million m3)'!M52 -> 38.598402
A53: 2003 | B53: June | E53: ='Month (GWh)'!E53*3.6/'Month (Million m3)'!E53 -> 40.437059 | G53: ='Month (GWh)'!G53*3.6/'Month (Million m3)'!G53 -> 40.437059 | H53: ='Month (GWh)'!H53*3.6/'Month (Million m3)'!H53 -> 39.141176 | I53: ='Month (GWh)'!I53*3.6/'Month (Million m3)'!I53 -> 39.387309 | K53: ='Month (GWh)'!K53*3.6/'Month (Million m3)'!K53 -> 39.148387 | L53: ='Month (GWh)'!L53*3.6/'Month (Million m3)'!L53 -> 39.143059 | M53: ='Month (GWh)'!M53*3.6/'Month (Million m3)'!M53 -> 38.937939
A54: 2003 | B54: July | E54: ='Month (GWh)'!E54*3.6/'Month (Million m3)'!E54 -> 40.772201 | G54: ='Month (GWh)'!G54*3.6/'Month (Million m3)'!G54 -> 40.772201 | H54: ='Month (GWh)'!H54*3.6/'Month (Million m3)'!H54 -> 39.158824 | I54: ='Month (GWh)'!I54*3.6/'Month (Million m3)'!I54 -> 39.387309 | K54: ='Month (GWh)'!K54*3.6/'Month (Million m3)'!K54 -> 39.05567 | L54: ='Month (GWh)'!L54*3.6/'Month (Million m3)'!L54 -> 39.145296 | M54: ='Month (GWh)'!M54*3.6/'Month (Million m3)'!M54 -> 38.766903
A55: 2003 | B55: August | E55: ='Month (GWh)'!E55*3.6/'Month (Million m3)'!E55 -> 40.476625 | G55: ='Month (GWh)'!G55*3.6/'Month (Million m3)'!G55 -> 40.476625 | H55: ='Month (GWh)'!H55*3.6/'Month (Million m3)'!H55 -> 39.163901 | I55: ='Month (GWh)'!I55*3.6/'Month (Million m3)'!I55 -> 39.387309 | K55: ='Month (GWh)'!K55*3.6/'Month (Million m3)'!K55 -> 39.102985 | L55: ='Month (GWh)'!L55*3.6/'Month (Million m3)'!L55 -> 39.157766 | M55: ='Month (GWh)'!M55*3.6/'Month (Million m3)'!M55 -> 38.886925
A56: 2003 | B56: September | E56: ='Month (GWh)'!E56*3.6/'Month (Million m3)'!E56 -> 40.334625 | G56: ='Month (GWh)'!G56*3.6/'Month (Million m3)'!G56 -> 40.334625 | H56: ='Month (GWh)'!H56*3.6/'Month (Million m3)'!H56 -> 39.098039 | I56: ='Month (GWh)'!I56*3.6/'Month (Million m3)'!I56 -> 39.387309 | K56: ='Month (GWh)'!K56*3.6/'Month (Million m3)'!K56 -> 39.387309 | L56: ='Month (GWh)'!L56*3.6/'Month (Million m3)'!L56 -> 39.219095 | M56: ='Month (GWh)'!M56*3.6/'Month (Million m3)'!M56 -> 38.731448
A57: 2003 | B57: October | E57: ='Month (GWh)'!E57*3.6/'Month (Million m3)'!E57 -> 41.140121 | G57: ='Month (GWh)'!G57*3.6/'Month (Million m3)'!G57 -> 41.140121 | H57: ='Month (GWh)'!H57*3.6/'Month (Million m3)'!H57 -> 39.229714 | I57: ='Month (GWh)'!I57*3.6/'Month (Million m3)'!I57 -> 39.387309 | K57: ='Month (GWh)'!K57*3.6/'Month (Million m3)'!K57 -> 39.09375 | L57: ='Month (GWh)'!L57*3.6/'Month (Million m3)'!L57 -> 39.191875 | M57: ='Month (GWh)'!M57*3.6/'Month (Million m3)'!M57 -> 33.865362
A58: 2003 | B58: November | C58: ='Month (GWh)'!C58*3.6/'Month (Million m3)'!C58 -> 39.387309 | E58: ='Month (GWh)'!E58*3.6/'Month (Million m3)'!E58 -> 40.980036 | G58: ='Month (GWh)'!G58*3.6/'Month (Million m3)'!G58 -> 40.918766 | I58: ='Month (GWh)'!I58*3.6/'Month (Million m3)'!I58 -> 39.387309 | K58: ='Month (GWh)'!K58*3.6/'Month (Million m3)'!K58 -> 39.554574 | L58: ='Month (GWh)'!L58*3.6/'Month (Million m3)'!L58 -> 39.543286 | M58: ='Month (GWh)'!M58*3.6/'Month (Million m3)'!M58 -> 41.898232
A59: 2003 | B59: December | C59: ='Month (GWh)'!C59*3.6/'Month (Million m3)'!C59 -> 39.387309 | E59: ='Month (GWh)'!E59*3.6/'Month (Million m3)'!E59 -> 40.915712 | G59: ='Month (GWh)'!G59*3.6/'Month (Million m3)'!G59 -> 40.479123 | I59: ='Month (GWh)'!I59*3.6/'Month (Million m3)'!I59 -> 39.387309 | K59: ='Month (GWh)'!K59*3.6/'Month (Million m3)'!K59 -> 39.962338 | L59: ='Month (GWh)'!L59*3.6/'Month (Million m3)'!L59 -> 39.918369 | M59: ='Month (GWh)'!M59*3.6/'Month (Million m3)'!M59 -> 40.673898
A60: 2004 | B60: January | C60: ='Month (GWh)'!C60*3.6/'Month (Million m3)'!C60 -> 39.387309 | E60: ='Month (GWh)'!E60*3.6/'Month (Million m3)'!E60 -> 40.835469 | G60: ='Month (GWh)'!G60*3.6/'Month (Million m3)'!G60 -> 40.259625 | I60: ='Month (GWh)'!I60*3.6/'Month (Million m3)'!I60 -> 39.387309 | K60: ='Month (GWh)'!K60*3.6/'Month (Million m3)'!K60 -> 40.255714 | L60: ='Month (GWh)'!L60*3.6/'Month (Million m3)'!L60 -> 40.187055 | M60: ='Month (GWh)'!M60*3.6/'Month (Million m3)'!M60 -> 40.278245
A61: 2004 | B61: February | C61: ='Month (GWh)'!C61*3.6/'Month (Million m3)'!C61 -> 39.387309 | E61: ='Month (GWh)'!E61*3.6/'Month (Million m3)'!E61 -> 40.839584 | G61: ='Month (GWh)'!G61*3.6/'Month (Million m3)'!G61 -> 40.280138 | I61: ='Month (GWh)'!I61*3.6/'Month (Million m3)'!I61 -> 39.387309 | K61: ='Month (GWh)'!K61*3.6/'Month (Million m3)'!K61 -> 40.13617 | L61: ='Month (GWh)'!L61*3.6/'Month (Million m3)'!L61 -> 40.072439 | M61: ='Month (GWh)'!M61*3.6/'Month (Million m3)'!M61 -> 40.340529
A62: 2004 | B62: March | C62: ='Month (GWh)'!C62*3.6/'Month (Million m3)'!C62 -> 39.387309 | E62: ='Month (GWh)'!E62*3.6/'Month (Million m3)'!E62 -> 40.88409 | G62: ='Month (GWh)'!G62*3.6/'Month (Million m3)'!G62 -> 40.612239 | H62: ='Month (GWh)'!H62*3.6/'Month (Million m3)'!H62 -> 39.387309 | I62: ='Month (GWh)'!I62*3.6/'Month (Million m3)'!I62 -> 39.387309 | K62: ='Month (GWh)'!K62*3.6/'Month (Million m3)'!K62 -> 39.621752 | L62: ='Month (GWh)'!L62*3.6/'Month (Million m3)'!L62 -> 39.559474 | M62: ='Month (GWh)'!M62*3.6/'Month (Million m3)'!M62 -> 41.318903
A63: 2004 | B63: April | E63: ='Month (GWh)'!E63*3.6/'Month (Million m3)'!E63 -> 40.289274 | G63: ='Month (GWh)'!G63*3.6/'Month (Million m3)'!G63 -> 40.289274 | H63: ='Month (GWh)'!H63*3.6/'Month (Million m3)'!H63 -> 39.321739 | I63: ='Month (GWh)'!I63*3.6/'Month (Million m3)'!I63 -> 39.387309 | K63: ='Month (GWh)'!K63*3.6/'Month (Million m3)'!K63 -> 38.942308 | L63: ='Month (GWh)'!L63*3.6/'Month (Million m3)'!L63 -> 39.199564 | M63: ='Month (GWh)'!M63*3.6/'Month (Million m3)'!M63 -> 38.095816 | N63: =IF(($M63)>41,"Too High?","") | O63: =IF(($M63)<38,"Too Low?","")
