Workbook

Sheet Export Summary
B3: This document was exported from Numbers. Each table was converted to an Excel worksheet. All other objects on each Numbers sheet were placed on separate worksheets. Please be aware that formula calculations may differ in Excel.
B7: Numbers Sheet Name | C7: Numbers Table Name | D7: Excel Worksheet Name
B9: Personal Financial Profile
C10: Table 1 | D10: Personal Financial Profile
B11: Income & Priority Expenses
C12: Table 1 | D12: Income & Priority Expenses
B13: Spending
C14: Table 1 | D14: Spending
B15: Instructions
C16: Table 1 | D16: Instructions

Sheet Personal Financial Profile
H1: DATE:
A2: Personal Financial Profile | H2: NAME:
H3: Counselor:
E4: What I Own
C5: ASSET NAME | G5: CURRENT VALUE
C6: Checking Accounts
C7: Savings Accounts
C8: Money Market Accounts
C9: Certificate of Deposits
C10: Stocks/Bonds
C11: Mutual Funds
C12: Life Insurance (cash value)
C13: Primary residence (market value)
C14: Other real estate
C15: Car #1 - Resale value
C16: Car #2 - Resale value
C17: Car #3 - Resale value
... C23: Other
G25: TOTAL ASSETS | H25: =SUM(G6:G23) -> 0
H28: DATE:
A29: Personal Financial Profile | H29: NAME:
H30: Counselor:
E31: What I Owe
C33: DEBT NAME | G33: Monthly Pmt. | H33: Interest % | I33: Total Balance
A34: Mortgage/Rent
A35: 2nd Mortgage
A36: Car Payment
A37: Car Payment
A38: Car Payment
C40: Mortgage & Car Debt Sub-Total | G40: =SUM(G34:G38) -> 0 | I40: =SUM(I34:I38) -> 0 | J40: TOTAL
C42: DEBT NAME | G42: Monthly Pmt. | H42: Interest % | I42: Total Balance
A43: Credit Card #1
A44: Credit Card #2
A45: Credit Card #3
A46: Credit Card #4
A47: Student loan
A48: Overdraft account
A49: Equity line
A50: Other
A51: Other
...

Sheet Income & Priority Expenses
H2: DATE:
A3: Monthly Income & Priority Expenses | H3: NAME:
H4: Counselor:
F6: Monthly Income
B7: GROSS MONTHLY INCOME
B8: Monthly Salary #1
B9: Monthly Salary #2
B10: Interest Income
B11: Dividends
B12: Commissions
B13: Bonuses/Tips
B14: Retirement Income #1
B15: Retirement Income #2
B16: Net Business Income
B17: Child Support
B18: Other Income
F19: TOTAL | H19: =SUM(F8:F18) -> 0
F21: Monthly Expenses
B22: TITHE/GIVING (MONTHLY)
B23: My Local Church
B24: Other Ministries
B25: Other Giving
F26: TOTAL | H26: =SUM(F23:F25) -> 0
B28: TAXES (MONTHLY)
B29: Federal
B30: State
B31: Local
B32: Social Security (FICA)
B33: Medicare
B34: Other
B35: Other
F36: TOTAL | H36: =SUM(F29:F35) -> 0
B38: SAVINGS (MONTHLY)
B39: Savings Account #1
B40: Savings Account #2
B41: Credit Union
B42: Other
F43: TOTAL | H43: =SUM(F39:F42) -> 0
B45: INVESTMENTS (MONTHLY)
B46: 401k / 403b Plans
...

Sheet Spending
H1: DATE:
A2: Monthly SPENDING Plan | H2: NAME:
H3: Counselor:
A4: GROSS INCOME | D4: ='Income & Priority Expenses'!$H$19 -> 0 | F4: INSURANCE
G5: Life
A6: TITHING/GIVING | D6: ='Income & Priority Expenses'!H26 -> 0 | G6: Health
G7: Dental
A8: TAXES | D8: ='Income & Priority Expenses'!$H$36 -> 0 | G8: Disability
G9: Other
A10: SAVINGS | D10: ='Income & Priority Expenses'!$H$43 -> 0
I11: TOTAL | J11: =SUM(J5:J9) -> 0
A12: INVESTMENTS | D12: ='Income & Priority Expenses'!$H$51 -> 0
F13: HOUSEHOLD / PERSONAL
A14: CREDIT CARD/LOAN DEBT | D14: ='Personal Financial Profile'!G54 -> 0 | G14: Food/Groceries/Toiletries
G15: Laundry/Dry Cleaning
A16: NET SPENDABLE INCOME | D16: =SUM(D4-(D6+D8+D10+D12+D14)) -> 0 | G16: Gifts
G17: Clothing
A18: HOUSING | G18: Education/Tuition/Supplies
B19: Mortgage/Rent | D19: ='Personal Financial Profile'!G34 -> 0 | G19: Lessons/Tutoring
B20: Taxes | G20: Child Support
B21: Home Insurance
B22: Association Dues | I22: TOTAL | J22: =SUM(J14:J20) -> 0
B23: Add'l. Real Estate Loan | D23: ='Personal Financial Profile'!G35 -> 0
B24: Maintenance | F24: MEDICAL / FAMILY / Professional
B25: Electrical | G25: Child Care
B26: Gas | G26: Medical/Dental/Vision
B27: Water/Sewer | G27: Prescriptions/Glasses/Contacts
B28: Garbage | G28: Legal
B29: Telephone | G29: Counseling
B30: Cell Phone #1 | G30: Professional Dues/Memberships
B31: Cell Phone #2 | G31: Other
B32: Furnishings | G32: Other
B33: Internet Service
B34: Other | I34: TOTAL | J34: =SUM(J25:J32) -> 0
B35: Other
F36: ENTERTAINMENT / RECREATIONAL
C37: TOTAL | D37: =SUM(D19:D35) -> 0 | G37: Dining Out
G38: Movies / Shows / Events
A39: TRANSPORTATION | G39: Babysitting
B40: Car Payment #1 | D40: ='Personal Financial Profile'!G36 -> 0 | G40: Vacations
...

Sheet Instructions
A2: Budgeting Instructions
A4: **It is important to fill the documents out in order as totals will automatically plug into the last page
A6: 1. Open the (Budgeting Forms- Elevation) Attachment- There are 3 tabs at the bottom. Do the Personal Financial Profile first. These are the basics- go through what you own and what owe. If you have multiple accounts just total them up and put the total in the form. Remember that getting organized is the only way to begin your budget. When completed, this will tell you several things:
A8: ***Your net worth- Subtract the total of what you own from the total of what you owe. You will have included the market value (what you would get if you sold it) of your assets that you may currently be paying for in the “own” section. You’ll then include how much you owe below in “owe” so the total equity (actual money you could get if you sold it) will be represented in your net worth.
A10: ***Your APR’s- Make sure you get those percentages on any interest account along with the total balance remaining to pay. This will help when you decide which debt to pay off first. Most often the smallest debt is paid first and the money going to that debt is then added to the next smallest- The snowball theory. One exception would be a high interest account that you may pay off first.
A12: ***Do you owe more on your car than its worth? Not good. Use www.kbb.com to get the value and use private party or trade-in value, not retail value.
A14: 2. Now go through the Income and Priority Expenses. This is all done on a monthly basis. This will give you the big picture of what you are actually bringing in after you have deducted out the priority expenses. Priority expenses are the expenses that are first priority for you- tithing, savings, and investing. Life insurance is very critical and should possibly be on this page but will be in the next section because it depends on your current situation.
A16: 3. Last, the most important part- Spending. The other forms will have already plugged in your first few numbers- make sure the formulas add it up right! You will be left with your net spendable income. Now it’s time to do the hard part- organize your living expenses. One tip- Everyone tends to spend at least 20% over what they think they spend on food and groceries so you may want to budget accordingly.
A18: ***These completed forms will allow your counseling session to be a success.
