Workbook
Name dd: [1]下拉选项!$E$2:$E$32

Sheet Sheet1
A1: hgkjgkjhg
A2: 狗汉奸 | K2: 单位：吃
A3: 规范化发 | C3: kjlkj | F3: 会根据 | G3: kljlj;l | J3: 会根据 | M3: 国家 | N3: jhgkjgh
A4: 和股份 | C4: ghkjgkjh | F4: 回复 | G4: 或购房或购房 | J4: 个很符合 | L4: hjgkjh | M4: 和股份
A5: 供货方 | F5: 银行账号 | J5: 主管部门 | M5: 电 话 | N5: gfjhfjh
A6: 清算方式是否为核定征收 | J6: 否
A7: 项 目 | I7: 行次 | K7: 购房 | M7: 和股份 | N7: 科技馆和
A8: 防火规范 | I8: 1 | K8: =SUM(M8:N8) -> 1.6429671e+08 | M8: =SUM(M9:M11) -> 1.5671032e+08 | N8: =SUM(N9:N11) -> 7586390
A9: 其中 | B9: 重复 | I9: 2 | K9: =SUM(M9:N9) -> 1.6429671e+08 | M9: 1.5671032e+08 | N9: =7586390 -> 7586390
B10: 供货方 | I10: 3 | K10: =SUM(M10:N10) -> 0
B11: 挂号费改和 | I11: 4 | K11: =SUM(M11:N11) -> 0
A12: 供货方 | I12: 5 | K12: =SUM(M12:N12) -> 16685774 | M12: =M13+M14+M22+M25+M30 -> 16042917 | N12: =N13+N14+N22+N25+N30 -> 642857.48
A13: 和股份 | I13: 6 | K13: =SUM(M13:N13) -> 1124533.9 | M13: =Sheet2!E6 -> 1100468.9 | N13: =Sheet2!F6 -> 24065.03
A14: 和股份 | I14: 7 | K14: =SUM(M14:N14) -> 5153714.8 | M14: =SUM(M15:M20) -> 5004236.7 | N14: =SUM(N15:N20) -> 149478.06
A15: 其中 | B15: 换个发货 女女 | I15: 8 | K15: =SUM(M15:N15) -> 0 | M15: =Sheet2!E8 -> 0 | N15: =Sheet2!F8 -> 0
B16: 换个发货 女女 | I16: 9 | K16: =SUM(M16:N16) -> 2386959.7 | M16: =Sheet2!E9 -> 2335878.8 | N16: =Sheet2!F9 -> 51080.94
B17: 换个发货 女女 | I17: 10 | K17: =SUM(M17:N17) -> 0 | M17: =Sheet2!E10 -> 0 | N17: =Sheet2!F10 -> 0
B18: 换个发货 女女 | I18: 11 | K18: =SUM(M18:N18) -> 2766755 | M18: =Sheet2!E12 -> 2707546.4 | N18: =Sheet2!F12 -> 59208.56
B19: 换个发货 女女 | I19: 12 | K19: =SUM(M19:N19) -> 0 | M19: =Sheet2!E13 -> -39188.56 | N19: =Sheet2!F13 -> 39188.56
B20: 换个发货 女女 | I20: 13 | K20: =SUM(M20:N20) -> 0 | M20: =Sheet2!E14 -> 0 | N20: =Sheet2!F14 -> 0
A21: 贵航股份 | I21: 14 | K21: =SUM(M21:N21) -> 0
A22: 规划换个发货个 | I22: 15 | K22: =SUM(M22:N22) -> 627824.87 | M22: =SUM(M23:M24) -> 610470.56 | N22: =SUM(N23:N24) -> 17354.31
A23: 其中 | B23: 利息支出 | I23: 16 | K23: =SUM(M23:N23) -> 0 | N23: =Sheet2!F16 -> 0
B24: 个合法合规 | I24: 17 | K24: =SUM(M24:N24) -> 627824.87 | M24: =Sheet2!E17 -> 610470.56 | N24: =Sheet2!F17 -> 17354.31
A25: 供货方 | I25: 18 | K25: =SUM(M25:N25) -> 8524051 | M25: =SUM(M26:M29) -> 8106799.5 | N25: =SUM(N26:N29) -> 417251.46
A26: 其中 | B26: 女女 | I26: 19 | K26: =SUM(M26:N26) -> 7707666.2 | M26: =Sheet2!E19 -> 7328346.7 | N26: =Sheet2!F19 -> 379319.5
B27: 女女 | I27: 20 | K27: =SUM(M27:N27) -> 409975.81 | M27: =Sheet2!E20 -> 391009.83 | N27: =Sheet2!F20 -> 18965.98
B28: 女女 | I28: 21 | K28: =SUM(M28:N28) -> 245228.69 | M28: =Sheet2!E21 -> 233849.1 | N28: =Sheet2!F21 -> 11379.59
B29: 地方教育附加 | I29: 22 | K29: =SUM(M29:N29) -> 161180.27 | M29: =Sheet2!E22 -> 153593.88 | N29: =Sheet2!F22 -> 7586.39
A30: 供货方帝国的 | I30: 23 | K30: =SUM(M30:N30) -> 1255649.7 | M30: =(M13+M14)*20% -> 1220941.1 | N30: =(N13+N14)*20% -> 34708.618
A31: 供货方帝国的 | I31: 24 | K31: =SUM(M31:N31) -> 1.4761094e+08 | M31: =M8-M12 -> 1.406674e+08 | N31: =N8-N12 -> 6943532.5
A32: 供货方帝国的 | I32: 25 | M32: =M31/M12 -> 8.7681938 | N32: =N31/N12 -> 10.801045
A33: 供货方帝国的 | I33: 26 | M33: 0 | N33: 0.6
A34: 供货方帝国的 | I34: 27 | M34: 0 | N34: 0.35
A35: 供货方帝国的 | I35: 28 | K35: =SUM(M35:N35) -> 3941119.4 | M35: =M31*M33-M12*M34 -> 0 | N35: =N31*N33-N12*N34 -> 3941119.4
A36: 供货方帝国的 | I36: 29 | K36: =SUM(M36:N36) -> 0 | N36: 0
A37: 供货方帝国的 | I37: 30 | K37: =SUM(M37:N37) -> 3021048.4 | M37: =Sheet26!G6-303455.6 -> 2717592.8 | N37: =7586390*0.04 -> 303455.6
A38: 供货方帝国的 | I38: 31 | K38: =SUM(M38:N38) -> 920071.03 | M38: =M35-M36-M37 -> -2717592.8 | N38: =N35-N36-N37 -> 3637663.8

Sheet Sheet2
A1: 高科技个海经过海经过
A2: 看就会立刻就会老客户考虑减
A3: 重复 | C3: 还更丰富 | D3: 防火规范 | E3: 好汉歌 | H3: 规范化就 | I3: 备注
E4: 凤凰阁 | F4: 规范化 | G4: 合计
A5: 1 | C5: 2 | D5: 3 | E5: 4 | F5: 5 | G5: 6=4+5 | H5: 7 | I5: 8
A6: 1、取得土地使用权所支付的金额 | C6: =Sheet3!D6 -> 1124533.9 | D6: =Sheet3!E6 -> 1124533.9 | E6: =Sheet3!F6 -> 1100468.9 | F6: =Sheet3!G6 -> 24065.03 | G6: =E6+F6 -> 1124533.9 | H6: =D6-G6 -> 0 | J6: =D6-G6-H6 -> 0
A7: 2、房地产开发项目 | C7: =C8+C9+C10+C12+C13+C14 -> 5160714.8 | D7: =D8+D9+D10+D12+D13+D14 -> 5153714.8 | E7: =E8+E9+E10+E12+E13+E14 -> 5004236.7 | F7: =F8+F9+F10+F12+F13+F14 -> 149478.06 | G7: =E7+F7 -> 5153714.8 | H7: =D7-G7 -> 0 | J7: =D7-G7-H7 -> 0
A8: 其中 | B8: 土地征用及拆迁补偿费 | C8: =Sheet3!D11 -> 0 | D8: =Sheet3!E11 -> 0 | E8: =Sheet3!F11 -> 0 | F8: =Sheet3!G11 -> 0 | G8: =E8+F8 -> 0 | H8: =D8-G8 -> 0 | J8: =D8-G8-H8 -> 0
B9: 前期工程费 | C9: =Sheet3!D13 -> 2386959.7 | D9: =Sheet3!E13 -> 2386959.7 | E9: =Sheet3!F13 -> 2335878.8 | F9: =Sheet3!G13 -> 51080.94 | G9: =E9+F9 -> 2386959.7 | H9: =D9-G9 -> 0 | J9: =D9-G9-H9 -> 0
B10: 建筑安装工程费 | C10: =Sheet3!D23 -> 0 | D10: =Sheet3!E23 -> 0 | E10: =Sheet3!F23 -> 0 | F10: =Sheet3!G23 -> 0 | G10: =E10+F10 -> 0 | H10: =D10-G10 -> 0 | J10: =D10-G10-H10 -> 0
B11: 其中:家电物品 | G11: =E11+F11 -> 0 | H11: =D11-G11 -> 0 | J11: =D11-G11-H11 -> 0
B12: 基础设施费 | C12: =Sheet3!D29 -> 2773755 | D12: =Sheet3!E29 -> 2766755 | E12: =Sheet3!F29 -> 2707546.4 | F12: =Sheet3!G29 -> 59208.56 | G12: =E12+F12 -> 2766755 | H12: =D12-G12 -> 0 | J12: =D12-G12-H12 -> 0
B13: 公共配套设施费 | C13: =Sheet3!D39 -> 0 | D13: =Sheet3!E39 -> 0 | E13: =Sheet3!F39 -> -39188.56 | F13: =Sheet3!G39 -> 39188.56 | G13: =E13+F13 -> 0 | H13: =D13-G13 -> 0 | J13: =D13-G13-H13 -> 0
B14: 开发间接费用 | C14: =Sheet3!D45 -> 0 | D14: =Sheet3!E45 -> 0 | E14: =Sheet3!F45 -> 0 | F14: =Sheet3!G45 -> 0 | G14: =E14+F14 -> 0 | H14: =D14-G14 -> 0 | J14: =D14-G14-H14 -> 0
A15: 3、房地产开发费用 | C15: =SUM(C16:C17) -> 628524.87 | D15: =SUM(D16:D17) -> 627824.87 | E15: =SUM(E16:E17) -> 610470.56 | F15: =SUM(F16:F17) -> 17354.31 | G15: =E15+F15 -> 627824.87 | H15: =D15-G15 -> 0 | J15: =D15-G15-H15 -> -1.1641532e-10
A16: 其中 | B16: 利息支出 | F16: =D16*0.7598 -> 0 | G16: =E16+F16 -> 0 | H16: =D16-G16 -> 0 | J16: =D16-G16-H16 -> 0
B17: 其他房地产开发费用 | C17: =ROUND((C6+C7)*0.1,2) -> 628524.87 | D17: =ROUND((D6+D7)*0.1,2) -> 627824.87 | E17: =ROUND((E6+E7)*0.1,2) -> 610470.56 | F17: =ROUND((F6+F7)*0.1,2) -> 17354.31 | G17: =E17+F17 -> 627824.87 | H17: =D17-G17 -> 0 | J17: =D17-G17-H17 -> -1.1641532e-10
A18: 4、与转让房地产有关的税金 | C18: =SUM(C19:C22) -> 8524051 | D18: =SUM(D19:D22) -> 8524051 | E18: =SUM(E19:E22) -> 8106799.5 | F18: =SUM(F19:F22) -> 417251.46 | G18: =E18+F18 -> 8524051 | H18: =D18-G18 -> 0 | J18: =D18-G18-H18 -> -1.8626451e-09
A19: 其中 | B19: 营业税 | C19: 7707666.2 | D19: =Sheet25!G6 -> 7707666.2 | E19: =7274667.6+53679.1 -> 7328346.7 | F19: 379319.5 | G19: =E19+F19 -> 7707666.2 | H19: =D19-G19 -> 0 | J19: =D19-G19-H19 -> -1.8626451e-09
B20: 城市维护建设费 | C20: 409975.81 | D20: =Sheet25!H6 -> 409975.81 | E20: =366812.82+22032.72+2164.29 -> 391009.83 | F20: =18965.98 -> 18965.98 | G20: =E20+F20 -> 409975.81 | H20: =D20-G20 -> 0 | J20: =D20-G20-H20 -> -1.7462298e-10
B21: 教育费附加 | C21: 245228.69 | D21: =Sheet25!I6 -> 245228.69 | E21: =219330.9+13219.63+1298.57 -> 233849.1 | F21: =11379.59 -> 11379.59 | G21: =E21+F21 -> 245228.69 | H21: =D21-G21 -> 0 | J21: =D21-G21-H21 -> 0
B22: 地方教育费附加 | C22: 161180.27 | D22: =Sheet25!J6 -> 161180.27 | E22: =143915.06+8813.1+865.72 -> 153593.88 | F22: =7586.39 -> 7586.39 | G22: =E22+F22 -> 161180.27 | H22: =D22-G22 -> 0 | J22: =D22-G22-H22 -> -8.7311491e-11
A23: 5、财政部规定的加计20%扣除数 | C23: =ROUND((C6+C7)*0.2,2) -> 1257049.7 | D23: =ROUND((D6+D7)*0.2,2) -> 1255649.7 | E23: =ROUND((E6+E7)*0.2,2) -> 1220941.1 | F23: =ROUND((F6+F7)*0.2,2) -> 34708.62 | G23: =E23+F23 -> 1255649.7 | H23: =D23-G23 -> 0 | J23: =D23-G23-H23 -> -2.3283064e-10
A24: 合计 | C24: =C6+C7+C15+C18+C23 -> 16694874 | D24: =D6+D7+D15+D18+D23 -> 16685774 | E24: =E6+E7+E15+E18+E23 -> 16042917 | F24: =F6+F7+F15+F18+F23 -> 642857.48 | G24: =E24+F24 -> 16685774 | H24: =H6+H7+H15+H18+H23 -> 0 | J24: =D24-G24-H24 -> -5.5879354e-09

Sheet Sheet3
A1: hkjhlkhklj分配表
A2: =Sheet2!A2 -> 看就会立刻就会老客户考虑减 | J2: 金额单位：元
A3: 级次 | B3: 很快就后 | C3: 看见好看 | D3: 空军航空就 | E3: 夹河口 | F3: 开了开了就 | I3: 换个发货 | J3: 很过分换个
F4: 凤凰阁 | G4: 规划 | H4: 合计
C5: 1 | D5: 2 | E5: 3 | F5: 4 | G5: 5 | H5: 6 | I5: 7 | J5: 8
A6: 1 | B6: 一 | C6: 交换空间 | D6: =SUM(D7:D10) -> 1124533.9 | E6: =SUM(E7:E10) -> 1124533.9 | F6: =SUM(F7:F10) -> 1100468.9 | G6: =SUM(G7:G10) -> 24065.03 | H6: =SUM(H7:H10) -> 1124533.9 | I6: =SUM(I7:I10) -> 0
A7: 2 | B7: 1 | C7: 支付的土地出让金 | D7: =Sheet7!K5 -> 1124533.9 | E7: =Sheet7!M5 -> 1124533.9 | F7: =ROUND(E7*F$56,2) -> 1100468.9 | G7: =ROUND(E7*G$56,2) -> 24065.03 | H7: =F7+G7 -> 1124533.9 | I7: =E7-H7 -> 0
A8: 2 | B8: 2 | C8: 支付地价款金额 | H8: =F8+G8 -> 0 | I8: =E8-H8 -> 0
A9: 2 | B9: 3 | C9: 交纳的有关税费 | G9: =E9*0.8883*0.8833 -> 0 | H9: =F9+G9 -> 0 | I9: =E9-H9 -> 0
A10: 2 | B10: 4 | C10: 市政配套费 | D10: 0 | H10: =F10+G10 -> 0 | I10: =E10-H10 -> 0
A11: 1 | B11: 二 | C11: 土地征用及拆迁补偿费 | D11: =D12 -> 0 | E11: =E12 -> 0 | F11: =F12 -> 0 | G11: =G12 -> 0 | H11: =H12 -> 0 | I11: =I12 -> 0
A12: 2 | B12: 1 | C12: 地上地下附着物拆迁补偿净支出
A13: 1 | B13: 三 | C13: 前期工程费 | D13: =SUM(D14:D22) -> 2386959.7 | E13: =SUM(E14:E22) -> 2386959.7 | F13: =SUM(F14:F22) -> 2335878.8 | G13: =SUM(G14:G22) -> 51080.94 | H13: =SUM(H14:H22) -> 2386959.7 | I13: =SUM(I14:I22) -> 0
A14: 2 | B14: 1 | C14: 规划费用 | D14: =SUMIF(Sheet10!$B$6:$B$30,Sheet3!$C14,Sheet10!K$6:K$30) -> 1635607.1 | E14: =SUMIF(Sheet10!$B$6:$B$30,Sheet3!$C14,Sheet10!M$6:M$30) -> 1635607.1 | F14: =ROUND(E14*F$56,2) -> 1600605.1 | G14: =ROUND(E14*G$56,2) -> 35001.99 | H14: =F14+G14 -> 1635607.1 | I14: =E14-H14 -> 0
A15: 2 | B15: 2 | C15: 设计费用 | D15: =SUMIF(Sheet10!$B$6:$B$30,Sheet3!$C15,Sheet10!K$6:K$30) -> 664187.29 | E15: =SUMIF(Sheet10!$B$6:$B$30,Sheet3!$C15,Sheet10!M$6:M$30) -> 664187.29 | F15: =ROUND(E15*F$56,2) -> 649973.68 | G15: =ROUND(E15*G$56,2) -> 14213.61 | H15: =F15+G15 -> 664187.29 | I15: =E15-H15 -> 0
A16: 2 | B16: 3 | C16: 项目可行性研究费用 | D16: =SUMIF(Sheet10!$B$6:$B$30,Sheet3!$C16,Sheet10!K$6:K$30) -> 0 | E16: =SUMIF(Sheet10!$B$6:$B$30,Sheet3!$C16,Sheet10!M$6:M$30) -> 0 | F16: =E16*$F$56 -> 0 | G16: =E16*$G$56 -> 0 | H16: =F16+G16 -> 0 | I16: =E16-H16 -> 0
A17: 2 | B17: 4 | C17: 水文费用 | D17: =SUMIF(Sheet10!$B$6:$B$30,Sheet3!$C17,Sheet10!K$6:K$30) -> 0 | E17: =SUMIF(Sheet10!$B$6:$B$30,Sheet3!$C17,Sheet10!M$6:M$30) -> 0 | F17: =E17*$F$56 -> 0 | G17: =E17*$G$56 -> 0 | H17: =F17+G17 -> 0 | I17: =E17-H17 -> 0
A18: 2 | B18: 5 | C18: 地质费用 | D18: =SUMIF(Sheet10!$B$6:$B$30,Sheet3!$C18,Sheet10!K$6:K$30) -> 0 | E18: =SUMIF(Sheet10!$B$6:$B$30,Sheet3!$C18,Sheet10!M$6:M$30) -> 0 | F18: =E18*$F$56 -> 0 | G18: =E18*$G$56 -> 0 | H18: =F18+G18 -> 0 | I18: =E18-H18 -> 0
A19: 2 | B19: 6 | C19: 勘探费用 | D19: =SUMIF(Sheet10!$B$6:$B$30,Sheet3!$C19,Sheet10!K$6:K$30) -> 4200 | E19: =SUMIF(Sheet10!$B$6:$B$30,Sheet3!$C19,Sheet10!M$6:M$30) -> 4200 | F19: =ROUND(E19*F$56,2) -> 4110.12 | G19: =ROUND(E19*G$56,2) -> 89.88 | H19: =F19+G19 -> 4200 | I19: =E19-H19 -> 0
A20: 2 | B20: 7 | C20: 测绘费用 | D20: =SUMIF(Sheet10!$B$6:$B$30,Sheet3!$C20,Sheet10!K$6:K$30) -> 82965.37 | E20: =SUMIF(Sheet10!$B$6:$B$30,Sheet3!$C20,Sheet10!M$6:M$30) -> 82965.37 | F20: =ROUND(E20*F$56,2) -> 81189.91 | G20: =ROUND(E20*G$56,2) -> 1775.46 | H20: =F20+G20 -> 82965.37 | I20: =E20-H20 -> 0
A21: 2 | B21: 8 | C21: 七通一平支出 | D21: =SUMIF(Sheet10!$B$6:$B$30,Sheet3!$C21,Sheet10!K$6:K$30) -> 0 | E21: =SUMIF(Sheet10!$B$6:$B$30,Sheet3!$C21,Sheet10!M$6:M$30) -> 0 | F21: =E21*$F$56 -> 0 | G21: =E21*$G$56 -> 0 | H21: =F21+G21 -> 0 | I21: =E21-H21 -> 0
A22: 2 | B22: 9 | C22: 其他前期工程费 | D22: =SUMIF(Sheet10!$B$6:$B$30,Sheet3!$C22,Sheet10!K$6:K$30) -> 0 | E22: =SUMIF(Sheet10!$B$6:$B$30,Sheet3!$C22,Sheet10!M$6:M$30) -> 0 | G22: =E22*$G$56 -> 0 | H22: =F22+G22 -> 0 | I22: =E22-H22 -> 0
A23: 1 | B23: 四 | C23: 好久了 | D23: =SUM(D24:D28) -> 0 | E23: =SUM(E24:E28) -> 0 | F23: =SUM(F24:F28) -> 0 | G23: =SUM(G24:G28) -> 0 | H23: =SUM(H24:H28) -> 0 | I23: =E23-H23 -> 0
A24: 2 | B24: 1 | C24: 好久了 | D24: =SUMIF(Sheet12!$B$6:$B87,Sheet3!$C24,Sheet12!K$6:K$87) -> 0 | E24: =SUMIF(Sheet12!$B$6:$B87,Sheet3!$C24,Sheet12!M$6:M$87) -> 0 | F24: =ROUND(E24*F$56,2) -> 0 | G24: =ROUND(E24*G$56,2) -> 0 | H24: =F24+G24 -> 0 | I24: =E24-H24 -> 0
A25: 2 | B25: 2 | C25: 好久了 | D25: =SUMIF(Sheet12!$B$6:$B88,Sheet3!$C25,Sheet12!K$6:K$87) -> 0 | E25: =SUMIF(Sheet12!$B$6:$B88,Sheet3!$C25,Sheet12!M$6:M$87) -> 0 | F25: =ROUND(E25*F$56,2) -> 0 | G25: =ROUND(E25*G$56,2) -> 0 | H25: =F25+G25 -> 0 | I25: =E25-H25 -> 0
A26: 2 | B26: 3 | C26: 好久了 | D26: =SUMIF(Sheet12!$B$6:$B89,Sheet3!$C26,Sheet12!K$6:K$87) -> 0 | E26: =SUMIF(Sheet12!$B$6:$B89,Sheet3!$C26,Sheet12!M$6:M$87) -> 0 | H26: =F26+G26 -> 0 | I26: =E26-H26 -> 0
A27: 2 | B27: 4 | C27: 好久了 | D27: =SUMIF(Sheet12!$B$6:$B90,Sheet3!$C27,Sheet12!K$6:K$87) -> 0 | E27: =SUMIF(Sheet12!$B$6:$B90,Sheet3!$C27,Sheet12!M$6:M$87) -> 0 | H27: =F27+G27 -> 0 | I27: =E27-H27 -> 0
A28: 2 | B28: 5 | C28: 好久了 | D28: =SUMIF(Sheet12!$B$6:$B91,Sheet3!$C28,Sheet12!K$6:K$87) -> 0 | E28: =SUMIF(Sheet12!$B$6:$B91,Sheet3!$C28,Sheet12!M$6:M$87) -> 0 | F28: =E28*1 -> 0 | H28: =F28+G28 -> 0 | I28: =E28-H28 -> 0
A29: 1 | B29: 五 | C29: 好久了 | D29: =SUM(D30:D38) -> 2773755 | E29: =SUM(E30:E38) -> 2766755 | F29: =SUM(F30:F38) -> 2707546.4 | G29: =SUM(G30:G38) -> 59208.56 | H29: =SUM(H30:H38) -> 2766755 | I29: =SUM(I30:I38) -> 0
A30: 2 | B30: 1 | C30: 好久了 | G30: =E30*$G$56 -> 0 | H30: =F30+G30 -> 0 | I30: =E30-H30 -> 0
A31: 2 | B31: 2 | C31: 好久了 | D31: 145314.37 | E31: 145314.37 | F31: =ROUND(E31*F$56,2) -> 142204.64 | G31: =ROUND(E31*G$56,2) -> 3109.73 | H31: =F31+G31 -> 145314.37 | I31: =E31-H31 -> 0
A32: 2 | B32: 3 | C32: 好久了 | D32: 1684125.2 | E32: 1684125.2 | F32: =ROUND(E32*F$56,2) -> 1648084.9 | G32: =ROUND(E32*G$56,2) -> 36040.28 | H32: =F32+G32 -> 1684125.2 | I32: =E32-H32 -> 0
A33: 2 | B33: 4 | C33: 好久了 | E33: 0 | H33: =F33+G33 -> 0 | I33: =E33-H33 -> 0
A34: 2 | B34: 5 | C34: 好久了 | E34: 0 | H34: =F34+G34 -> 0 | I34: =E34-H34 -> 0
A35: 2 | B35: 6 | C35: 好久了 | E35: 0 | H35: =F35+G35 -> 0 | I35: =E35-H35 -> 0
A36: 2 | B36: 7 | C36: 好久了 | D36: 123300 | E36: 123300 | F36: =ROUND(E36*F$56,2) -> 120661.38 | G36: =ROUND(E36*G$56,2) -> 2638.62 | H36: =F36+G36 -> 123300 | I36: =E36-H36 -> 0
A37: 2 | B37: 8 | C37: 好久了 | H37: =F37+G37 -> 0 | I37: =E37-H37 -> 0
A38: 2 | B38: 9 | C38: 好久了 | D38: 821015.45 | E38: =821015.45-7000 -> 814015.45 | F38: =ROUND(E38*F$56,2) -> 796595.52 | G38: =ROUND(E38*G$56,2) -> 17419.93 | H38: =F38+G38 -> 814015.45 | I38: =E38-H38 -> 0
A39: 1 | B39: 六 | C39: 好久了 | D39: =SUM(D40:D44) -> 0 | E39: =SUM(E40:E44) -> 0 | F39: =SUM(F40:F44) -> -39188.56 | G39: =SUM(G40:G44) -> 39188.56 | H39: =SUM(H40:H44) -> 0 | I39: =SUM(I40:I44) -> 0
A40: 2 | B40: 1 | C40: 好久了 | D40: =SUMIF(Sheet16!$B$6:$B$15,Sheet3!$C40,Sheet16!K$6:K$15) -> 0 | E40: =SUMIF(Sheet16!$B$6:$B$9,Sheet3!$C40,Sheet16!M$6:M$9) -> 0
...

Sheet Sheet4
A1: 空间和刻录机和
A2: =Sheet2!A2 -> 看就会立刻就会老客户考虑减 | Q2: 单位：平方米
A3: 序号 | B3: 结核杆菌 | C3: 交换机 | D3: 总建筑面积 | E3: 海仿古还原 | F3: 就换过就换过 | G3: 可交换机 | J3: 好几个 | K3: 已销售面积占可售面积比例 | N3: 好几个几乎 | O3: 已售套数 | R3: xsgf | S3: 备注
G4: 讲话稿 | H4: 讲话稿 | I4: 小计 | K4: 讲话稿 | L4: 非普通住宅 | M4: 讲话稿 | O4: 好几个 | P4: 好几个 | Q4: .;理解
B5: 合计 | D5: =SUM(D6:D10) -> 32644.1 | E5: =SUM(E6:E10) -> 0 | F5: =SUM(F6:F10) -> 32644.1 | G5: =SUM(G6:G10) -> 31946.76 | H5: =SUM(H6:H10) -> 697.34 | I5: =SUM(I6:I10) -> 32644.1 | J5: =SUM(J6:J10) -> 0 | K5: =IF(F5=0,0,G5/D5) -> 0.9786381 | L5: =IF(F5=0,0,H5/F5) -> 0.0213619 | M5: =K5+L5 -> 1 | N5: =SUM(N6:N10) -> 398 | O5: =SUM(O6:O10) -> 388 | P5: =SUM(P6:P10) -> 10 | Q5: =SUM(Q6:Q10) -> 398 | R5: =SUM(R6:R10) -> 0
A6: 1 | B6: 9# | D6: 8287.01 | F6: 8287.01 | G6: 8287.01 | I6: =G6+H6 -> 8287.01 | J6: =F6-I6 -> 0 | K6: =IF(F6=0,0,G6/D6) -> 1 | L6: =IF(F6=0,0,H6/F6) -> 0 | M6: =K6+L6 -> 1 | N6: 130 | O6: 130 | Q6: =O6+P6 -> 130 | R6: =N6-Q6 -> 0 | S6: gkjg
A7: 2 | B7: 10# | D7: 5187 | F7: 5187 | G7: 5187 | I7: =G7+H7 -> 5187 | J7: =F7-I7 -> 0 | K7: =IF(F7=0,0,G7/D7) -> 1 | L7: =IF(F7=0,0,H7/F7) -> 0 | M7: =K7+L7 -> 1 | N7: 42 | O7: 42 | Q7: =O7+P7 -> 42 | R7: 0 | S7: ggkjgh
A8: 3 | B8: 11# | D8: 11296.63 | F8: 11296.63 | G8: 11296.63 | I8: =G8+H8 -> 11296.63 | J8: =F8-I8 -> 0 | K8: =IF(F8=0,0,G8/D8) -> 1 | L8: =IF(F8=0,0,H8/F8) -> 0 | M8: =K8+L8 -> 1 | N8: 132 | O8: 132 | Q8: =O8+P8 -> 132 | R8: 0
A9: 4 | B9: 12# | D9: 7176.12 | F9: 7176.12 | G9: 7176.12 | I9: =G9+H9 -> 7176.12 | J9: =F9-I9 -> 0 | K9: =IF(F9=0,0,G9/D9) -> 1 | L9: =IF(F9=0,0,H9/F9) -> 0 | M9: =K9+L9 -> 1 | N9: 84 | O9: 84 | Q9: =O9+P9 -> 84 | R9: 0
A10: 5 | B10: 商铺 | D10: 697.34 | F10: 697.34 | H10: 697.34 | I10: =G10+H10 -> 697.34 | J10: =F10-I10 -> 0 | K10: =IF(F10=0,0,G10/D10) -> 0 | L10: =IF(F10=0,0,H10/F10) -> 1 | M10: =K10+L10 -> 1 | N10: 10 | P10: 10 | Q10: =O10+P10 -> 10 | R10: =N10-Q10 -> 0
D14: =D10/D5 -> 0.0213619

Sheet Sheet5
A1: 高科技高科技
A2: =Sheet2!A2 -> 看就会立刻就会老客户考虑减 | N2: 金额单位：元
A3: 好几个客家话 | B3: 好几个客家话个 | C3: 企业申报情况 | J3: 个海口经过 | L3: 华工科技感觉和 | M3: 华工科技 | P3: 高科技韩国
C4: 激活工具和 | E4: 钢结构 | F4: 赶紧回国 | G4: 哥看见过 | H4: 计划给好几个 | I4: 了看见了看见 | J4: 哥看见过 | K4: 控件会高合金钢 | M4: 好几个客家话个 | N4: 就换过可劲花个 | O4: 激活工具和
C5: 好几个客家话 | D5: 高科技韩国
A6: 1 | B6: 2 | C6: 3 | D6: 4 | E6: 5 | F6: 6 | G6: 7 | H6: 8=6/4 | I6: 9 | J6: 10 | K6: 11 | L6: 12 | M6: 15=11 | N6: 16 | O6: 17 | P6: 18=16-6
B7: 合计 | C7: =SUM(C8:C405) -> 0 | D7: =SUM(D8:D405) -> 32524.06 | E7: =SUM(E8:E405) -> 0 | F7: =SUM(F8:F405) -> 1.6429671e+08 | H7: =AVERAGE(H8:H405) -> 5062.2516 | J7: =SUM(J8:J405) -> 27484.3 | K7: =SUM(K8:K405) -> 32644.52 | L7: =SUM(L8:L405) -> 1.6179214e+08 | M7: =SUM(M8:M405) -> 32644.52 | N7: =SUM(N8:N405) -> 1.6429671e+08 | O7: =SUM(O8:O405) -> 0 | P7: =SUM(P8:P405) -> 0
D8: 70.48 | F8: 298872 | G8: 40393 | H8: =F8/K8 -> 4279.9943 | I8: （其他方式）银行按揭 | J8: 57.61 | K8: 69.83 | L8: 298872 | M8: =K8 -> 69.83 | N8: =L8 -> 298872 | P8: =N8-F8 -> 0 | Q8: =IF(H8-3544.48<0,H8,0) -> 0
D9: 70.48 | F9: 389651 | G9: 40389 | H9: =F9/K9 -> 5579.9943 | I9: 分期付款 | J9: 57.61 | K9: 69.83 | L9: 389651 | M9: =K9 -> 69.83 | N9: =L9 -> 389651 | P9: =N9-F9 -> 0 | Q9: =IF(H9-3544.48<0,H9,0) -> 0
D10: 70.48 | F10: 268147 | G10: 40375 | H10: =F10/K10 -> 3839.9971 | I10: 一次性付款 | J10: 57.61 | K10: 69.83 | L10: 268147 | M10: =K10 -> 69.83 | N10: =L10 -> 268147 | P10: =N10-F10 -> 0 | Q10: =IF(H10-3544.48<0,H10,0) -> 0
D11: 69.83 | F11: 366608 | G11: 41061 | H11: =F11/K11 -> 5250.0072 | I11: 一次性付款 | J11: 57.61 | K11: 69.83 | L11: 366608 | M11: =K11 -> 69.83 | N11: =L11 -> 366608 | P11: =N11-F11 -> 0 | Q11: =IF(H11-3544.48<0,H11,0) -> 0
D12: 70.48 | F12: 272337 | G12: 40392 | H12: =F12/K12 -> 3900 | I12: 一次性付款 | J12: 57.61 | K12: 69.83 | L12: 272337 | M12: =K12 -> 69.83 | N12: =L12 -> 272337 | P12: =N12-F12 -> 0 | Q12: =IF(H12-3544.48<0,H12,0) -> 0
D13: 70.48 | F13: 333787 | G13: 40479 | H13: =F13/K13 -> 4779.9943 | I13: （其他方式）银行按揭 | J13: 57.61 | K13: 69.83 | L13: 333787 | M13: =K13 -> 69.83 | N13: =L13 -> 333787 | P13: =N13-F13 -> 0 | Q13: =IF(H13-3544.48<0,H13,0) -> 0
D14: 70.48 | F14: 276038 | G14: 40389 | H14: =F14/K14 -> 3953.0001 | I14: 一次性付款 | J14: 57.61 | K14: 69.83 | L14: 276038 | M14: =K14 -> 69.83 | N14: =L14 -> 276038 | P14: =N14-F14 -> 0 | Q14: =IF(H14-3544.48<0,H14,0) -> 0
D15: 70.48 | F15: 347753 | G15: 40382 | H15: =F15/K15 -> 4979.9943 | I15: 一次性付款 | J15: 57.61 | K15: 69.83 | L15: 347753 | M15: =K15 -> 69.83 | N15: =L15 -> 347753 | P15: =N15-F15 -> 0 | Q15: =IF(H15-3544.48<0,H15,0) -> 0
D16: 70.48 | F16: 445515 | G16: 40548 | H16: =F16/K16 -> 6379.9943 | I16: 一次性付款 | J16: 57.61 | K16: 69.83 | L16: 445515 | M16: =K16 -> 69.83 | N16: =L16 -> 445515 | P16: =N16-F16 -> 0 | Q16: =IF(H16-3544.48<0,H16,0) -> 0
D17: 70.48 | F17: 449006 | G17: 40548 | H17: =F17/K17 -> 6429.9871 | I17: 一次性付款 | J17: 57.61 | K17: 69.83 | L17: 449006 | M17: =K17 -> 69.83 | N17: =L17 -> 449006 | P17: =N17-F17 -> 0 | Q17: =IF(H17-3544.48<0,H17,0) -> 0
D18: 69.83 | F18: 425055 | G18: 40801 | H18: =F18/K18 -> 6086.997 | I18: 一次性付款 | J18: 57.61 | K18: 69.83 | L18: 425055 | M18: =K18 -> 69.83 | N18: =L18 -> 425055 | P18: =N18-F18 -> 0 | Q18: =IF(H18-3544.48<0,H18,0) -> 0
D19: 70.48 | F19: 424566 | G19: 40382 | H19: =F19/K19 -> 6079.9943 | I19: 分期付款 | J19: 57.61 | K19: 69.83 | L19: 424566 | M19: =K19 -> 69.83 | N19: =L19 -> 424566 | P19: =N19-F19 -> 0 | Q19: =IF(H19-3544.48<0,H19,0) -> 0
... D33: 57.48 | F33: 344478 | G33: 40686 | H33: =F33/K33 -> 5993.0063 | I33: 分期付款 | J33: 47.42 | K33: 57.48 | L33: 344478 | M33: =K33 -> 57.48 | N33: =L33 -> 344478 | P33: =N33-F33 -> 0 | Q33: =IF(H33-3544.48<0,H33,0) -> 0
D34: 57.57 | F34: 367987 | G34: 40556 | H34: =F34/K34 -> 6402.0007 | J34: 47.42 | K34: 57.48 | L34: 367987 | M34: =K34 -> 57.48 | N34: =L34 -> 367987 | P34: =N34-F34 -> 0 | Q34: =IF(H34-3544.48<0,H34,0) -> 0
D35: 57.57 | F35: 282227 | G35: 40382 | H35: =F35/K35 -> 4910.0035 | I35: 一次性付款 | J35: 47.42 | K35: 57.48 | L35: 282227 | M35: =K35 -> 57.48 | N35: =L35 -> 282227 | P35: =N35-F35 -> 0 | Q35: =IF(H35-3544.48<0,H35,0) -> 0
D36: 57.57 | F36: 377184 | G36: 40553 | H36: =F36/K36 -> 6562.0042 | I36: 分期付款 | J36: 47.42 | K36: 57.48 | L36: 377184 | M36: =K36 -> 57.48 | N36: =L36 -> 377184 | P36: =N36-F36 -> 0 | Q36: =IF(H36-3544.48<0,H36,0) -> 0
D37: 57.48 | F37: 332292 | G37: 41019 | H37: =F37/K37 -> 5781.0021 | I37: 一次性付款 | J37: 47.42 | K37: 57.48 | L37: 332292 | M37: =K37 -> 57.48 | N37: =L37 -> 332292 | P37: =N37-F37 -> 0 | Q37: =IF(H37-3544.48<0,H37,0) -> 0
D38: 57.48 | F38: 349881 | G38: 40801 | H38: =F38/K38 -> 6087.0042 | J38: 47.42 | K38: 57.48 | L38: 349881 | M38: =K38 -> 57.48 | N38: =L38 -> 349881 | P38: =N38-F38 -> 0 | Q38: =IF(H38-3544.48<0,H38,0) -> 0
D39: 57.57 | F39: 246015 | G39: 40382 | H39: =F39/K39 -> 4280.0104 | I39: 分期付款 | J39: 47.42 | K39: 57.48 | L39: 221760 | M39: =K39 -> 57.48 | N39: 246015 | P39: =N39-F39 -> 0 | Q39: =IF(H39-3544.48<0,H39,0) -> 0
D40: 57.57 | F40: 211296 | G40: 40387 | H40: =F40/K40 -> 3675.9916 | I40: 一次性付款 | J40: 47.42 | K40: 57.48 | L40: 211296 | M40: =K40 -> 57.48 | N40: =L40 -> 211296 | P40: =N40-F40 -> 0 | Q40: =IF(H40-3544.48<0,H40,0) -> 0
D41: 57.48 | F41: 266477 | G41: 41229 | H41: =F41/K41 -> 4635.9951 | I41: 分期付款 | J41: 47.42 | K41: 57.48 | L41: 266477 | M41: =K41 -> 57.48 | N41: =L41 -> 266477 | P41: =N41-F41 -> 0 | Q41: =IF(H41-3544.48<0,H41,0) -> 0
D42: 57.57 | F42: 223597 | G42: 40383 | H42: =F42/K42 -> 3889.9965 | I42: 一次性付款 | J42: 47.42 | K42: 57.48 | L42: 223597 | M42: =K42 -> 57.48 | N42: =L42 -> 223597 | P42: =N42-F42 -> 0 | Q42: =IF(H42-3544.48<0,H42,0) -> 0
D43: 57.57 | F43: 266707 | G43: 40392 | H43: =F43/K43 -> 4639.9965 | I43: 分期付款 | J43: 47.42 | K43: 57.48 | L43: 266707 | M43: =K43 -> 57.48 | N43: =L43 -> 266707 | P43: =N43-F43 -> 0 | Q43: =IF(H43-3544.48<0,H43,0) -> 0
D44: 57.57 | F44: 227391 | G44: 40382 | H44: =F44/K44 -> 3956.0021 | I44: 一次性付款 | J44: 47.42 | K44: 57.48 | L44: 227391 | M44: =K44 -> 57.48 | N44: =L44 -> 227391 | P44: =N44-F44 -> 0 | Q44: =IF(H44-3544.48<0,H44,0) -> 0
D45: 57.48 | F45: 322980 | G45: 41025 | H45: =F45/K45 -> 5618.9979 | I45: 一次性付款 | J45: 47.42 | K45: 57.48 | L45: 322980 | M45: =K45 -> 57.48 | N45: =L45 -> 322980 | P45: =N45-F45 -> 0 | Q45: =IF(H45-3544.48<0,H45,0) -> 0
D46: 57.48 | F46: 319991 | G46: 41119 | H46: =F46/K46 -> 5566.9972 | I46: 一次性付款 | J46: 47.42 | K46: 57.48 | L46: 319991 | M46: =K46 -> 57.48 | N46: =L46 -> 319991 | P46: =N46-F46 -> 0 | Q46: =IF(H46-3544.48<0,H46,0) -> 0
D47: 57.48 | F47: 324015 | G47: 41119 | H47: =F47/K47 -> 5637.0042 | I47: 一次性付款 | J47: 47.42 | K47: 57.48 | L47: 324015 | M47: =K47 -> 57.48 | N47: =L47 -> 324015 | P47: =N47-F47 -> 0 | Q47: =IF(H47-3544.48<0,H47,0) -> 0
D48: 57.48 | F48: 348271 | G48: 41351 | H48: =F48/K48 -> 6058.9944 | I48: 一次性付款 | J48: 47.42 | K48: 57.48 | L48: 348271 | M48: =K48 -> 57.48 | N48: =L48 -> 348271 | P48: =N48-F48 -> 0 | Q48: =IF(H48-3544.48<0,H48,0) -> 0
D49: 57.48 | F49: 349881 | G49: 40801 | H49: =F49/K49 -> 6087.0042 | J49: 47.42 | K49: 57.48 | L49: 349881 | M49: =K49 -> 57.48 | N49: =L49 -> 349881 | P49: =N49-F49 -> 0 | Q49: =IF(H49-3544.48<0,H49,0) -> 0
D50: 69.83 | F50: 374987 | G50: 40828 | H50: =F50/K50 -> 5369.9986 | J50: 57.61 | K50: 69.83 | L50: 374987 | M50: =K50 -> 69.83 | N50: =L50 -> 374987 | P50: =N50-F50 -> 0 | Q50: =IF(H50-3544.48<0,H50,0) -> 0
D51: 70.48 | F51: 262561 | G51: 40385 | H51: =F51/K51 -> 3760.0029 | I51: 分期付款 | J51: 57.61 | K51: 69.83 | L51: 262561 | M51: =K51 -> 69.83 | N51: =L51 -> 262561 | P51: =N51-F51 -> 0 | Q51: =IF(H51-3544.48<0,H51,0) -> 0
D52: 70.48 | F52: 275130 | G52: 40381 | H52: =F52/K52 -> 3939.9971 | I52: 一次性付款 | J52: 57.61 | K52: 69.83 | L52: 275130 | M52: =K52 -> 69.83 | N52: =L52 -> 275130 | P52: =N52-F52 -> 0 | Q52: =IF(H52-3544.48<0,H52,0) -> 0
D53: 70.48 | F53: 437415 | H53: =F53/K53 -> 6263.9983 | I53: 一次性付款 | J53: 57.61 | K53: 69.83 | L53: 437415 | M53: =K53 -> 69.83 | N53: =L53 -> 437415 | P53: =N53-F53 -> 0 | Q53: =IF(H53-3544.48<0,H53,0) -> 0
...

Sheet Sheet6
A1: 和跨了好几列控件会
A2: =Sheet5!A2 -> 看就会立刻就会老客户考虑减
A3: 序号 | B3: 考虑减考虑减 | C3: 理解 | D3: 了靠捡垃圾 | E3: 拉开距离 | F3: 看见了看见 | G3: klj | H3: 就 | I3: 理论框架了 | J3: 看了就立刻 | K3: klj
A4: 1 | B4: 合计 | K4: =SUM(K5:K56) -> 0
A5: 2 | D5: 40394 | E5: 123.5 | F5: 3280 | G5: 405080 | H5: 3658 | I5: =H5*0.7 -> 2560.6 | K5: =J5*E5 -> 0
A6: 3 | D6: 40394 | E6: 123.5 | F6: 4294 | G6: 530309 | H6: 3658 | I6: 3643.5
A7: 4 | D7: 40386 | E7: 123.5 | F7: 4980 | G7: 615030 | H7: 3658 | I7: 3643.5
A8: 5 | D8: 40382 | E8: 123.5 | F8: 6848 | G8: 845728 | H8: 3658 | I8: 3643.5
A9: 6 | D9: 40413 | E9: 123.5 | F9: 4780 | G9: 590330 | H9: 3658 | I9: 3643.5
A10: 7 | D10: 40382 | E10: 123.5 | F10: 7048 | G10: 870428 | H10: 3658 | I10: 3643.5
A11: 8
A12: 9 | D12: 40379 | E12: 123.5 | F12: 2500 | G12: 308750 | H12: 3658 | I12: =H12*0.7 -> 2560.6 | K12: =J12*E12 -> 0
A13: 10 | D13: 40375 | E13: 123.5 | F13: 3580 | G13: 442130 | H13: =SUM(F12:F16)/5 -> 3658 | I13: =H13*0.7 -> 2560.6
A14: 11 | D14: 40399 | E14: 123.5 | F14: 3676 | G14: 453986 | H14: 3658 | I14: =H14*0.7 -> 2560.6
A15: 12 | D15: 40394 | E15: 123.5 | F15: 4464 | G15: 551304 | H15: 3658 | I15: =H15*0.7 -> 2560.6
A16: 13 | D16: 40438 | E16: 123.5 | F16: 4070 | G16: 502645 | H16: 3658 | I16: =H16*0.7 -> 2560.6
A17: 14
A18: 15 | D18: 40652 | E18: 93.35 | F18: 2600 | G18: 242710 | H18: 3658 | I18: =H18*0.7 -> 2560.6 | K18: =J18*E18 -> 0
A19: 16 | D19: 40655 | E19: 93.35 | F19: 2760 | G19: 257646 | H19: 3658 | I19: =H19*0.7 -> 2560.6 | K19: =J19*E19 -> 0
A20: 17 | D20: 40756 | E20: 93.35 | F20: 5753.0048 | G20: 537043 | H20: 3658 | I20: =H20*0.7 -> 2560.6
A21: 18 | D21: 40548 | E21: 93.35 | F21: 3750.0054 | G21: 350063 | H21: 3658 | I21: =H21*0.7 -> 2560.6
A22: 19 | D22: 40735 | E22: 93.35 | F22: 5823.9957 | G22: 543670 | H22: 3658 | I22: =H22*0.7 -> 2560.6
A23: 20
A24: 21 | D24: 40376 | E24: 93.35 | F24: 2744.0064 | G24: 256153 | H24: =SUM(F24:F29)/6 -> 3501.8336 | I24: =H24*0.7 -> 2451.2835 | K24: =J24*E24 -> 0
A25: 22 | D25: 40471 | E25: 93.35 | F25: 2440 | G25: 227774 | H25: =H24 -> 3501.8336 | I25: =H25*0.7 -> 2451.2835 | K25: =J25*E25 -> 0
A26: 23 | D26: 40389 | E26: 93.35 | F26: 3808.0021 | G26: 355477 | H26: =H25 -> 3501.8336 | I26: =H26*0.7 -> 2451.2835
A27: 24 | D27: 40389 | E27: 93.35 | F27: 3832.9941 | G27: 357810 | H27: =H26 -> 3501.8336 | I27: =H27*0.7 -> 2451.2835
A28: 25 | D28: 40389 | E28: 93.35 | F28: 4025.9989 | G28: 375827 | H28: =H27 -> 3501.8336 | I28: =H28*0.7 -> 2451.2835
A29: 26 | D29: 40383 | E29: 93.35 | F29: 4160 | G29: 388336 | H29: =H28 -> 3501.8336 | I29: =H29*0.7 -> 2451.2835
A30: 27
A31: 28 | D31: 40724 | E31: 77.81 | F31: 2980.0026 | G31: 231874 | H31: 4200 | I31: =H31*0.7 -> 2940 | K31: =J31*E31 -> 0
A32: 29 | D32: 40378 | E32: 77.81 | F32: 3860.0051 | G32: 300347 | H32: 4200 | I32: =H32*0.7 -> 2940
A33: 30 | D33: 41229 | E33: 77.81 | F33: 5392.0062 | G33: 419552 | H33: 4200 | I33: =H33*0.7 -> 2940
A34: 31 | D34: 41242 | E34: 77.81 | F34: 5523.9943 | G34: 429822 | H34: 4200 | I34: =H34*0.7 -> 2940
A35: 32 | D35: 41127 | E35: 77.81 | F35: 5658.0003 | G35: 440249 | H35: 4200 | I35: =H35*0.7 -> 2940
A36: 33 | D36: 40392 | E36: 77.81 | F36: 4080.0026 | G36: 317465 | H36: 4200 | I36: =H36*0.7 -> 2940
A37: 34 | D37: 41061 | E37: 77.81 | F37: 5400 | G37: 420174 | H37: 4200 | I37: =H37*0.7 -> 2940
A38: 35 | D38: 41061 | E38: 77.81 | F38: 5450.0064 | G38: 424065 | H38: 4200 | I38: =H38*0.7 -> 2940
A39: 36 | D39: 41104 | E39: 77.81 | F39: 5776.0057 | G39: 449431 | H39: 4200 | I39: =H39*0.7 -> 2940
A40: 37 | D40: 41054 | E40: 77.81 | F40: 5800 | G40: 451298 | H40: 4200 | I40: =H40*0.7 -> 2940
...

Sheet Sheet7
A1: 地成jlj细表
A2: =Sheet2!A2 -> 看就会立刻就会老客户考虑减 | M2: 金额单位：元
A3: 海陆空 | B3: 海陆空 | C3: 海陆空 | D3: 海陆空 | E3: 海陆空 | F3: 海陆空 | G3: 海陆空 | H3: 海陆空 | I3: 海陆空 | J3: 海陆空 | K3: 看见好看了 | L3: 看见好看了 | M3: 看见好看了 | N3: 看见好看了
B4: 1 | C4: 2 | D4: 3 | E4: 4 | F4: 5 | G4: 6 | H4: 7 | I4: 8 | J4: 9 | K4: 10 | L4: 11 | M4: 12 | N4: 13
C5: 合计 | H5: =SUM(H6:H9) -> 1124533.9 | I5: =SUM(I6:I9) -> 0 | J5: =SUM(J6:J9) -> 0 | K5: =SUM(K6:K9) -> 1124533.9 | L5: =SUM(L6:L9) -> 0 | M5: =SUM(M6:M9) -> 1124533.9
A6: 1 | B6: 支付的土地出让金 | E6: 41060 | F6: 记98 | G6: 个华府大道 | H6: 1407207.7 | I6: 可好看了 | K6: =H6 -> 1407207.7 | M6: =K6+L6 -> 1407207.7 | O6: 已核对 | P6: 土地成本10,556,357.47，其中土地成本8,036,357.47，增容费2,520,000.00
A7: 2 | B7: 支付的土地出让金 | E7: 41274 | F7: 记119 | G7: 个华府大道 | H7: -197011.45 | I7: 分配明细表 | K7: =H7 -> -197011.45 | M7: =K7+L7 -> -197011.45 | O7: 已核对 | P7: 一期审核报告调减土地成本3,088,844.18元 按报建面积进行分摊 本次分摊比例15.059%
A8: 3 | B8: 支付的土地出让金 | E8: 41274 | F8: 记119 | G8: 个华府大道 | H8: 379487.17 | I8: 空军航空就 | K8: =H8 -> 379487.17 | M8: =K8+L8 -> 379487.17 | O8: 已核对
A9: 4 | B9: 支付的土地出让金 | E9: 42369 | F9: 转167 | G9: 个华府大道 | H9: -465149.5 | I9: 分配明细表 | K9: =H9 -> -465149.5 | M9: =K9+L9 -> -465149.5 | O9: 已核对

Sheet Sheet8
A1: 解决
A2: =Sheet7!A2 -> 看就会立刻就会老客户考虑减
A3: 项目 | B3: 一期 | C3: 二期一段 | D3: 二期二段 | E3: 会所 | F3: 三期 | G3: 合计
A4: 按报建面积 | B4: 1454546 | C4: 54646 | D4: 5464 | E4: 546 | F4: 6546 | G4: =SUM(B4:F4) -> 1521748
A5: 分摊比例 | B5: =B4/G4 -> 0.95583894 | C5: =C4/G4 -> 0.035910019 | D5: =D4/G4 -> 0.0035906076 | E5: =E4/G4 -> 0.00035879791 | F5: =F4/G4 -> 0.0043016321 | G5: =SUM(B5:F5) -> 1
A6: 土地成本 | B6: 1271717.5 | C6: 1124533.9 | D6: 845260.62 | E6: 58790.02 | F6: =G6-B6-C6-D6-E6 -> 4167211.2 | G6: 7467513.3
A7: 65654

Sheet Sheet9
A1: kljklj
A2: =Sheet2!A2 -> 看就会立刻就会老客户考虑减 | M2: 金额单位：元
A3: 序号 | B3: 成本类别 | C3: 成本类别 | D3: 成本类别 | E3: 成本类别 | F3: 成本类别 | G3: 成本类别 | H3: 成本类别 | I3: 成本类别 | J3: 成本类别 | K3: 成本类别 | L3: 成本类别 | M3: 成本类别 | N3: 成本类别
B4: 1 | C4: 2 | D4: 3 | E4: 4 | F4: 5 | G4: 6 | H4: 7 | I4: 8 | J4: 9 | K4: 10 | L4: 11 | M4: 12 | N4: 13
C5: 合计 | H5: =SUM(H6:H9) -> 0 | K5: =SUM(K6:K9) -> 0 | L5: =SUM(L6:L9) -> 0 | M5: =SUM(M6:M9) -> 0
A6: 1
A7: 2
A8: 3 | M8: =K8+L8 -> 0
A9: 4 | M9: =K9+L9 -> 0

Sheet Sheet10
A1: hlkjh
A2: =Sheet2!A2 -> 看就会立刻就会老客户考虑减 | M2: 金额单位：元
A3: 本命年劳改犯 | B3: 本命年劳改犯 | C3: 本命年劳改犯 | D3: 本命年劳改犯 | E3: 本命年劳改犯 | F3: 本命年劳改犯 | G3: 本命年劳改犯 | H3: 本命年劳改犯 | I3: 本命年劳改犯 | J3: 本命年劳改犯 | K3: 本命年劳改犯 | L3: 本命年劳改犯 | M3: 本命年劳改犯 | N3: 本命年劳改犯
B4: 1 | C4: 2 | D4: 3 | E4: 4 | F4: 5 | G4: 6 | H4: 7 | I4: 8 | J4: 9 | K4: 10 | L4: 11 | M4: 12 | N4: 13
C5: 合计 | H5: =SUM(H6:H20) -> 2386959.7 | K5: =SUM(K6:K20) -> 2386959.7 | L5: =SUM(L6:L20) -> 0 | M5: =SUM(M6:M20) -> 2386959.7
A6: 1 | B6: 规划费用 | C6: 委员会 | D6: 预付账款 | E6: 40261 | F6: tyrtre | G6: 我与UI国土局海陆空 | H6: 294401.88 | I6: jhklh很快就后 | J6: 02866-09700 | K6: 294401.88 | M6: =K6+L6 -> 294401.88 | O6: 已付款 | Q6: 发票看不清
A7: 2 | B7: 设计费用 | C7: 委员会 | D7: 预付账款 | E7: 40325 | F7: tyrtre | G7: 我与UI国土局海陆空 | H7: 5000 | I7: jhklh很快就后 | J7: 46000971522-0677985 | K7: 5000 | M7: =K7+L7 -> 5000 | O7: 已付款 | Q7: 已核对
A8: 3 | B8: 测绘费用 | C8: 委员会 | D8: 预付账款 | E8: 40385 | F8: tyrtre | G8: 我与UI国土局海陆空 | H8: 17936 | I8: jhklh很快就后 | J8: 2460000972423-00076048 | K8: 17936 | M8: =K8+L8 -> 17936 | O8: 已付款 | Q8: 已核对
A9: 4 | B9: 设计费用 | C9: 委员会 | D9: 预付账款 | E9: 40387 | F9: tyrtre | G9: 我与UI国土局海陆空 | H9: 424660.5 | I9: jhklh很快就后 | J9: 246001072423-00046729至00046734 | K9: 424660.5 | M9: =K9+L9 -> 424660.5 | O9: 已付款 | Q9: 已核对 | R9: 发票金额456109.09 | S9: 发票未注明是哪期的设计费
A10: 5 | B10: 设计费用 | C10: 委员会 | D10: 预付账款 | E10: 40477 | F10: tyrtre | G10: 我与UI国土局海陆空 | H10: 30000 | I10: jhklh很快就后 | J10: 2460000972423-00046883 | K10: 30000 | M10: =K10+L10 -> 30000 | O10: 已付款 | Q10: 已核对
A11: 6 | B11: 勘探费用 | C11: 委员会 | D11: 预付账款 | E11: 40477 | F11: tyrtre | G11: 我与UI国土局海陆空 | H11: 4200 | I11: jhklh很快就后 | J11: 246000901118-00120453 | K11: 4200 | M11: =K11+L11 -> 4200 | O11: 已付款 | Q11: 已核对
A12: 7 | B12: 测绘费用 | C12: 委员会 | D12: 预付账款 | E12: 40506 | F12: tyrtre | G12: 我与UI国土局海陆空 | H12: 7000 | I12: jhklh很快就后 | J12: 246001071522-00232023 | K12: 7000 | M12: =K12+L12 -> 7000 | O12: 已付款 | Q12: 已核对 | S12: 发票未注明哪期费用
A13: 8 | B13: 规划费用 | C13: 委员会 | D13: 预付账款 | E13: 40543 | F13: tyrtre | G13: 我与UI国土局海陆空 | H13: 1327730.4 | I13: jhklh很快就后 | J13: 0308-996183 | K13: 1327730.4 | M13: =K13+L13 -> 1327730.4 | O13: 已付款 | Q13: 已核对 | R13: 费用报销单上写13#、14#号楼成本 | S13: 发票未注明哪期费用 但是标注的面积是13#14#
A14: 9 | B14: 设计费用 | C14: 委员会 | D14: 银行存款 | E14: 40631 | F14: tyrtre | G14: 我与UI国土局海陆空 | H14: 53268 | I14: jhklh很快就后 | J14: 246001172423-00014623 | K14: 53268 | M14: =K14+L14 -> 53268 | O14: 已付款 | Q14: 已核对 | S14: 发票未注明哪期费用
A15: 10 | B15: 规划费用 | C15: 委员会 | D15: 预付账款 | E15: 40715 | F15: tyrtre | G15: 我与UI国土局海陆空 | H15: 13474.8 | I15: jhklh很快就后 | J15: 0309-074199 | K15: 13474.8 | M15: =K15+L15 -> 13474.8 | O15: 已付款 | Q15: 已核对
A16: 11 | B16: 测绘费用 | C16: 委员会 | D16: 预付账款 | E16: 40736 | F16: tyrtre | G16: 我与UI国土局海陆空 | H16: 17972.39 | I16: jhklh很快就后 | J16: 246001072423-00140785 | K16: 17972.39 | M16: =K16+L16 -> 17972.39 | O16: 已付款 | Q16: 已核对
A17: 12 | B17: 设计费用 | C17: 委员会 | D17: 预付账款 | E17: 40807 | F17: tyrtre | G17: 我与UI国土局海陆空 | H17: 70000 | I17: jhklh很快就后 | J17: 246000972423-00081355 | K17: 70000 | M17: =K17+L17 -> 70000 | O17: 已付款 | Q17: 已核对
A18: 13 | B18: 测绘费用 | C18: 委员会 | D18: 其他应交款 | E18: 41060 | F18: tyrtre | G18: 我与UI国土局海陆空 | H18: 40056.98 | I18: jhklh很快就后 | K18: 40056.98 | M18: =K18+L18 -> 40056.98 | N18: 和健康就好 | O18: 已付款 | Q18: 已核对，无发票无银行回单 | R18: 按报建面积进行分摊 分摊比例15.059%
A19: 14 | B19: 设计费用 | C19: 委员会 | D19: 其他应交款 | E19: 41264 | F19: tyrtre | G19: 我与UI国土局海陆空 | H19: 34074.29 | I19: jhklh很快就后 | K19: 34074.29 | M19: =K19+L19 -> 34074.29 | N19: 89798 | O19: 已付款 | Q19: 已核对，无发票无银行回单 | R19: 分摊比例错误22.716%
A20: 15 | B20: 设计费用 | C20: 委员会 | D20: 预付账款 | E20: 41264 | F20: tyrtre | G20: 我与UI国土局海陆空 | H20: 47184.5 | I20: jhklh很快就后 | J20: 246001260413-00779003 | K20: 47184.5 | M20: =K20+L20 -> 47184.5 | O20: 已付款 | Q20: 已核对

Sheet Sheet11
A1: 几乎空间和刻录机
A2: =Sheet2!A2 -> 看就会立刻就会老客户考虑减 | Q2: 金额单位：元
A3: UI羽绒服 | B3: UI羽绒服 | C3: UI羽绒服 | D3: UI羽绒服 | E3: UI羽绒服 | F3: UI羽绒服 | G3: UI羽绒服 | H3: UI羽绒服 | I3: UI羽绒服 | J3: UI羽绒服 | K3: UI羽绒服 | L3: UI羽绒服 | M3: UI羽绒服 | N3: UI羽绒服 | O3: UI羽绒服 | P3: UI羽绒服 | Q3: UI羽绒服 | R3: UI羽绒服
C4: 合计 | F4: =SUM(F5:F9) -> 390073 | G4: =SUM(G5:G9) -> 152108.39 | H4: =SUM(H5:H9) -> 152108.39 | I4: =SUM(I5:I9) -> 0 | J4: =SUM(J5:J9) -> 0 | K4: =SUM(K5:K9) -> 390073 | L4: =SUM(L5:L9) -> 0 | M4: =SUM(M5:M9) -> -237964.61 | ... Q4: =SUM(Q5:Q9) -> 0
B5: 勘探费用 | C5: Uuioiu看见了 | D5: 40288 | E5: 10#楼施工勘察 | F5: 4200 | G5: 4200 | H5: 4200 | K5: =F5 -> 4200 | L5: =F5-K5 -> 0 | M5: =G5-K5 -> 0 | N5: =H5-K5 -> 0 | P5: 4200 | Q5: =G5-P5 -> 0
B6: 测绘费用 | C6: Uuioiu看见了 | D6: 40357 | E6: 盈滨绿生花园9.10.11.12号楼 | F6: 35873 | G6: 42908.39 | H6: 42908.39 | K6: =F6 -> 35873 | L6: =F6-K6 -> 0 | M6: =G6-K6 -> 7035.39 | N6: =H6-K6 -> 7035.39 | P6: 35873
B7: 设计费用 | C7: Uuioiu看见了 | D7: 40465 | E7: 绿生花园2期项目景观设计 | F7: 100000 | G7: 70000 | H7: 70000 | K7: =F7 -> 100000 | L7: =F7-K7 -> 0 | M7: =G7-K7 -> -30000 | N7: =H7-K7 -> -30000 | P7: 70000 | Q7: =G7-P7 -> 0
B8: 设计费用 | C8: Uuioiu看见了 | D8: 39749 | E8: 14.4万㎡，6-18层11层，图审费（1.041元每平方） | F8: 150000 | G8: 5000 | H8: 5000 | K8: =F8 -> 150000 | L8: =F8-K8 -> 0 | M8: =G8-K8 -> -145000 | N8: =H8-K8 -> -145000 | P8: 5000 | Q8: =G8-P8 -> 0
B9: 设计费用 | C9: Uuioiu看见了 | D9: 40465 | E9: 绿生花园2期项目景观设计 | F9: 100000 | G9: 30000 | H9: 30000 | K9: =F9 -> 100000 | L9: =F9-K9 -> 0 | M9: =G9-K9 -> -70000 | N9: =H9-K9 -> -70000 | P9: 30000 | Q9: =G9-P9 -> 0
B10: 设计费用 | C10: Uuioiu看见了 | D10: 39442 | E10: 海南绿生花园工程设计 | F10: 681280 | G10: 525113 | H10: 525113 | K10: =F10 -> 681280 | L10: =F10-K10 -> 0 | M10: =G10-K10 -> -156167 | N10: =H10-K10 -> -156167 | P10: 525113 | Q10: =G10-P10 -> 0

Sheet Sheet12
A1: iuyiuyiu
A2: =Sheet2!A2 -> 看就会立刻就会老客户考虑减 | M2: 金额单位：元
A3: 序号 | B3: 序号 | C3: 序号 | D3: 序号 | E3: 序号 | F3: 序号 | G3: 序号 | H3: 序号 | I3: 序号 | J3: 序号 | K3: 序号 | L3: 序号 | M3: 序号 | N3: 序号
B4: 1 | C4: 2 | D4: 3 | E4: 4 | F4: 5 | G4: 6 | H4: 7 | I4: 8 | J4: 9 | K4: 10 | L4: 11 | M4: 12 | N4: 13
C5: 合计 | H5: =SUM(H6:H87) -> 90233272 | I5: =SUM(I6:I72) -> 0 | J5: =SUM(J6:J72) -> 0 | K5: =SUM(K6:K87) -> 90233272 | L5: =SUM(L6:L87) -> -1065857.8 | M5: =SUM(M6:M87) -> 89167415
A6: 1 | B6: 建筑工程费 | C6: 从产销方式 | D6: 预付账款 | E6: 40385 | F6: 交换空间和 | G6: f空军航空就可怜 | H6: 6358000 | I6: 换句话 | J6: 246001001118-00122264 | K6: 6358000 | M6: =K6+L6 -> 6358000 | P6: 发票不清晰，无银行回单
A7: 2 | B7: 建筑工程费 | C7: 从产销方式 | D7: 预付账款 | E7: 40416 | F7: 交换空间和 | G7: f空军航空就可怜 | H7: 2793000 | I7: 换句话 | J7: 246001001118-00147673 | K7: 2793000 | M7: =K7+L7 -> 2793000 | P7: 发票不清晰，无银行回单
A8: 3 | B8: 建筑工程费 | C8: 从产销方式 | D8: 预付账款 | E8: 40441 | F8: 交换空间和 | G8: f空军航空就可怜 | H8: 12215000 | I8: 换句话 | J8: 246001001118-00148567 | K8: 12215000 | M8: =K8+L8 -> 12215000 | P8: 已核对
A9: 4 | B9: 建筑工程费 | C9: 从产销方式 | D9: 预付账款 | E9: 40449 | F9: 交换空间和 | G9: f空军航空就可怜 | H9: 118758.19 | I9: 换句话 | J9: 4400093650-02273173 | K9: 118758.19 | L9: -118758.19 | M9: =K9+L9 -> 0 | N9: 主合同已包含 | O9: 发票未注明哪期 | P9: 已核对
A10: 5 | B10: 建筑工程费 | C10: 从产销方式 | D10: 预付账款 | E10: 40470 | F10: 交换空间和 | G10: f空军航空就可怜 | H10: 115644.54 | I10: 换句话 | J10: 看不清 | K10: 115644.54 | L10: -115644.54 | M10: =K10+L10 -> 0 | N10: 主合同已包含 | P10: 已核对，发票抬头，编号，银行回单看不清
A11: 6 | B11: 建筑工程费 | C11: 从产销方式 | D11: 预付账款 | E11: 40477 | F11: 交换空间和 | G11: f空军航空就可怜 | H11: 53813.78 | I11: 换句话 | J11: 4400093650-02292020 | K11: 53813.78 | L11: -53813.78 | M11: =K11+L11 -> 0 | N11: 主合同已包含 | P11: 已核对，凭证号看不见
A12: 7 | B12: 建筑工程费 | C12: 从产销方式 | D12: 预付账款 | E12: 40477 | F12: 交换空间和 | G12: f空军航空就可怜 | H12: 3310000 | I12: 换句话 | J12: 246001001118-00205406 | K12: 3310000 | M12: =K12+L12 -> 3310000 | P12: 已核对，无银行回单，发票内容看不清
A13: 8 | B13: 建筑工程费 | C13: 从产销方式 | D13: 预付账款 | E13: 40492 | F13: 交换空间和 | G13: f空军航空就可怜 | H13: 161941.32 | I13: 换句话 | J13: 4400093650-02292519 | K13: 161941.32 | L13: -161941.32 | M13: =K13+L13 -> 0 | N13: 主合同已包含 | P13: 已核对，银行回单看不清
A14: 9 | B14: 建筑工程费 | C14: 从产销方式 | D14: 预付账款 | E14: 40501 | F14: 交换空间和 | G14: f空军航空就可怜 | H14: 2285000 | I14: 换句话 | J14: 246001001118-00207573 | K14: 2285000 | M14: =K14+L14 -> 2285000 | P14: 已核对，无银行回单
A15: 10 | B15: 安装工程费 | C15: 从产销方式 | D15: 预付账款 | E15: 40507 | F15: 交换空间和 | G15: f空军航空就可怜 | H15: 101184 | I15: 换句话 | J15: 146011021033-00255988 | K15: 101184 | L15: -101184 | M15: =K15+L15 -> 0 | N15: 主合同已包含 | O15: 发票未注明哪期 | P15: 已核对，无银行回单，有张发票号码看不见
A16: 11 | B16: 建筑工程费 | C16: 从产销方式 | D16: 预付账款 | E16: 40508 | F16: 交换空间和 | G16: f空军航空就可怜 | H16: 52174.7 | I16: 换句话 | J16: 4400093650-02294800 | K16: 52174.7 | L16: -52174.7 | M16: =K16+L16 -> 0 | N16: 主合同已包含 | P16: 已核对，银行回单看不清
A17: 12 | B17: 安装工程费 | C17: 从产销方式 | D17: 预付账款 | E17: 40519 | F17: 交换空间和 | G17: f空军航空就可怜 | H17: 250000 | I17: 换句话 | J17: 246001001118-00207887 | K17: 250000 | M17: =K17+L17 -> 250000 | O17: 2011.8.142#和2011.11.40#已冲平 一期成本 | P17: 已核对
A18: 13 | B18: 安装工程费 | C18: 从产销方式 | D18: 预付账款 | E18: 40520 | F18: 交换空间和 | G18: f空军航空就可怜 | H18: 71061.17 | I18: 换句话 | J18: 4400101650-00308801 | K18: 71061.17 | L18: -71061.17 | M18: =K18+L18 -> 0 | N18: 主合同已包含 | P18: 已核对
A19: 14 | B19: 安装工程费 | C19: 从产销方式 | D19: 预付账款 | E19: 40525 | F19: 交换空间和 | G19: f空军航空就可怜 | H19: 177519.73 | I19: 换句话 | J19: 4400101650-00308724、00320620 | K19: 177519.73 | L19: -177519.73 | M19: =K19+L19 -> 0 | N19: 主合同已包含 | P19: 已核对，无银行回单
A20: 15 | B20: 建筑工程费 | C20: 从产销方式 | D20: 预付账款 | E20: 40528 | F20: 交换空间和 | G20: f空军航空就可怜 | H20: 22924876 | I20: 换句话 | J20: 246001001118-00208254 | K20: 22924876 | M20: =K20+L20 -> 22924876 | P20: 已核对，无银行回单
A21: 16 | B21: 安装工程费 | C21: 从产销方式 | D21: 预付账款 | E21: 40533 | F21: 交换空间和 | G21: f空军航空就可怜 | H21: 6867.41 | I21: 换句话 | J21: 4400101650-00320713 | K21: 6867.41 | L21: -6867.41 | M21: =K21+L21 -> 0 | N21: 主合同已包含 | P21: 已核对，无银行回单
A22: 17 | B22: 安装工程费 | C22: 从产销方式 | D22: 预付账款 | E22: 40555 | F22: 交换空间和 | G22: f空军航空就可怜 | H22: 200000 | I22: 换句话 | J22: 246001001118-00262866 | K22: 200000 | M22: =K22+L22 -> 200000 | N22: 室外及会所工程 | O22: ？ | P22: 已核对
A23: 18 | B23: 电梯 | C23: 从产销方式 | D23: 预付账款 | E23: 40562 | F23: 交换空间和 | G23: f空军航空就可怜 | H23: 1470000 | I23: 换句话 | J23: 0103650-02323026 | K23: 1470000 | M23: =K23+L23 -> 1470000 | O23: 发票未注明哪期 | P23: 已核对，发票、银行回单看不清
A24: 19 | B24: 安装工程费 | C24: 从产销方式 | D24: 预付账款 | E24: 40568 | F24: 交换空间和 | G24: f空军航空就可怜 | H24: 246480 | I24: 换句话 | J24: 146001010202-00025097 | K24: 246480 | L24: -246480 | M24: 0 | N24: 发票抬头为个人，无银行回单，发票金额只有9480。主合同已包含。重复进成本 | P24: 已核对
A25: 20 | B25: 安装工程费 | C25: 从产销方式 | D25: 预付账款 | E25: 40568 | F25: 交换空间和 | G25: f空军航空就可怜 | H25: 150000 | I25: 换句话 | J25: 246001001118-00262672 | K25: 150000 | M25: =K25+L25 -> 150000 | O25: 发票未注明哪期 | P25: 已核对，无银行回单
A26: 21 | B26: 安装工程费 | C26: 从产销方式 | D26: 预付账款 | E26: 40574 | F26: 交换空间和 | G26: f空军航空就可怜 | H26: 200000 | I26: 换句话 | J26: 246001001118-00263760 | K26: 200000 | M26: =K26+L26 -> 200000 | O26: 2011.11.1#已冲平 | P26: 已核对
A27: 22 | B27: 电梯 | C27: 从产销方式 | D27: 预付账款 | E27: 40590 | F27: 交换空间和 | G27: f空军航空就可怜 | H27: 100000 | I27: 换句话 | K27: 100000 | M27: =K27+L27 -> 100000 | P27: 有银行付款，无发票
A28: 23 | B28: 安装工程费 | C28: 从产销方式 | D28: 预付账款 | E28: 40602 | F28: 交换空间和 | G28: f空军航空就可怜 | H28: 7782 | I28: 换句话 | J28: 0308-674686 | K28: 7782 | M28: =K28+L28 -> 7782 | P28: 已核对，无银行回单，发票抬头看不清
A29: 24 | B29: 建筑工程费 | C29: 从产销方式 | D29: 预付账款 | E29: 40653 | F29: 交换空间和 | G29: f空军航空就可怜 | H29: 3067884.3 | I29: 换句话 | J29: 246001101118-00066864 | K29: 3067884.3 | M29: =K29+L29 -> 3067884.3 | P29: 已核对，无法分清是哪期成本。
A30: 25 | B30: 安装工程费 | C30: 从产销方式 | D30: 预付账款 | E30: 40654 | F30: 交换空间和 | G30: f空军航空就可怜 | H30: 150000 | I30: 换句话 | J30: 246001101118-00066930 | K30: 150000 | M30: =K30+L30 -> 150000 | O30: 发票未注明哪期 | P30: 已核对
A31: 26 | B31: 安装工程费 | C31: 从产销方式 | D31: 预付账款 | E31: 40711 | F31: 交换空间和 | G31: f空军航空就可怜 | H31: 30200 | I31: 换句话 | J31: 146001010202-00332413—16 | K31: 30200 | L31: -30200 | M31: =K31+L31 -> 0 | N31: 看合同，装修属于包工包料。应取得建安发票 | P31: 已核对，无银行回单，发票内容看不清
A32: 27 | B32: 安装工程费 | C32: 从产销方式 | D32: 预付账款 | E32: 40715 | F32: 交换空间和 | G32: f空军航空就可怜 | H32: 130000 | I32: 换句话 | J32: 246001160315-00007584 | K32: 130000 | M32: =K32+L32 -> 130000 | O32: 发票未注明哪期 | P32: 已核对
A33: 28 | B33: 安装工程费 | C33: 从产销方式 | D33: 预付账款 | E33: 40736 | F33: 交换空间和 | G33: f空军航空就可怜 | H33: 7020 | I33: 换句话 | J33: 0248-522372 | K33: 7020 | M33: =K33+L33 -> 7020 | P33: 已核对
A34: 29 | B34: 建筑工程费 | C34: 从产销方式 | D34: 预付账款 | E34: 40739 | F34: 交换空间和 | G34: f空军航空就可怜 | H34: 10284408 | I34: 换句话 | J34: 246001160315-00029913至00029923 | K34: 10284408 | M34: =K34+L34 -> 10284408 | P34: 已核对，无银行回单
A35: 30 | B35: 安装工程费 | C35: 从产销方式 | D35: 预付账款 | E35: 40781 | F35: 交换空间和 | G35: f空军航空就可怜 | H35: 297040 | I35: 换句话 | J35: 146001110202-00294588/00294624 146011021033-00255977-81、84-86、88 | K35: 297040 | L35: -297040 | M35: =K35+L35 -> 0 | N35: 183216无发票，无付款 主合同已包含 | P35: 已核对
A36: 31 | B36: 安装工程费 | C36: 从产销方式 | D36: 其他应付款 | E36: 40786 | F36: 交换空间和 | G36: f空军航空就可怜 | H36: -20000 | I36: 换句话 | K36: -20000 | M36: =K36+L36 -> -20000 | O36: 冲2010.12.37# | P36: 已核对
A37: 32 | B37: 安装工程费 | C37: 从产销方式 | D37: 预付账款 | E37: 40833 | F37: 交换空间和 | G37: f空军航空就可怜 | H37: 3000 | I37: 换句话 | J37: 246001160211-00028093 | K37: 3000 | M37: =K37+L37 -> 3000 | O37: 电梯保险费 | P37: 已核对，无银行回单 | R37: (发票由阳光财产保险股份有限公司海南分公司开具)
A38: 33 | B38: 安装工程费 | C38: 从产销方式 | E38: 40856 | F38: 交换空间和 | G38: f空军航空就可怜 | H38: -200000 | I38: 换句话 | K38: -200000 | M38: =K38+L38 -> -200000 | O38: 冲平2011.01.132# | P38: 已核对
A39: 34 | B39: 安装工程费 | C39: 从产销方式 | D39: 预付账款 | E39: 40868 | F39: 交换空间和 | G39: f空军航空就可怜 | H39: 200000 | I39: 换句话 | J39: 246001160315-00170089 | K39: 200000 | M39: =K39+L39 -> 200000 | O39: 发票未注明哪期 | P39: 已核对，无银行回单
A40: 35 | B40: 安装工程费 | C40: 从产销方式 | E40: 40873 | F40: 交换空间和 | G40: f空军航空就可怜 | H40: 165780 | I40: 换句话 | K40: 165780 | M40: =K40+L40 -> 165780 | P40: 已核对
...

Sheet Sheet13
A1: 控件会价格会表
A2: =Sheet2!A2 -> 看就会立刻就会老客户考虑减 | Q2: 金额单位：元
A3: 猜测当时 | B3: 猜测当时 | C3: 猜测当时 | D3: 猜测当时 | E3: 猜测当时 | F3: 猜测当时 | G3: 猜测当时 | H3: 猜测当时 | I3: 猜测当时 | J3: 猜测当时 | K3: 猜测当时 | L3: 猜测当时 | M3: 猜测当时 | N3: 猜测当时 | O3: 猜测当时 | P3: 猜测当时 | Q3: 猜测当时 | R3: 猜测当时
C4: 合计 | F4: =SUM(F5:F17) -> 1.1374702e+08 | G4: =SUM(G5:G17) -> 1.0408553e+08 | H4: =SUM(H5:H17) -> 1.1303392e+08 | I4: =SUM(I5:I17) -> 1.014909e+08 | K4: =SUM(K5:K17) -> 1.0310658e+08 | L4: =SUM(L5:L17) -> 10640439 | M4: =SUM(M5:M17) -> 978951.21 | N4: =SUM(N5:N17) -> 9927339.4 | O4: =SUM(O5:O17) -> 0 | P4: =SUM(P5:P17) -> 89562571 | Q4: =SUM(Q5:Q17) -> 13346412
B5: 建筑工程费用 | C5: 不能吃 | E5: 空间和刻录机 | F5: 52953760 | G5: =86847152.09+12280531.9+2220 -> 99129904 | H5: =102577760.31+12280531.9-6780000 -> 1.0807829e+08 | I5: 1.014909e+08 | J5: =I5/SUM(F5:F9) -> 0.93904944 | K5: 99127684 | L5: =SUM(F5+F6+F7+F8+F9)-K5 -> 8950650.4 | M5: =G5-K5 -> 2220 | N5: =H5:H9-K5 -> 8950608.2 | O5: 0 | P5: 85407684 | Q5: 13720000 | R5: 6,780,000.00元发票标明是一期工程。6940000元发票为二期二段。
B6: 建筑工程费用 | C6: 不能吃 | E6: 空间和刻录机 | F6: 5616021.7
B7: 建筑工程费用 | C7: 不能吃 | D7: 2010 | E7: 空间和刻录机 | F7: =16291300+42.21 -> 16291342
B8: 建筑工程费用 | C8: 不能吃 | D8: 40313 | E8: 空间和刻录机 | F8: 21224876
B9: 建筑工程费用 | C9: 不能吃 | D9: 40749 | E9: 空间和刻录机 | F9: 11992335
B10: 监理费 | C10: 不能吃 | D10: 2010.04.05 | E10: 空间和刻录机 | F10: 200000 | G10: 200000 | H10: 200000 | J10: =I10/F10 -> 0 | K10: 200000 | L10: =F10-K10 -> 0 | M10: =G10-K10 -> 0 | N10: =H10-K10 -> 0 | P10: 200000
B11: 建筑工程费用 | C11: 不能吃 | D11: 2011.08.24 | E11: 空间和刻录机 | F11: 137000 | G11: 13700 | H11: 13700 | J11: =I11/F11 -> 0 | K11: 13700 | L11: =F11-K11 -> 123300 | M11: =G11-K11 -> 0 | N11: =H11-K11 -> 0 | P11: 13700
B12: 安装工程费用 | C12: 不能吃 | D12: 2010 | E12: 空间和刻录机 | F12: 150000 | G12: 150000 | H12: 150000 | J12: =I12/F12 -> 0 | K12: 150000 | L12: =F12-K12 -> 0 | M12: =G12-K12 -> 0 | N12: =H12-K12 -> 0 | P12: 150000
B13: 安装工程费用 | C13: 不能吃 | D13: 2010.07.13 | E13: 空间和刻录机 | F13: 2646000 | G13: 2646000 | H13: 2646000 | J13: =I13/F13 -> 0 | K13: 2646000 | L13: =F13-K13 -> 0 | M13: =G13-K13 -> 0 | N13: =H13-K13 -> 0 | P13: 2646000
B14: 安装工程费用 | C14: 不能吃 | D14: 2010.09.02 | E14: 空间和刻录机 | F14: =910000+304500 -> 1214500 | G14: 624742.25 | H14: 624742.25 | J14: =I14/F14 -> 0 | K14: 624742.25 | L14: =F14-K14 -> 589757.75 | M14: =G14-K14 -> 0 | N14: =H14-K14 -> 0 | P14: 624742.25
B15: 安装工程费用 | C15: 不能吃 | D15: 2010.5.28 | E15: 空间和刻录机 | F15: 1123588 | G15: 1123588 | H15: 1123588 | K15: 146856.79 | L15: =F15-K15 -> 976731.21 | M15: =G15-K15 -> 976731.21 | N15: =H15-K15 -> 976731.21 | P15: 520444.79 | Q15: -373588
B16: 安装工程费用 | C16: 不能吃 | D16: 40877 | E16: 空间和刻录机 | F16: 98800 | G16: 98800 | H16: 98800 | J16: =I16/F16 -> 0 | K16: 98800 | L16: =F16-K16 -> 0 | M16: =G16-K16 -> 0 | N16: =H16-K16 -> 0 | P16: =N16 -> 0
B17: 安装工程费用 | C17: 不能吃 | D17: 40877 | E17: 空间和刻录机 | F17: 98800 | G17: 98800 | H17: 98800 | J17: =I17/F17 -> 0 | K17: 98800 | L17: =F17-K17 -> 0 | M17: =G17-K17 -> 0 | N17: =H17-K17 -> 0 | P17: =N17 -> 0
B18: 安装工程费用 | C18: 不能吃 | D18: 40877 | E18: 空间和刻录机 | F18: 98800 | G18: 98800 | H18: 98800 | J18: =I18/F18 -> 0 | K18: 98800 | L18: =F18-K18 -> 0 | M18: =G18-K18 -> 0 | N18: =H18-K18 -> 0 | P18: =N18 -> 0
B19: 安装工程费用 | C19: 不能吃 | D19: 40877 | E19: 空间和刻录机 | F19: 98800 | G19: 98800 | H19: 98800 | J19: =I19/F19 -> 0 | K19: 98800 | L19: =F19-K19 -> 0 | M19: =G19-K19 -> 0 | N19: =H19-K19 -> 0 | P19: =N19 -> 0

Sheet Sheet14
A1: 看见了海陆空就和
A2: =Sheet2!A2 -> 看就会立刻就会老客户考虑减 | M2: 金额单位：元
A3: 序号 | B3: 序号 | C3: 序号 | D3: 序号 | E3: 序号 | F3: 序号 | G3: 序号 | H3: 序号 | I3: 序号 | J3: 序号 | K3: 序号 | L3: 序号 | M3: 序号 | N3: 序号 | O3: 序号 | P3: 序号
B4: 1 | C4: 2 | D4: 3 | E4: 4 | F4: 5 | G4: 6 | H4: 7 | I4: 8 | J4: 9 | K4: 10 | L4: 11 | M4: 12 | N4: 13
C5: 合计 | H5: =SUM(H6:H19) -> 2773755 | K5: =SUM(K6:K19) -> 2773755 | L5: =SUM(L6:L19) -> 0 | M5: =SUM(M6:M19) -> 2773755
A6: 1 | B6: 其他设施工程发生的支出 | C6: 你刚刚好 | D6: 预款 | E6: 40326 | F6: 记-0039 | G6: 钢结构控件会 | H6: 15144 | I6: 从购房购房电热毯 | J6: 146010821033-01230060 | K6: 15144 | M6: =K6+L6 -> 15144 | O6: 已核对
A7: 2 | B7: 其他设施工程发生的支出 | C7: 你刚刚好 | D7: 预款 | E7: 40543 | F7: 记-0197 | G7: 钢结构控件会 | H7: 25864 | I7: 从购房购房电热毯 | J7: 146011021033-00072133至00072136 | K7: 25864 | M7: =K7+L7 -> 25864 | O7: 已核对，手写发票，开票单位看不清，无银行回单 | P7: 发票未注明哪期
A8: 3 | B8: 供电工程支出 | C8: 你刚刚好 | D8: 预款 | E8: 40506 | F8: 记-0094 | G8: 钢结构控件会 | H8: 450000 | I8: 从购房购房电热毯 | J8: 246001001118-00207956 | K8: 450000 | M8: =K8+L8 -> 450000 | O8: 已核对，无银行回单，发票内容看不清 | P8: 发票未注明哪期
A9: 4 | B9: 供电工程支出 | C9: 你刚刚好 | D9: 预款 | E9: 40508 | F9: 记-0118 | G9: 钢结构控件会 | H9: 479565 | I9: 从购房购房电热毯 | J9: 4600071650-00558519、21至00558523 | K9: 479565 | M9: =K9+L9 -> 479565 | O9: 已核对，无银行回单 | P9: 发票未注明哪期
A10: 5 | B10: 供电工程支出 | C10: 你刚刚好 | D10: 预款 | E10: 40723 | F10: 记-0065 | G10: 钢结构控件会 | H10: 553000 | I10: 从购房购房电热毯 | J10: 246001160315-00029661 | K10: 553000 | M10: =K10+L10 -> 553000 | O10: 已核对，无银行回单 | P10: 发票未注明哪期
A11: 6 | B11: 通讯工程支出 | C11: 你刚刚好 | D11: 预款 | E11: 40807 | F11: 记-0018 | G11: 钢结构控件会 | H11: 123300 | I11: 从购房购房电热毯 | J11: 246001120719-00036002 | K11: 123300 | M11: =K11+L11 -> 123300 | O11: 已核对
A12: 7 | B12: 供电工程支出 | C12: 你刚刚好 | D12: 预款 | E12: 40833 | F12: 记-0001 | G12: 钢结构控件会 | H12: 500435 | I12: 从购房购房电热毯 | J12: 4600083650-00183994-98 | K12: 500435 | M12: =K12+L12 -> 500435 | O12: 已核对，无银行回单
A13: 8 | B13: 其他设施工程发生的支出 | C13: 你刚刚好 | D13: 预款 | E13: 40492 | F13: 记-0002 | G13: 钢结构控件会 | H13: 1244731.5 | I13: 从购房购房电热毯 | K13: 1244731.5 | M13: =K13+L13 -> 1244731.5 | O13: 已核对，未见46.4万发票，但在12.5.31#凭证调为一期成本。
A14: 9 | B14: 其他设施工程发生的支出 | C14: 你刚刚好 | D14: 预款 | E14: 40563 | F14: 记-0077 | G14: 钢结构控件会 | H14: 1244731.5 | I14: 从购房购房电热毯 | K14: 1244731.5 | M14: =K14+L14 -> 1244731.5 | O14: 已核对，未见1128731.50发票，但在12.5.31#凭证调为一期成本。
A15: 10 | B15: 其他设施工程发生的支出 | C15: 你刚刚好 | D15: 预款 | E15: 40938 | F15: 记21 | G15: 钢结构控件会 | H15: 7572 | I15: 从购房购房电热毯 | J15: 24600116015-00232265 | K15: 7572 | M15: =K15+L15 -> 7572 | O15: 二期一段的白蚁防治款应为37860
A16: 11 | B16: 其他设施工程发生的支出 | C16: 你刚刚好 | D16: 预款 | E16: 41060 | F16: 记98 | G16: 钢结构控件会 | H16: -2021744.7 | I16: 从购房购房电热毯 | K16: -2021744.7 | M16: =K16+L16 -> -2021744.7 | O16: 调整2010年11-2#和2011年1-77号
A17: 12 | B17: 供电工程支出 | C17: 你刚刚好 | D17: 预款 | E17: 41060 | F17: 记98 | G17: 钢结构控件会 | H17: -298874.81 | I17: 从购房购房电热毯 | K17: -298874.81 | M17: =K17+L17 -> -298874.81
A18: 13 | B18: 供水工程支出 | C18: 你刚刚好 | D18: 预款 | E18: 41060 | F18: 记98 | G18: 钢结构控件会 | H18: 145314.37 | I18: 从购房购房电热毯 | K18: 145314.37 | M18: =K18+L18 -> 145314.37 | O18: 一期审核报告已认定该成本 按报建面积在一、二、三期和会所之间分摊 964965.98
A19: 14 | B19: 其他设施工程发生的支出 | C19: 你刚刚好 | D19: 预款 | E19: 42369 | F19: 记170 | G19: 钢结构控件会 | H19: 304717.18 | I19: 从购房购房电热毯 | K19: 304717.18 | M19: =K19+L19 -> 304717.18 | O19: 一期审核报告已调减 调减原因是报价比企业列支的金额低

Sheet Sheet15
A1: 审核就和快乐就好看明细表
A2: =Sheet2!A2 -> 看就会立刻就会老客户考虑减 | Q2: 金额单位：元
A3: 萨尔达 | B3: 萨尔达 | C3: 萨尔达 | D3: 萨尔达 | E3: 萨尔达 | F3: 萨尔达 | G3: 萨尔达 | H3: 萨尔达 | I3: 萨尔达 | J3: 萨尔达 | K3: 萨尔达 | L3: 萨尔达 | M3: 萨尔达 | N3: 萨尔达 | O3: 萨尔达 | P3: 萨尔达 | Q3: 萨尔达 | R3: 萨尔达
C4: 合计 | F4: =SUM(F5:F8) -> 4510323 | G4: =SUM(G5:G8) -> 2457 | H4: =SUM(H5:H8) -> 2024580 | I4: =SUM(I5:I8) -> 0 | K4: =SUM(K5:K8) -> 774892.45 | L4: =SUM(L5:L8) -> 3735430.5 | M4: =SUM(M5:M8) -> -772435.45 | N4: =SUM(N5:N8) -> 1249687.6 | O4: =SUM(O5:O8) -> -1249687.6 | P4: =SUM(P5:P8) -> 2024580 | Q4: =SUM(Q5:Q8) -> 7000
B5: 其他设施工程发生的支出 | C5: 会尽快和 | D5: 2010.05.13 | E5: 高合金钢 | F5: 37860 | G5: 2232 | H5: 41580 | J5: =I5/F5 -> 0 | K5: =G5 -> 2232 | L5: =F5-K5 -> 35628 | M5: =G5-K5 -> 0 | N5: =H5-K5 -> 39348 | O5: =I5-N5 -> -39348 | P5: =H5 -> 41580 | Q5: 7000
B6: 供电工程支出 | C6: 会尽快和 | D6: 2010.10.15 | E6: 高合金钢 | F6: 1430000 | G6: 3 | H6: 1430000 | J6: =I6/F6 -> 0 | K6: =G6 -> 3 | L6: =F6-K6 -> 1429997 | M6: =G6-K6 -> 0 | N6: =H6-K6 -> 1429997 | O6: =I6-N6 -> -1429997 | P6: =H6 -> 1430000
B7: 供电工程支出 | C7: 会尽快和 | D7: 2010.12.22 | E7: 高合金钢 | F7: 553000 | G7: 222 | H7: 553000 | J7: =I7/F7 -> 0 | K7: =G7 -> 222 | L7: =F7-K7 -> 552778 | M7: =G7-K7 -> 0 | N7: =H7-K7 -> 552778 | O7: =I7-N7 -> -552778 | P7: =H7 -> 553000
B8: 其他设施工程发生的支出 | C8: 会尽快和 | D8: 2010.09.05 | E8: 高合金钢 | F8: 2489463 | J8: =I8/F8 -> 0 | K8: 772435.45 | L8: =F8-K8 -> 1717027.6 | M8: =G8-K8 -> -772435.45 | N8: =H8-K8 -> -772435.45 | O8: =I8-N8 -> 772435.45 | P8: 0

Sheet Sheet16
A1: 公共配套会尽快交换空间和费审核明细表
A2: =Sheet2!A2 -> 看就会立刻就会老客户考虑减 | M2: 金额单位：元
A3: 和股份 | B3: 和股份 | C3: 和股份 | D3: 和股份 | E3: 和股份 | F3: 和股份 | G3: 和股份 | H3: 和股份 | I3: 和股份 | J3: 和股份 | K3: 和股份 | L3: 和股份 | M3: 和股份 | N3: 和股份
B4: 1 | C4: 2 | D4: 3 | E4: 4 | F4: 5 | G4: 6 | H4: 7 | I4: 8 | J4: 9 | K4: 10 | L4: 11 | M4: 12 | N4: 13
C5: 合计 | H5: =SUM(H6:H9) -> 9960165.6 | K5: =SUM(K6:K9) -> 9960165.6 | L5: =SUM(L6:L9) -> 1379002.4 | M5: =SUM(M6:M9) -> 11339168
A6: 1 | B6: 游泳池 | C6: kjh | D6: 预付账款 | E6: 40480 | F6: 记-0079 | G6: 湖广会馆 | H6: 340262 | I6: 海南省地方税务局代开发票 | J6: 246001001118-00205274 | K6: 340262 | M6: =K6+L6 -> 340262 | O6: 未见发票
A7: 2 | B7: 其他非营业性公共设施费 | C7: kjh | D7: 开发成本 | E7: 42369 | F7: 记-0173 | G7: 湖广会馆 | H7: 6584892.9 | I7: 分摊表 | K7: 6584892.9 | M7: =K7+L7 -> 6584892.9 | O7: 从建安成本调整过来
A8: 3 | B8: 其他非营业性公共设施费 | C8: kjh | D8: 开发成本 | E8: 42369 | F8: 记-0174 | G8: 湖广会馆 | H8: 1795667.4 | I8: 分摊表 | K8: 1795667.4 | L8: 1379002.4 | M8: =K8+L8 -> 3174669.8 | O8: 从建安成本调整过来
A9: 4 | B9: 会馆 | D9: 开发成本 | G9: 湖广会馆 | H9: 1239343.3 | I9: 分摊表 | K9: 1239343.3 | M9: =K9+L9 -> 1239343.3

Sheet Sheet17
A1: knjkljkl
A2: vgkjgv计划给和空格 | B2: vgkjgv计划给和空格 | C2: vgkjgv计划给和空格 | D2: vgkjgv计划给和空格
A3: jj; | B3: 32711.32 | C3: 24587.6 | D3: =SUM(B3:C3) -> 57298.92
A4: jj; | B4: =B3/D3 -> 0.57088895 | C4: =C3/D3 -> 0.42911105 | D4: =SUM(B4:C4) -> 1
A5: jj; | B5: 6584892.9 | C5: =D5-B5 -> 4949562.2 | D5: 11534455

Sheet Sheet18
A1: 很快就后
A2: 几乎 | B2: 几乎 | C2: 几乎 | D2: 几乎
A3: 和感觉和 | B3: 694.37 | C3: 1477.3 | D3: =SUM(B3:C3) -> 2171.67
A4: 和感觉和 | B4: =B3/D3 -> 0.31974011 | C4: =C3/D3 -> 0.68025989 | D4: =SUM(B4:C4) -> 1
A5: 和感觉和 | B5: 40045.53 | C5: 85198.47 | D5: 125244
A6: 和感觉和 | B6: 32711.32 | C6: 24587.6 | D6: =B6+C6 -> 57298.92
A7: 和感觉和 | B7: =B6/D6 -> 0.57088895 | C7: =C6/D6 -> 0.42911105 | D7: =B7+C7 -> 1
A8: 和感觉和 | B8: 3134624.3 | C8: =D8-B8 -> 2356153.4 | D8: 5490777.7
A9: 和感觉和 | B9: =B5+B8 -> 3174669.8 | C9: =C5+C8 -> 2441351.9 | D9: =D5+D8 -> 5616021.7

Sheet Sheet19
A1: 结核杆菌
A2: 日期 | B2: 日期 | C2: 日期 | D2: 日期 | E2: 日期 | F2: 日期 | G2: 日期
A3: 41060 | B3: 98 | C3: 讲话稿 | D3: 2094.16 | E3: 0 | F3: =D3+E3 -> 2094.16 | G3: 会尽快和
A4: 41060 | B4: 98 | C4: 讲话稿 | D4: 73568.05 | F4: =D4+E4 -> 73568.05 | G4: 会尽快和
A5: 41274 | B5: 119 | C5: 讲话稿 | D5: -10299.65 | F5: =D5+E5 -> -10299.65 | G5: 会尽快和
A6: 42369 | B6: 172 | C6: 讲话稿 | D6: -24317.76 | F6: =D6+E6 -> -24317.76 | G6: 会尽快和
A7: 41060 | B7: 98 | C7: 讲话稿 | D7: 7596.96 | F7: =D7+E7 -> 7596.96 | G7: 会尽快和
A8: 40298 | B8: 20 | C8: 讲话稿 | D8: 25651.95 | F8: =D8+E8 -> 25651.95 | G8: 会尽快和
A9: 40755 | B9: 76 | C9: 讲话稿 | D9: 12000 | F9: =D9+E9 -> 12000 | G9: 会尽快和
A10: 40807 | B10: 16 | C10: 讲话稿 | D10: 3000 | F10: =D10+E10 -> 3000 | G10: 会尽快和
A11: 40875 | B11: 40 | C11: 讲话稿 | D11: 30000 | F11: =D11+E11 -> 30000 | G11: 会尽快和
A12: 41243 | B12: 46 | C12: 讲话稿 | D12: 482000 | F12: =D12+E12 -> 482000 | G12: 会尽快和
A13: 41243 | B13: 61 | C13: 讲话稿 | D13: 10000 | F13: =D13+E13 -> 10000 | G13: 会尽快和
A14: 41274 | B14: 10 | C14: 讲话稿 | D14: 335000 | F14: =D14+E14 -> 335000 | G14: 会尽快和
A15: 41274 | B15: 78 | C15: 讲话稿 | D15: 1781.39 | F15: =D15+E15 -> 1781.39 | G15: 会尽快和
A16: 41274 | B16: 119 | C16: 讲话稿 | D16: 19839.38 | F16: =D16+E16 -> 19839.38 | G16: 会尽快和
A17: 41333 | B17: 20 | C17: 讲话稿 | D17: 5730 | E17: -5730 | F17: =D17+E17 -> 0 | G17: 会尽快和
A18: 41333 | B18: 20 | C18: 讲话稿 | D18: 2210 | E18: -2210 | F18: =D18+E18 -> 0 | G18: 会尽快和
A19: 41364 | B19: 7 | C19: 讲话稿 | D19: 1035 | E19: -1035 | F19: =D19+E19 -> 0 | G19: 会尽快和
A20: 41364 | B20: 35 | C20: 讲话稿 | D20: 1016 | E20: -1016 | F20: =D20+E20 -> 0 | G20: 会尽快和
A21: 41364 | B21: 55 | C21: 讲话稿 | D21: 4940 | F21: =D21+E21 -> 4940 | G21: 会尽快和
A22: 41364 | B22: 68 | C22: 讲话稿 | D22: 99990 | F22: =D22+E22 -> 99990 | G22: 会尽快和
A23: 41364 | B23: 68 | C23: 讲话稿 | D23: 22010 | F23: =D23+E23 -> 22010 | G23: 会尽快和
A24: 41759 | B24: 83 | C24: 讲话稿 | D24: 8000 | F24: =D24+E24 -> 8000 | G24: 会尽快和
A25: 41943 | B25: 34 | C25: 讲话稿 | D25: 130500 | F25: =D25+E25 -> 130500 | G25: 会尽快和
A26: 42369 | B26: 172 | C26: 讲话稿 | D26: 5062251.7 | F26: =D26+E26 -> 5062251.7 | G26: 会尽快和
A27: 42369 | B27: 173 | C27: 讲话稿 | D27: 457879.7 | F27: =D27+E27 -> 457879.7 | G27: 会尽快和
A28: 合计 | D28: =SUM(D3:D27) -> 6763476.9 | E28: =SUM(E3:E27) -> -9991 | F28: =SUM(F3:F27) -> 6753485.9 | G28: 会尽快和

Sheet Sheet20
A1: 好几个科技馆和
A2: 项目 | B2: 项目 | C2: 项目 | D2: 项目 | E2: 项目
A3: 项目 | B3: 32711.32 | C3: 24587.6 | D3: 121216.8 | E3: =SUM(B3:D3) -> 178515.72
A4: 项目 | B4: =B3/E3 -> 0.18324056 | C4: =C3/E3 -> 0.13773353 | D4: =D3/E3 -> 0.67902591 | E4: =SUM(B4:D4) -> 1
A5: 项目 | B5: 1237512.5 | C5: 930181.44 | D5: =E5-B5-C5 -> 4585791.9 | E5: =Sheet19!F28 -> 6753485.9

Sheet Sheet21
A1: 公共配套费合同审核明细表
A2: =#REF! -> #REF! | Q2: 金额单位：元
A3: 成本项目 | B3: 成本类别 | C3: 对方单位 | D3: 签订时间 | E3: 合同内容 | F3: 合同金额 | G3: 付款金额 | H3: 发票金额 | I3: 决算金额 | J3: 决算与合同差异比 | K3: 企业申报金额汇总 | L3: 合同金额与企业申报差异金额 | M3: 付款与企业申报差异金额 | N3: 发票与企业申报金额差异 | O3: 决算与企业申报差异金额 | P3: 审定数 | Q3: 调减金额 | R3: 审核说明
C4: 合计 | F4: =SUM(F5:F7) -> 0 | G4: =SUM(G5:G7) -> 0 | H4: =SUM(H5:H7) -> 0 | I4: =SUM(I5:I7) -> 0 | K4: =SUM(K5:K7) -> 0 | L4: =SUM(L5:L7) -> 0 | M4: =SUM(M5:M7) -> 0 | N4: =SUM(N5:N7) -> 0 | O4: =SUM(O5:O7) -> 0 | P4: =SUM(P5:P7) -> 0 | Q4: =SUM(Q5:Q7) -> 0
J5: =I5/F5 -> #DIV/0! | L5: =F5-K5 -> 0 | M5: =G5-K5 -> 0 | N5: =H5-K5 -> 0
J6: =I6/F6 -> #DIV/0! | L6: =F6-K6 -> 0 | M6: =G6-K6 -> 0 | N6: =H6-K6 -> 0
J7: =I7/F7 -> #DIV/0! | L7: =F7-K7 -> 0 | M7: =G7-K7 -> 0 | N7: =H7-K7 -> 0 | O7: =I7-K7 -> 0

Sheet Sheet22
A1: 共和国房价和
A2: =Sheet2!A2 -> 看就会立刻就会老客户考虑减 | M2: 金额单位：元
A3: 序号 | B3: 序号 | C3: 序号 | D3: 序号 | E3: 序号 | F3: 序号 | G3: 序号 | H3: 序号 | I3: 序号 | J3: 序号 | K3: 序号 | L3: 序号 | M3: 序号 | N3: 序号 | O3: 序号
B4: 1 | C4: 2 | D4: 3 | E4: 4 | F4: 5 | G4: 6 | H4: 7 | I4: 8 | J4: 9 | K4: 10 | L4: 11 | M4: 12 | N4: 13
C5: 合计 | H5: =SUM(H6:H69) -> 1107915.6 | I5: =SUM(I6:I69) -> 0 | K5: =SUM(K6:K69) -> 1107915.6 | L5: =SUM(L6:L69) -> 0 | M5: =SUM(M6:M69) -> 1107915.6
A6: 1 | B6: 管理人员工资 | C6: 规划局和 | D6: 极乐空间 | E6: 40540 | F6: 记-0129 | G6: 空军航空就 | H6: 27200 | I6: 考虑减了 | K6: 27200 | M6: =K6+L6 -> 27200 | O6: 无工资明细表
A7: 2 | B7: 管理人员工资 | C7: 规划局和 | D7: 极乐空间 | E7: 40565 | F7: 记-0090 | G7: 空军航空就 | H7: 27200 | I7: 考虑减了 | K7: 27200 | M7: =K7+L7 -> 27200 | O7: 无工资明细表
A8: 3 | B8: 管理人员工资 | C8: 规划局和 | D8: 极乐空间 | E8: 40569 | F8: 记-0102 | G8: 空军航空就 | H8: 27200 | I8: 考虑减了 | K8: 27200 | M8: =K8+L8 -> 27200 | O8: 无工资明细表
A9: 4 | B9: 管理人员工资 | C9: 规划局和 | D9: 极乐空间 | E9: 40600 | F9: 记-0045 | G9: 空军航空就 | H9: 27200 | I9: 考虑减了 | K9: 27200 | M9: =K9+L9 -> 27200 | O9: 无工资明细表
A10: 5 | B10: 管理人员工资 | C10: 规划局和 | D10: 极乐空间 | E10: 40632 | F10: 记-0080 | G10: 空军航空就 | H10: 27500 | I10: 考虑减了 | K10: 27500 | M10: =K10+L10 -> 27500 | O10: 无工资明细表
A11: 6 | B11: 管理人员工资 | C11: 规划局和 | D11: 极乐空间 | E11: 40661 | F11: 记-0071 | G11: 空军航空就 | H11: 24000 | I11: 考虑减了 | K11: 24000 | M11: =K11+L11 -> 24000 | O11: 无工资明细表
A12: 7 | B12: 管理人员工资 | C12: 规划局和 | D12: 极乐空间 | E12: 40694 | F12: 记-0084 | G12: 空军航空就 | H12: 25500 | I12: 考虑减了 | K12: 25500 | M12: =K12+L12 -> 25500 | O12: 无工资明细表
A13: 8 | B13: 管理人员工资 | C13: 规划局和 | D13: 极乐空间 | E13: 40723 | F13: 记-0073 | G13: 空军航空就 | H13: 25500 | I13: 考虑减了 | K13: 25500 | M13: =K13+L13 -> 25500 | O13: 无工资明细表
A14: 9 | B14: 管理人员工资 | C14: 规划局和 | D14: 极乐空间 | E14: 40755 | F14: 记-0100 | G14: 空军航空就 | H14: 25500 | I14: 考虑减了 | K14: 25500 | M14: =K14+L14 -> 25500 | O14: 无工资明细表
A15: 10 | B15: 管理人员工资 | C15: 规划局和 | D15: 极乐空间 | E15: 40786 | F15: 记-0116 | G15: 空军航空就 | H15: 25500 | I15: 考虑减了 | K15: 25500 | M15: =K15+L15 -> 25500 | O15: 无工资明细表
A16: 11 | B16: 管理人员工资 | C16: 规划局和 | D16: 极乐空间 | E16: 40813 | F16: 记-0053 | G16: 空军航空就 | H16: 36200 | I16: 考虑减了 | K16: 36200 | M16: =K16+L16 -> 36200 | O16: 无工资明细表
A17: 12 | B17: 管理人员工资 | C17: 规划局和 | D17: 极乐空间 | E17: 40842 | F17: 记-0048 | G17: 空军航空就 | H17: 36200 | I17: 考虑减了 | K17: 36200 | M17: =K17+L17 -> 36200 | O17: 无工资明细表
... A68: 63 | B68: 其他间接费用 | C68: 规划局和 | D68: 极乐空间 | E68: 40574 | F68: 记-0115 | G68: 空军航空就 | H68: 100000 | I68: 考虑减了 | K68: 100000 | M68: =K68+L68 -> 100000 | O68: 已核对
A69: 64 | B69: 其他间接费用 | C69: 规划局和 | D69: 极乐空间 | E69: 40723 | F69: 记-0086 | G69: 空军航空就 | H69: 100000 | I69: 考虑减了 | J69: 246001072524-00025983 | K69: 100000 | M69: =K69+L69 -> 100000 | O69: 已核对，无合同，企业未提供

Sheet Sheet23
A1: 分摊明细表
