Workbook
Name COD: [1]INT!$L$3:$Y$19

Sheet Metas
B2: Metas
A5: Meta 1 (largo plazo): FPV
A6: Retiro (excluye pensión obligatoria)
A7: (en COP)
A9: Portafolio | B9: 8 | C9: --> el portafolio sugerido según mi perfil de riesgo y horizonte de tiempo
A11: Valor inicial 2021 | B11: 20000000 | C11: --> tengo 25 años | H11: Composición del valor futuro
A12: Contribución mensual | B12: 1000000 | C12: --> aporte de 1MM/mes al FPV | H12: Valor inicial | I12: =B11 -> 20000000 | J12: =I12/$I$15 -> 0.0081982649
A13: Rentabilidad mensual | B13: =VLOOKUP(B9,A51:D59,2,FALSE)/12 -> 0.0080166667 | H13: Contribuciones | I13: =(B12*B14) -> 360000000 | J13: =I13/$I$15 -> 0.14756877
A14: Meses | B14: =30*12 -> 360 | C14: --> retiro dentro de 30 años (a los 55 años) | H14: Rentabilidad | I14: =I15-I12-I13 -> 2.0595406e+09 | J14: =I14/$I$15 -> 0.84423297 | K14: --> resultado del interés compuesto
A15: Valor final | B15: =FV(B13,B14,-B12,-B11,0) -> 2.4395406e+09 | C15: --> valor final de la inversión en 2051 | H15: Valor final | I15: =B15 -> 2.4395406e+09 | J15: =I15/$I$15 -> 1
A17: Ingresos durante retiro:
A18: PV 2051 | B18: =B15 -> 2.4395406e+09 | C18: --> valor al inicio del retiro
A19: FV 2096 | B19: 0
A20: Meses | B20: =45*12 -> 540 | C20: --> supuesto años a vivir después de retiro (100 años)
A21: Rentabilidad mes | B21: =5%/12 -> 0.0041666667 | C21: --> supuesto de inflación 3.5% + 150bps
A22: Ingreso mensual | B22: =-PMT(B21,B20,B18,B19,0) -> 11368609 | C22: --> ingreso mensual (no ajustado a inflación)
A24: Ingresos durante el retiro ajustados a inflación:
A25: Ingreso mensual | B25: =B22 -> 11368609
A26: Inflación anual | B26: 0.035
A27: Años | B27: 25
A28: Ingreso mensual ajustado | B28: =-PV(B26,B27,0,B25,0) -> 4810592.8 | C28: --> ingreso mensual (ajustado a inflación - en COP de 2021)
A31: Meta 2 (corto plazo): FICs
A32: Moto
A33: (en COP)
A35: Portafolio | B35: 3 | C35: --> el portafolio sugerido según mi perfil de riesgo y horizonte de tiempo
B37: Esperado | C37: Adverso | D37: Favorable
A38: Valor inicial | B38: 0 | C38: 0 | D38: 0
A39: Valor de la meta | B39: 10000000 | C39: 10000000 | D39: 10000000
A40: Meses | B40: 24 | C40: 24 | D40: 24
A41: Rentabilidad mensual | B41: =VLOOKUP($B$35,$A$52:$D$59,2,FALSE)/12 -> 0.0049166667 | C41: =VLOOKUP($B$35,$A$52:$D$59,3,FALSE)/12 -> 0.0021666667 | D41: =VLOOKUP($B$35,$A$52:$D$59,4,FALSE)/12 -> 0.00775
A42: Aporte mensual | B42: =PMT(B41,B40,B38,-B39,0) -> 393588.98 | C42: =PMT(C41,C40,C38,-C39,0) -> 406378.34 | D42: =PMT(D41,D40,D38,-D39,0) -> 380725.11
A51: Portafolios | B51: Esperado* | C51: Adverso** | D51: Favorable***
A52: 1 | B52: 0.045 | C52: 0.04 | D52: 0.05
A53: =A52+1 -> 2 | B53: 0.0487 | C53: 0.039 | D53: 0.059
A54: =A53+1 -> 3 | B54: 0.059 | C54: 0.026 | D54: 0.093
A55: =A54+1 -> 4 | B55: 0.0644 | C55: 0.015 | D55: 0.114
A56: =A55+1 -> 5 | B56: 0.0697 | C56: 0.004 | D56: 0.135
A57: =A56+1 -> 6 | B57: 0.0796 | C57: -0.017 | D57: 0.177
A58: =A57+1 -> 7 | B58: 0.0853 | C58: -0.039 | D58: 0.21
A59: =A58+1 -> 8 | B59: 0.0962 | C59: -0.068 | D59: 0.26
...

Sheet Planeación Presupuesto 2021
B2: Presupuesto 2021
C5: 44227 | D5: =EOMONTH(C5,1) -> 44255 | E5: =EOMONTH(D5,1) -> 44286 | F5: =EOMONTH(E5,1) -> 44316 | G5: =EOMONTH(F5,1) -> 44347 | H5: =EOMONTH(G5,1) -> 44377 | I5: =EOMONTH(H5,1) -> 44408 | J5: =EOMONTH(I5,1) -> 44439 | K5: =EOMONTH(J5,1) -> 44469 | ... N5: =EOMONTH(M5,1) -> 44561
A6: Ingresos (después de impuestos)
A7: Salario | C7: 5000000 | D7: 5000000 | E7: 5000000 | F7: 5000000 | G7: 5000000 | H7: 5000000 | I7: 5000000 | J7: 5000000 | K7: 5000000 | L7: 5000000 | M7: 5000000 | N7: 5000000
A8: Prima | C8: 0 | D8: 0 | E8: 0 | F8: 0 | G8: 0 | H8: 2500000 | I8: 0 | J8: 0 | K8: 0 | L8: 0 | M8: 0 | N8: 2500000
A9: Intereses | C9: 1000000 | D9: 1000000 | E9: 1000000 | F9: 1000000 | G9: 1000000 | H9: 1000000 | I9: 1000000 | J9: 1000000 | K9: 1000000 | L9: 1000000 | M9: 1000000 | N9: 1000000
A10: Otros? | C10: 0 | D10: 0 | E10: 0 | F10: 0 | G10: 0 | H10: 0 | I10: 0 | J10: 0 | K10: 0 | L10: 0 | M10: 0 | N10: 0
A11: Total | C11: =SUM(C7:C10) -> 6000000 | D11: =SUM(D7:D10) -> 6000000 | E11: =SUM(E7:E10) -> 6000000 | F11: =SUM(F7:F10) -> 6000000 | G11: =SUM(G7:G10) -> 6000000 | H11: =SUM(H7:H10) -> 8500000 | I11: =SUM(I7:I10) -> 6000000 | J11: =SUM(J7:J10) -> 6000000 | ... N11: =SUM(N7:N10) -> 8500000
A13: Inversiones
A14: FPV/AFC | C14: =Metas!$B$12 -> 1000000 | D14: =Metas!$B$12 -> 1000000 | E14: =Metas!$B$12 -> 1000000 | F14: =Metas!$B$12 -> 1000000 | G14: =Metas!$B$12 -> 1000000 | H14: =Metas!$B$12 -> 1000000 | I14: =Metas!$B$12 -> 1000000 | J14: =Metas!$B$12 -> 1000000 | ... N14: =Metas!$B$12 -> 1000000 | O14: --> pay yourself first / reducimos los impuestos que le pagamos a la DIAN
A15: Moto | C15: =Metas!$B$42 -> 393588.98 | D15: =Metas!$B$42 -> 393588.98 | E15: =Metas!$B$42 -> 393588.98 | F15: =Metas!$B$42 -> 393588.98 | G15: =Metas!$B$42 -> 393588.98 | H15: =Metas!$B$42 -> 393588.98 | I15: =Metas!$B$42 -> 393588.98 | J15: =Metas!$B$42 -> 393588.98 | ... N15: =Metas!$B$42 -> 393588.98
A16: Fondo emergencia | C16: 0 | D16: 0 | E16: 0 | F16: 0 | G16: 0 | H16: =H8 -> 2500000 | I16: =I8 -> 0 | J16: =J8 -> 0 | K16: =K8 -> 0 | L16: =L8 -> 0 | M16: =M8 -> 0 | N16: =N8 -> 2500000
A17: Total Inversiones | C17: =SUM(C14:C16) -> 1393589 | D17: =SUM(D14:D16) -> 1393589 | E17: =SUM(E14:E16) -> 1393589 | F17: =SUM(F14:F16) -> 1393589 | G17: =SUM(G14:G16) -> 1393589 | H17: =SUM(H14:H16) -> 3893589 | I17: =SUM(I14:I16) -> 1393589 | J17: =SUM(J14:J16) -> 1393589 | ... N17: =SUM(N14:N16) -> 3893589
A19: Gastos fijos
A20: Arriendo | C20: 1000000 | D20: 1000000 | E20: 1000000 | F20: 1000000 | G20: 1000000 | H20: 1000000 | I20: 1000000 | J20: 1000000 | K20: 1000000 | L20: 1000000 | M20: 1000000 | N20: 1000000
A21: Internet | C21: 100000 | D21: 100000 | E21: 100000 | F21: 100000 | G21: 100000 | H21: 100000 | I21: 100000 | J21: 100000 | K21: 100000 | L21: 100000 | M21: 100000 | N21: 100000
A22: Celular | C22: 100000 | D22: 100000 | E22: 100000 | F22: 100000 | G22: 100000 | H22: 100000 | I22: 100000 | J22: 100000 | K22: 100000 | L22: 100000 | M22: 100000 | N22: 100000
A23: Electricidad | C23: 75000 | D23: 75000 | E23: 75000 | F23: 75000 | G23: 75000 | H23: 75000 | I23: 75000 | J23: 75000 | K23: 75000 | L23: 75000 | M23: 75000 | N23: 75000
A24: Gas | C24: 20000 | D24: 20000 | E24: 20000 | F24: 20000 | G24: 20000 | H24: 20000 | I24: 20000 | J24: 20000 | K24: 20000 | L24: 20000 | M24: 20000 | N24: 20000
A25: Agua | C25: 20000 | D25: 20000 | E25: 20000 | F25: 20000 | G25: 20000 | H25: 20000 | I25: 20000 | J25: 20000 | K25: 20000 | L25: 20000 | M25: 20000 | N25: 20000
A26: Transporte | C26: 20000 | D26: 20000 | E26: 20000 | F26: 20000 | G26: 20000 | H26: 20000 | I26: 20000 | J26: 20000 | K26: 20000 | L26: 20000 | M26: 20000 | N26: 20000
A27: Deporte | C27: 100000 | D27: 100000 | E27: 100000 | F27: 100000 | G27: 100000 | H27: 100000 | I27: 100000 | J27: 100000 | K27: 100000 | L27: 100000 | M27: 100000 | N27: 100000
A28: Total fijos | C28: =SUM(C20:C27) -> 1435000 | D28: =SUM(D20:D27) -> 1435000 | E28: =SUM(E20:E27) -> 1435000 | F28: =SUM(F20:F27) -> 1435000 | G28: =SUM(G20:G27) -> 1435000 | H28: =SUM(H20:H27) -> 1435000 | I28: =SUM(I20:I27) -> 1435000 | J28: =SUM(J20:J27) -> 1435000 | ... N28: =SUM(N20:N27) -> 1435000 | O28: --> poco gestionable en el corto plazo
A30: Gastos variables
A31: Salidas | C31: 1000000 | D31: 1000000 | E31: 1000000 | F31: 1000000 | G31: 1000000 | H31: 1000000 | I31: 1000000 | J31: 1000000 | K31: 1000000 | L31: 1000000 | M31: 1000000 | N31: 1000000
A32: Mercado | C32: 1000000 | D32: 1000000 | E32: 1000000 | F32: 1000000 | G32: 1000000 | H32: 1000000 | I32: 1000000 | J32: 1000000 | K32: 1000000 | L32: 1000000 | M32: 1000000 | N32: 1000000
A33: Extraordinarios | C33: 500000 | D33: 500000 | E33: 500000 | F33: 500000 | G33: 500000 | H33: 500000 | I33: 500000 | J33: 500000 | K33: 500000 | L33: 500000 | M33: 500000 | N33: 500000
A34: Total variables | C34: =SUM(C31:C33) -> 2500000 | D34: =SUM(D31:D33) -> 2500000 | E34: =SUM(E31:E33) -> 2500000 | F34: =SUM(F31:F33) -> 2500000 | G34: =SUM(G31:G33) -> 2500000 | H34: =SUM(H31:H33) -> 2500000 | I34: =SUM(I31:I33) -> 2500000 | J34: =SUM(J31:J33) -> 2500000 | ... N34: =SUM(N31:N33) -> 2500000 | O34: --> si queremos ahorrar, podemos gestionar estos
A36: Total Gastos | C36: =C28+C34 -> 3935000 | D36: =D28+D34 -> 3935000 | E36: =E28+E34 -> 3935000 | F36: =F28+F34 -> 3935000 | G36: =G28+G34 -> 3935000 | H36: =H28+H34 -> 3935000 | I36: =I28+I34 -> 3935000 | J36: =J28+J34 -> 3935000 | ... N36: =N28+N34 -> 3935000
A38: Flujo de caja | C38: =C11-C17-C36 -> 671411.02 | D38: =D11-D17-D36 -> 671411.02 | E38: =E11-E17-E36 -> 671411.02 | F38: =F11-F17-F36 -> 671411.02 | G38: =G11-G17-G36 -> 671411.02 | H38: =H11-H17-H36 -> 671411.02 | I38: =I11-I17-I36 -> 671411.02 | J38: =J11-J17-J36 -> 671411.02 | ... N38: =N11-N17-N36 -> 671411.02 | O38: --> colchón en mi cuenta bancaria a fin de mes
A40: Resumen ($) | C40: 44227 | D40: =EOMONTH(C40,1) -> 44255 | E40: =EOMONTH(D40,1) -> 44286 | F40: =EOMONTH(E40,1) -> 44316 | G40: =EOMONTH(F40,1) -> 44347 | H40: =EOMONTH(G40,1) -> 44377 | I40: =EOMONTH(H40,1) -> 44408 | J40: =EOMONTH(I40,1) -> 44439 | K40: =EOMONTH(J40,1) -> 44469 | ... N40: =EOMONTH(M40,1) -> 44561
A41: Ingresos | C41: =C11 -> 6000000 | D41: =D11 -> 6000000 | E41: =E11 -> 6000000 | F41: =F11 -> 6000000 | G41: =G11 -> 6000000 | H41: =H11 -> 8500000 | I41: =I11 -> 6000000 | J41: =J11 -> 6000000 | ... N41: =N11 -> 8500000
A42: Inversión | C42: =C17 -> 1393589 | D42: =D17 -> 1393589 | E42: =E17 -> 1393589 | F42: =F17 -> 1393589 | G42: =G17 -> 1393589 | H42: =H17 -> 3893589 | I42: =I17 -> 1393589 | J42: =J17 -> 1393589 | ... N42: =N17 -> 3893589
A43: Gasto fijo | C43: =C28 -> 1435000 | D43: =D28 -> 1435000 | E43: =E28 -> 1435000 | F43: =F28 -> 1435000 | G43: =G28 -> 1435000 | H43: =H28 -> 1435000 | I43: =I28 -> 1435000 | J43: =J28 -> 1435000 | ... N43: =N28 -> 1435000
A44: Gasto variable | C44: =C34 -> 2500000 | D44: =D34 -> 2500000 | E44: =E34 -> 2500000 | F44: =F34 -> 2500000 | G44: =G34 -> 2500000 | H44: =H34 -> 2500000 | I44: =I34 -> 2500000 | J44: =J34 -> 2500000 | ... N44: =N34 -> 2500000
A45: Excedente | C45: =C38 -> 671411.02 | D45: =D38 -> 671411.02 | E45: =E38 -> 671411.02 | F45: =F38 -> 671411.02 | G45: =G38 -> 671411.02 | H45: =H38 -> 671411.02 | I45: =I38 -> 671411.02 | J45: =J38 -> 671411.02 | ... N45: =N38 -> 671411.02
A46: check | C46: =C41-SUM(C42:C45) -> 0 | D46: =D41-SUM(D42:D45) -> 0 | E46: =E41-SUM(E42:E45) -> 0 | F46: =F41-SUM(F42:F45) -> 0 | G46: =G41-SUM(G42:G45) -> 0 | H46: =H41-SUM(H42:H45) -> 0 | I46: =I41-SUM(I42:I45) -> 0 | J46: =J41-SUM(J42:J45) -> 0 | ... N46: =N41-SUM(N42:N45) -> 0
A48: Resumen (% de ingresos) | C48: 44227 | D48: =EOMONTH(C48,1) -> 44255 | E48: =EOMONTH(D48,1) -> 44286 | F48: =EOMONTH(E48,1) -> 44316 | G48: =EOMONTH(F48,1) -> 44347 | H48: =EOMONTH(G48,1) -> 44377 | I48: =EOMONTH(H48,1) -> 44408 | J48: =EOMONTH(I48,1) -> 44439 | K48: =EOMONTH(J48,1) -> 44469 | ... N48: =EOMONTH(M48,1) -> 44561
A49: Inversión | B49: Inversión | C49: =C42/C$41 -> 0.23226483 | D49: =D42/D$41 -> 0.23226483 | E49: =E42/E$41 -> 0.23226483 | F49: =F42/F$41 -> 0.23226483 | G49: =G42/G$41 -> 0.23226483 | H49: =H42/H$41 -> 0.45806929 | I49: =I42/I$41 -> 0.23226483 | J49: =J42/J$41 -> 0.23226483 | ... N49: =N42/N$41 -> 0.45806929
A50: Gasto fijo | B50: Gasto fijo | C50: =C43/C$41 -> 0.23916667 | D50: =D43/D$41 -> 0.23916667 | E50: =E43/E$41 -> 0.23916667 | F50: =F43/F$41 -> 0.23916667 | G50: =G43/G$41 -> 0.23916667 | H50: =H43/H$41 -> 0.16882353 | I50: =I43/I$41 -> 0.23916667 | J50: =J43/J$41 -> 0.23916667 | ... N50: =N43/N$41 -> 0.16882353
...

Sheet Ejecución 2021
B2: Ejecución 2021
A5: Presupuesto 2021
C6: Ppto | D6: Real | E6: Diff. | F6: Ppto | G6: Real | H6: Diff. | I6: Ppto | J6: Real | K6: Diff. | L6: Ppto | M6: Real | N6: Diff. | O6: Ppto | P6: Real | Q6: Diff. | R6: Ppto | S6: Real | T6: Diff. | U6: Ppto | V6: Real | W6: Diff. | X6: Ppto | Y6: Real | Z6: Diff. | AA6: Ppto | AB6: Real | AC6: Diff. | AD6: Ppto | AE6: Real | AF6: Diff. | AG6: Ppto | AH6: Real | AI6: Diff. | AJ6: Ppto | AK6: Real | AL6: Diff.
C7: 44227 | D7: 44227 | E7: =D7 -> 44227 | F7: =EOMONTH(C7,1) -> 44255 | G7: =F7 -> 44255 | H7: =G7 -> 44255 | I7: =EOMONTH(F7,1) -> 44286 | J7: =I7 -> 44286 | K7: =J7 -> 44286 | L7: =EOMONTH(I7,1) -> 44316 | M7: =L7 -> 44316 | N7: =M7 -> 44316 | O7: =EOMONTH(L7,1) -> 44347 | P7: =O7 -> 44347 | Q7: =P7 -> 44347 | R7: =EOMONTH(O7,1) -> 44377 | S7: =R7 -> 44377 | T7: =S7 -> 44377 | U7: =EOMONTH(R7,1) -> 44408 | V7: =U7 -> 44408 | W7: =V7 -> 44408 | X7: =EOMONTH(U7,1) -> 44439 | Y7: =X7 -> 44439 | Z7: =Y7 -> 44439 | AA7: =EOMONTH(X7,1) -> 44469 | AB7: =AA7 -> 44469 | AC7: =AB7 -> 44469 | AD7: =EOMONTH(AA7,1) -> 44500 | AE7: =AD7 -> 44500 | AF7: =AE7 -> 44500 | AG7: =EOMONTH(AD7,1) -> 44530 | AH7: =AG7 -> 44530 | AI7: =AH7 -> 44530 | AJ7: =EOMONTH(AG7,1) -> 44561 | AK7: =AJ7 -> 44561 | AL7: =AK7 -> 44561
A8: Ingresos (después de impuestos)
A9: Salario | C9: ='Planeación Presupuesto 2021'!C7 -> 5000000 | D9: 5000000 | E9: =IF(ISNUMBER(D9),D9-C9,"-") -> 0 | F9: ='Planeación Presupuesto 2021'!D7 -> 5000000 | H9: =IF(ISNUMBER(G9),G9-F9,"-") -> - | I9: ='Planeación Presupuesto 2021'!E7 -> 5000000 | K9: =IF(ISNUMBER(J9),J9-I9,"-") -> - | L9: ='Planeación Presupuesto 2021'!F7 -> 5000000 | N9: =IF(ISNUMBER(M9),M9-L9,"-") -> - | O9: ='Planeación Presupuesto 2021'!G7 -> 5000000 | Q9: =IF(ISNUMBER(P9),P9-O9,"-") -> - | R9: ='Planeación Presupuesto 2021'!H7 -> 5000000 | T9: =IF(ISNUMBER(S9),S9-R9,"-") -> - | U9: ='Planeación Presupuesto 2021'!I7 -> 5000000 | W9: =IF(ISNUMBER(V9),V9-U9,"-") -> - | X9: ='Planeación Presupuesto 2021'!J7 -> 5000000 | Z9: =IF(ISNUMBER(Y9),Y9-X9,"-") -> - | AA9: ='Planeación Presupuesto 2021'!K7 -> 5000000 | AC9: =IF(ISNUMBER(AB9),AB9-AA9,"-") -> - | AD9: ='Planeación Presupuesto 2021'!L7 -> 5000000 | AF9: =IF(ISNUMBER(AE9),AE9-AD9,"-") -> - | AG9: ='Planeación Presupuesto 2021'!M7 -> 5000000 | AI9: =IF(ISNUMBER(AH9),AH9-AG9,"-") -> - | AJ9: ='Planeación Presupuesto 2021'!N7 -> 5000000 | AL9: =IF(ISNUMBER(AK9),AK9-AJ9,"-") -> -
A10: Prima | C10: ='Planeación Presupuesto 2021'!C8 -> 0 | D10: 0 | E10: =IF(ISNUMBER(D10),D10-C10,"-") -> 0 | F10: ='Planeación Presupuesto 2021'!D8 -> 0 | H10: =IF(ISNUMBER(G10),G10-F10,"-") -> - | I10: ='Planeación Presupuesto 2021'!E8 -> 0 | K10: =IF(ISNUMBER(J10),J10-I10,"-") -> - | L10: ='Planeación Presupuesto 2021'!F8 -> 0 | N10: =IF(ISNUMBER(M10),M10-L10,"-") -> - | O10: ='Planeación Presupuesto 2021'!G8 -> 0 | Q10: =IF(ISNUMBER(P10),P10-O10,"-") -> - | R10: ='Planeación Presupuesto 2021'!H8 -> 2500000 | T10: =IF(ISNUMBER(S10),S10-R10,"-") -> - | U10: ='Planeación Presupuesto 2021'!I8 -> 0 | W10: =IF(ISNUMBER(V10),V10-U10,"-") -> - | X10: ='Planeación Presupuesto 2021'!J8 -> 0 | Z10: =IF(ISNUMBER(Y10),Y10-X10,"-") -> - | AA10: ='Planeación Presupuesto 2021'!K8 -> 0 | AC10: =IF(ISNUMBER(AB10),AB10-AA10,"-") -> - | AD10: ='Planeación Presupuesto 2021'!L8 -> 0 | AF10: =IF(ISNUMBER(AE10),AE10-AD10,"-") -> - | AG10: ='Planeación Presupuesto 2021'!M8 -> 0 | AI10: =IF(ISNUMBER(AH10),AH10-AG10,"-") -> - | AJ10: ='Planeación Presupuesto 2021'!N8 -> 2500000 | AL10: =IF(ISNUMBER(AK10),AK10-AJ10,"-") -> -
A11: Intereses | C11: ='Planeación Presupuesto 2021'!C9 -> 1000000 | D11: 1000000 | E11: =IF(ISNUMBER(D11),D11-C11,"-") -> 0 | F11: ='Planeación Presupuesto 2021'!D9 -> 1000000 | H11: =IF(ISNUMBER(G11),G11-F11,"-") -> - | I11: ='Planeación Presupuesto 2021'!E9 -> 1000000 | K11: =IF(ISNUMBER(J11),J11-I11,"-") -> - | L11: ='Planeación Presupuesto 2021'!F9 -> 1000000 | N11: =IF(ISNUMBER(M11),M11-L11,"-") -> - | O11: ='Planeación Presupuesto 2021'!G9 -> 1000000 | Q11: =IF(ISNUMBER(P11),P11-O11,"-") -> - | R11: ='Planeación Presupuesto 2021'!H9 -> 1000000 | T11: =IF(ISNUMBER(S11),S11-R11,"-") -> - | U11: ='Planeación Presupuesto 2021'!I9 -> 1000000 | W11: =IF(ISNUMBER(V11),V11-U11,"-") -> - | X11: ='Planeación Presupuesto 2021'!J9 -> 1000000 | Z11: =IF(ISNUMBER(Y11),Y11-X11,"-") -> - | AA11: ='Planeación Presupuesto 2021'!K9 -> 1000000 | AC11: =IF(ISNUMBER(AB11),AB11-AA11,"-") -> - | AD11: ='Planeación Presupuesto 2021'!L9 -> 1000000 | AF11: =IF(ISNUMBER(AE11),AE11-AD11,"-") -> - | AG11: ='Planeación Presupuesto 2021'!M9 -> 1000000 | AI11: =IF(ISNUMBER(AH11),AH11-AG11,"-") -> - | AJ11: ='Planeación Presupuesto 2021'!N9 -> 1000000 | AL11: =IF(ISNUMBER(AK11),AK11-AJ11,"-") -> -
A12: Otros? | C12: ='Planeación Presupuesto 2021'!C10 -> 0 | D12: 0 | E12: =IF(ISNUMBER(D12),D12-C12,"-") -> 0 | F12: ='Planeación Presupuesto 2021'!D10 -> 0 | H12: =IF(ISNUMBER(G12),G12-F12,"-") -> - | I12: ='Planeación Presupuesto 2021'!E10 -> 0 | K12: =IF(ISNUMBER(J12),J12-I12,"-") -> - | L12: ='Planeación Presupuesto 2021'!F10 -> 0 | N12: =IF(ISNUMBER(M12),M12-L12,"-") -> - | O12: ='Planeación Presupuesto 2021'!G10 -> 0 | Q12: =IF(ISNUMBER(P12),P12-O12,"-") -> - | R12: ='Planeación Presupuesto 2021'!H10 -> 0 | T12: =IF(ISNUMBER(S12),S12-R12,"-") -> - | U12: ='Planeación Presupuesto 2021'!I10 -> 0 | W12: =IF(ISNUMBER(V12),V12-U12,"-") -> - | X12: ='Planeación Presupuesto 2021'!J10 -> 0 | Z12: =IF(ISNUMBER(Y12),Y12-X12,"-") -> - | AA12: ='Planeación Presupuesto 2021'!K10 -> 0 | AC12: =IF(ISNUMBER(AB12),AB12-AA12,"-") -> - | AD12: ='Planeación Presupuesto 2021'!L10 -> 0 | AF12: =IF(ISNUMBER(AE12),AE12-AD12,"-") -> - | AG12: ='Planeación Presupuesto 2021'!M10 -> 0 | AI12: =IF(ISNUMBER(AH12),AH12-AG12,"-") -> - | AJ12: ='Planeación Presupuesto 2021'!N10 -> 0 | AL12: =IF(ISNUMBER(AK12),AK12-AJ12,"-") -> -
A13: Total | C13: =SUM(C9:C12) -> 6000000 | D13: =SUM(D9:D12) -> 6000000 | E13: =SUM(E9:E12) -> 0 | F13: =SUM(F9:F12) -> 6000000 | G13: =SUM(G9:G12) -> 0 | H13: =SUM(H9:H12) -> 0 | I13: =SUM(I9:I12) -> 6000000 | J13: =SUM(J9:J12) -> 0 | ... AL13: =SUM(AL9:AL12) -> 0
A15: Inversiones
A16: FPV/AFC | C16: ='Planeación Presupuesto 2021'!C14 -> 1000000 | D16: 1000000 | E16: =IF(ISNUMBER(D16),D16-C16,"-") -> 0 | F16: ='Planeación Presupuesto 2021'!D14 -> 1000000 | H16: =IF(ISNUMBER(G16),G16-F16,"-") -> - | I16: ='Planeación Presupuesto 2021'!E14 -> 1000000 | K16: =IF(ISNUMBER(J16),J16-I16,"-") -> - | L16: ='Planeación Presupuesto 2021'!F14 -> 1000000 | N16: =IF(ISNUMBER(M16),M16-L16,"-") -> - | O16: ='Planeación Presupuesto 2021'!G14 -> 1000000 | Q16: =IF(ISNUMBER(P16),P16-O16,"-") -> - | R16: ='Planeación Presupuesto 2021'!H14 -> 1000000 | T16: =IF(ISNUMBER(S16),S16-R16,"-") -> - | U16: ='Planeación Presupuesto 2021'!I14 -> 1000000 | W16: =IF(ISNUMBER(V16),V16-U16,"-") -> - | X16: ='Planeación Presupuesto 2021'!J14 -> 1000000 | Z16: =IF(ISNUMBER(Y16),Y16-X16,"-") -> - | AA16: ='Planeación Presupuesto 2021'!K14 -> 1000000 | AC16: =IF(ISNUMBER(AB16),AB16-AA16,"-") -> - | AD16: ='Planeación Presupuesto 2021'!L14 -> 1000000 | AF16: =IF(ISNUMBER(AE16),AE16-AD16,"-") -> - | AG16: ='Planeación Presupuesto 2021'!M14 -> 1000000 | AI16: =IF(ISNUMBER(AH16),AH16-AG16,"-") -> - | AJ16: ='Planeación Presupuesto 2021'!N14 -> 1000000 | AL16: =IF(ISNUMBER(AK16),AK16-AJ16,"-") -> - | AM16: --> pay yourself first / reducimos los impuestos que le pagamos a la DIAN
A17: Moto | C17: ='Planeación Presupuesto 2021'!C15 -> 393588.98 | D17: 393588.98 | E17: =IF(ISNUMBER(D17),D17-C17,"-") -> 0 | F17: ='Planeación Presupuesto 2021'!D15 -> 393588.98 | H17: =IF(ISNUMBER(G17),G17-F17,"-") -> - | I17: ='Planeación Presupuesto 2021'!E15 -> 393588.98 | K17: =IF(ISNUMBER(J17),J17-I17,"-") -> - | L17: ='Planeación Presupuesto 2021'!F15 -> 393588.98 | N17: =IF(ISNUMBER(M17),M17-L17,"-") -> - | O17: ='Planeación Presupuesto 2021'!G15 -> 393588.98 | Q17: =IF(ISNUMBER(P17),P17-O17,"-") -> - | R17: ='Planeación Presupuesto 2021'!H15 -> 393588.98 | T17: =IF(ISNUMBER(S17),S17-R17,"-") -> - | U17: ='Planeación Presupuesto 2021'!I15 -> 393588.98 | W17: =IF(ISNUMBER(V17),V17-U17,"-") -> - | X17: ='Planeación Presupuesto 2021'!J15 -> 393588.98 | Z17: =IF(ISNUMBER(Y17),Y17-X17,"-") -> - | AA17: ='Planeación Presupuesto 2021'!K15 -> 393588.98 | AC17: =IF(ISNUMBER(AB17),AB17-AA17,"-") -> - | AD17: ='Planeación Presupuesto 2021'!L15 -> 393588.98 | AF17: =IF(ISNUMBER(AE17),AE17-AD17,"-") -> - | AG17: ='Planeación Presupuesto 2021'!M15 -> 393588.98 | AI17: =IF(ISNUMBER(AH17),AH17-AG17,"-") -> - | AJ17: ='Planeación Presupuesto 2021'!N15 -> 393588.98 | AL17: =IF(ISNUMBER(AK17),AK17-AJ17,"-") -> -
A18: Fondo emergencia | C18: ='Planeación Presupuesto 2021'!C16 -> 0 | D18: 0 | E18: =IF(ISNUMBER(D18),D18-C18,"-") -> 0 | F18: ='Planeación Presupuesto 2021'!D16 -> 0 | H18: =IF(ISNUMBER(G18),G18-F18,"-") -> - | I18: ='Planeación Presupuesto 2021'!E16 -> 0 | K18: =IF(ISNUMBER(J18),J18-I18,"-") -> - | L18: ='Planeación Presupuesto 2021'!F16 -> 0 | N18: =IF(ISNUMBER(M18),M18-L18,"-") -> - | O18: ='Planeación Presupuesto 2021'!G16 -> 0 | Q18: =IF(ISNUMBER(P18),P18-O18,"-") -> - | R18: ='Planeación Presupuesto 2021'!H16 -> 2500000 | T18: =IF(ISNUMBER(S18),S18-R18,"-") -> - | U18: ='Planeación Presupuesto 2021'!I16 -> 0 | W18: =IF(ISNUMBER(V18),V18-U18,"-") -> - | X18: ='Planeación Presupuesto 2021'!J16 -> 0 | Z18: =IF(ISNUMBER(Y18),Y18-X18,"-") -> - | AA18: ='Planeación Presupuesto 2021'!K16 -> 0 | AC18: =IF(ISNUMBER(AB18),AB18-AA18,"-") -> - | AD18: ='Planeación Presupuesto 2021'!L16 -> 0 | AF18: =IF(ISNUMBER(AE18),AE18-AD18,"-") -> - | AG18: ='Planeación Presupuesto 2021'!M16 -> 0 | AI18: =IF(ISNUMBER(AH18),AH18-AG18,"-") -> - | AJ18: ='Planeación Presupuesto 2021'!N16 -> 2500000 | AL18: =IF(ISNUMBER(AK18),AK18-AJ18,"-") -> -
A19: Total Inversiones | C19: =SUM(C16:C18) -> 1393589 | D19: =SUM(D16:D18) -> 1393589 | E19: =SUM(E16:E18) -> 0 | F19: =SUM(F16:F18) -> 1393589 | G19: =SUM(G16:G18) -> 0 | H19: =SUM(H16:H18) -> 0 | I19: =SUM(I16:I18) -> 1393589 | J19: =SUM(J16:J18) -> 0 | ... AL19: =SUM(AL16:AL18) -> 0
A21: Gastos fijos
A22: Arriendo | C22: ='Planeación Presupuesto 2021'!C20 -> 1000000 | D22: 1000000 | E22: =IF(ISNUMBER(D22),D22-C22,"-") -> 0 | F22: ='Planeación Presupuesto 2021'!D20 -> 1000000 | H22: =IF(ISNUMBER(G22),G22-F22,"-") -> - | I22: ='Planeación Presupuesto 2021'!E20 -> 1000000 | K22: =IF(ISNUMBER(J22),J22-I22,"-") -> - | L22: ='Planeación Presupuesto 2021'!F20 -> 1000000 | N22: =IF(ISNUMBER(M22),M22-L22,"-") -> - | O22: ='Planeación Presupuesto 2021'!G20 -> 1000000 | Q22: =IF(ISNUMBER(P22),P22-O22,"-") -> - | R22: ='Planeación Presupuesto 2021'!H20 -> 1000000 | T22: =IF(ISNUMBER(S22),S22-R22,"-") -> - | U22: ='Planeación Presupuesto 2021'!I20 -> 1000000 | W22: =IF(ISNUMBER(V22),V22-U22,"-") -> - | X22: ='Planeación Presupuesto 2021'!J20 -> 1000000 | Z22: =IF(ISNUMBER(Y22),Y22-X22,"-") -> - | AA22: ='Planeación Presupuesto 2021'!K20 -> 1000000 | AC22: =IF(ISNUMBER(AB22),AB22-AA22,"-") -> - | AD22: ='Planeación Presupuesto 2021'!L20 -> 1000000 | AF22: =IF(ISNUMBER(AE22),AE22-AD22,"-") -> - | AG22: ='Planeación Presupuesto 2021'!M20 -> 1000000 | AI22: =IF(ISNUMBER(AH22),AH22-AG22,"-") -> - | AJ22: ='Planeación Presupuesto 2021'!N20 -> 1000000 | AL22: =IF(ISNUMBER(AK22),AK22-AJ22,"-") -> -
A23: Internet | C23: ='Planeación Presupuesto 2021'!C21 -> 100000 | D23: 100000 | E23: =IF(ISNUMBER(D23),D23-C23,"-") -> 0 | F23: ='Planeación Presupuesto 2021'!D21 -> 100000 | H23: =IF(ISNUMBER(G23),G23-F23,"-") -> - | I23: ='Planeación Presupuesto 2021'!E21 -> 100000 | K23: =IF(ISNUMBER(J23),J23-I23,"-") -> - | L23: ='Planeación Presupuesto 2021'!F21 -> 100000 | N23: =IF(ISNUMBER(M23),M23-L23,"-") -> - | O23: ='Planeación Presupuesto 2021'!G21 -> 100000 | Q23: =IF(ISNUMBER(P23),P23-O23,"-") -> - | R23: ='Planeación Presupuesto 2021'!H21 -> 100000 | T23: =IF(ISNUMBER(S23),S23-R23,"-") -> - | U23: ='Planeación Presupuesto 2021'!I21 -> 100000 | W23: =IF(ISNUMBER(V23),V23-U23,"-") -> - | X23: ='Planeación Presupuesto 2021'!J21 -> 100000 | Z23: =IF(ISNUMBER(Y23),Y23-X23,"-") -> - | AA23: ='Planeación Presupuesto 2021'!K21 -> 100000 | AC23: =IF(ISNUMBER(AB23),AB23-AA23,"-") -> - | AD23: ='Planeación Presupuesto 2021'!L21 -> 100000 | AF23: =IF(ISNUMBER(AE23),AE23-AD23,"-") -> - | AG23: ='Planeación Presupuesto 2021'!M21 -> 100000 | AI23: =IF(ISNUMBER(AH23),AH23-AG23,"-") -> - | AJ23: ='Planeación Presupuesto 2021'!N21 -> 100000 | AL23: =IF(ISNUMBER(AK23),AK23-AJ23,"-") -> -
A24: Celular | C24: ='Planeación Presupuesto 2021'!C22 -> 100000 | D24: 100000 | E24: =IF(ISNUMBER(D24),D24-C24,"-") -> 0 | F24: ='Planeación Presupuesto 2021'!D22 -> 100000 | H24: =IF(ISNUMBER(G24),G24-F24,"-") -> - | I24: ='Planeación Presupuesto 2021'!E22 -> 100000 | K24: =IF(ISNUMBER(J24),J24-I24,"-") -> - | L24: ='Planeación Presupuesto 2021'!F22 -> 100000 | N24: =IF(ISNUMBER(M24),M24-L24,"-") -> - | O24: ='Planeación Presupuesto 2021'!G22 -> 100000 | Q24: =IF(ISNUMBER(P24),P24-O24,"-") -> - | R24: ='Planeación Presupuesto 2021'!H22 -> 100000 | T24: =IF(ISNUMBER(S24),S24-R24,"-") -> - | U24: ='Planeación Presupuesto 2021'!I22 -> 100000 | W24: =IF(ISNUMBER(V24),V24-U24,"-") -> - | X24: ='Planeación Presupuesto 2021'!J22 -> 100000 | Z24: =IF(ISNUMBER(Y24),Y24-X24,"-") -> - | AA24: ='Planeación Presupuesto 2021'!K22 -> 100000 | AC24: =IF(ISNUMBER(AB24),AB24-AA24,"-") -> - | AD24: ='Planeación Presupuesto 2021'!L22 -> 100000 | AF24: =IF(ISNUMBER(AE24),AE24-AD24,"-") -> - | AG24: ='Planeación Presupuesto 2021'!M22 -> 100000 | AI24: =IF(ISNUMBER(AH24),AH24-AG24,"-") -> - | AJ24: ='Planeación Presupuesto 2021'!N22 -> 100000 | AL24: =IF(ISNUMBER(AK24),AK24-AJ24,"-") -> -
A25: Electricidad | C25: ='Planeación Presupuesto 2021'!C23 -> 75000 | D25: 75000 | E25: =IF(ISNUMBER(D25),D25-C25,"-") -> 0 | F25: ='Planeación Presupuesto 2021'!D23 -> 75000 | H25: =IF(ISNUMBER(G25),G25-F25,"-") -> - | I25: ='Planeación Presupuesto 2021'!E23 -> 75000 | K25: =IF(ISNUMBER(J25),J25-I25,"-") -> - | L25: ='Planeación Presupuesto 2021'!F23 -> 75000 | N25: =IF(ISNUMBER(M25),M25-L25,"-") -> - | O25: ='Planeación Presupuesto 2021'!G23 -> 75000 | Q25: =IF(ISNUMBER(P25),P25-O25,"-") -> - | R25: ='Planeación Presupuesto 2021'!H23 -> 75000 | T25: =IF(ISNUMBER(S25),S25-R25,"-") -> - | U25: ='Planeación Presupuesto 2021'!I23 -> 75000 | W25: =IF(ISNUMBER(V25),V25-U25,"-") -> - | X25: ='Planeación Presupuesto 2021'!J23 -> 75000 | Z25: =IF(ISNUMBER(Y25),Y25-X25,"-") -> - | AA25: ='Planeación Presupuesto 2021'!K23 -> 75000 | AC25: =IF(ISNUMBER(AB25),AB25-AA25,"-") -> - | AD25: ='Planeación Presupuesto 2021'!L23 -> 75000 | AF25: =IF(ISNUMBER(AE25),AE25-AD25,"-") -> - | AG25: ='Planeación Presupuesto 2021'!M23 -> 75000 | AI25: =IF(ISNUMBER(AH25),AH25-AG25,"-") -> - | AJ25: ='Planeación Presupuesto 2021'!N23 -> 75000 | AL25: =IF(ISNUMBER(AK25),AK25-AJ25,"-") -> -
A26: Gas | C26: ='Planeación Presupuesto 2021'!C24 -> 20000 | D26: 20000 | E26: =IF(ISNUMBER(D26),D26-C26,"-") -> 0 | F26: ='Planeación Presupuesto 2021'!D24 -> 20000 | H26: =IF(ISNUMBER(G26),G26-F26,"-") -> - | I26: ='Planeación Presupuesto 2021'!E24 -> 20000 | K26: =IF(ISNUMBER(J26),J26-I26,"-") -> - | L26: ='Planeación Presupuesto 2021'!F24 -> 20000 | N26: =IF(ISNUMBER(M26),M26-L26,"-") -> - | O26: ='Planeación Presupuesto 2021'!G24 -> 20000 | Q26: =IF(ISNUMBER(P26),P26-O26,"-") -> - | R26: ='Planeación Presupuesto 2021'!H24 -> 20000 | T26: =IF(ISNUMBER(S26),S26-R26,"-") -> - | U26: ='Planeación Presupuesto 2021'!I24 -> 20000 | W26: =IF(ISNUMBER(V26),V26-U26,"-") -> - | X26: ='Planeación Presupuesto 2021'!J24 -> 20000 | Z26: =IF(ISNUMBER(Y26),Y26-X26,"-") -> - | AA26: ='Planeación Presupuesto 2021'!K24 -> 20000 | AC26: =IF(ISNUMBER(AB26),AB26-AA26,"-") -> - | AD26: ='Planeación Presupuesto 2021'!L24 -> 20000 | AF26: =IF(ISNUMBER(AE26),AE26-AD26,"-") -> - | AG26: ='Planeación Presupuesto 2021'!M24 -> 20000 | AI26: =IF(ISNUMBER(AH26),AH26-AG26,"-") -> - | AJ26: ='Planeación Presupuesto 2021'!N24 -> 20000 | AL26: =IF(ISNUMBER(AK26),AK26-AJ26,"-") -> -
A27: Agua | C27: ='Planeación Presupuesto 2021'!C25 -> 20000 | D27: 20000 | E27: =IF(ISNUMBER(D27),D27-C27,"-") -> 0 | F27: ='Planeación Presupuesto 2021'!D25 -> 20000 | H27: =IF(ISNUMBER(G27),G27-F27,"-") -> - | I27: ='Planeación Presupuesto 2021'!E25 -> 20000 | K27: =IF(ISNUMBER(J27),J27-I27,"-") -> - | L27: ='Planeación Presupuesto 2021'!F25 -> 20000 | N27: =IF(ISNUMBER(M27),M27-L27,"-") -> - | O27: ='Planeación Presupuesto 2021'!G25 -> 20000 | Q27: =IF(ISNUMBER(P27),P27-O27,"-") -> - | R27: ='Planeación Presupuesto 2021'!H25 -> 20000 | T27: =IF(ISNUMBER(S27),S27-R27,"-") -> - | U27: ='Planeación Presupuesto 2021'!I25 -> 20000 | W27: =IF(ISNUMBER(V27),V27-U27,"-") -> - | X27: ='Planeación Presupuesto 2021'!J25 -> 20000 | Z27: =IF(ISNUMBER(Y27),Y27-X27,"-") -> - | AA27: ='Planeación Presupuesto 2021'!K25 -> 20000 | AC27: =IF(ISNUMBER(AB27),AB27-AA27,"-") -> - | AD27: ='Planeación Presupuesto 2021'!L25 -> 20000 | AF27: =IF(ISNUMBER(AE27),AE27-AD27,"-") -> - | AG27: ='Planeación Presupuesto 2021'!M25 -> 20000 | AI27: =IF(ISNUMBER(AH27),AH27-AG27,"-") -> - | AJ27: ='Planeación Presupuesto 2021'!N25 -> 20000 | AL27: =IF(ISNUMBER(AK27),AK27-AJ27,"-") -> -
A28: Transporte | C28: ='Planeación Presupuesto 2021'!C26 -> 20000 | D28: 20000 | E28: =IF(ISNUMBER(D28),D28-C28,"-") -> 0 | F28: ='Planeación Presupuesto 2021'!D26 -> 20000 | H28: =IF(ISNUMBER(G28),G28-F28,"-") -> - | I28: ='Planeación Presupuesto 2021'!E26 -> 20000 | K28: =IF(ISNUMBER(J28),J28-I28,"-") -> - | L28: ='Planeación Presupuesto 2021'!F26 -> 20000 | N28: =IF(ISNUMBER(M28),M28-L28,"-") -> - | O28: ='Planeación Presupuesto 2021'!G26 -> 20000 | Q28: =IF(ISNUMBER(P28),P28-O28,"-") -> - | R28: ='Planeación Presupuesto 2021'!H26 -> 20000 | T28: =IF(ISNUMBER(S28),S28-R28,"-") -> - | U28: ='Planeación Presupuesto 2021'!I26 -> 20000 | W28: =IF(ISNUMBER(V28),V28-U28,"-") -> - | X28: ='Planeación Presupuesto 2021'!J26 -> 20000 | Z28: =IF(ISNUMBER(Y28),Y28-X28,"-") -> - | AA28: ='Planeación Presupuesto 2021'!K26 -> 20000 | AC28: =IF(ISNUMBER(AB28),AB28-AA28,"-") -> - | AD28: ='Planeación Presupuesto 2021'!L26 -> 20000 | AF28: =IF(ISNUMBER(AE28),AE28-AD28,"-") -> - | AG28: ='Planeación Presupuesto 2021'!M26 -> 20000 | AI28: =IF(ISNUMBER(AH28),AH28-AG28,"-") -> - | AJ28: ='Planeación Presupuesto 2021'!N26 -> 20000 | AL28: =IF(ISNUMBER(AK28),AK28-AJ28,"-") -> -
A29: Deporte | C29: ='Planeación Presupuesto 2021'!C27 -> 100000 | D29: 100000 | E29: =IF(ISNUMBER(D29),D29-C29,"-") -> 0 | F29: ='Planeación Presupuesto 2021'!D27 -> 100000 | H29: =IF(ISNUMBER(G29),G29-F29,"-") -> - | I29: ='Planeación Presupuesto 2021'!E27 -> 100000 | K29: =IF(ISNUMBER(J29),J29-I29,"-") -> - | L29: ='Planeación Presupuesto 2021'!F27 -> 100000 | N29: =IF(ISNUMBER(M29),M29-L29,"-") -> - | O29: ='Planeación Presupuesto 2021'!G27 -> 100000 | Q29: =IF(ISNUMBER(P29),P29-O29,"-") -> - | R29: ='Planeación Presupuesto 2021'!H27 -> 100000 | T29: =IF(ISNUMBER(S29),S29-R29,"-") -> - | U29: ='Planeación Presupuesto 2021'!I27 -> 100000 | W29: =IF(ISNUMBER(V29),V29-U29,"-") -> - | X29: ='Planeación Presupuesto 2021'!J27 -> 100000 | Z29: =IF(ISNUMBER(Y29),Y29-X29,"-") -> - | AA29: ='Planeación Presupuesto 2021'!K27 -> 100000 | AC29: =IF(ISNUMBER(AB29),AB29-AA29,"-") -> - | AD29: ='Planeación Presupuesto 2021'!L27 -> 100000 | AF29: =IF(ISNUMBER(AE29),AE29-AD29,"-") -> - | AG29: ='Planeación Presupuesto 2021'!M27 -> 100000 | AI29: =IF(ISNUMBER(AH29),AH29-AG29,"-") -> - | AJ29: ='Planeación Presupuesto 2021'!N27 -> 100000 | AL29: =IF(ISNUMBER(AK29),AK29-AJ29,"-") -> -
A30: Total | C30: =SUM(C22:C29) -> 1435000 | D30: =SUM(D22:D29) -> 1435000 | E30: =SUM(E22:E29) -> 0 | F30: =SUM(F22:F29) -> 1435000 | G30: =SUM(G22:G29) -> 0 | H30: =SUM(H22:H29) -> 0 | I30: =SUM(I22:I29) -> 1435000 | J30: =SUM(J22:J29) -> 0 | ... AL30: =SUM(AL22:AL29) -> 0 | AM30: --> poco gestionable en el corto plazo
A32: Gastos variables
A33: Salidas | C33: ='Planeación Presupuesto 2021'!C31 -> 1000000 | D33: 900000 | E33: =IF(ISNUMBER(D33),D33-C33,"-") -> -100000 | F33: ='Planeación Presupuesto 2021'!D31 -> 1000000 | H33: =IF(ISNUMBER(G33),G33-F33,"-") -> - | I33: ='Planeación Presupuesto 2021'!E31 -> 1000000 | K33: =IF(ISNUMBER(J33),J33-I33,"-") -> - | L33: ='Planeación Presupuesto 2021'!F31 -> 1000000 | N33: =IF(ISNUMBER(M33),M33-L33,"-") -> - | O33: ='Planeación Presupuesto 2021'!G31 -> 1000000 | Q33: =IF(ISNUMBER(P33),P33-O33,"-") -> - | R33: ='Planeación Presupuesto 2021'!H31 -> 1000000 | T33: =IF(ISNUMBER(S33),S33-R33,"-") -> - | U33: ='Planeación Presupuesto 2021'!I31 -> 1000000 | W33: =IF(ISNUMBER(V33),V33-U33,"-") -> - | X33: ='Planeación Presupuesto 2021'!J31 -> 1000000 | Z33: =IF(ISNUMBER(Y33),Y33-X33,"-") -> - | AA33: ='Planeación Presupuesto 2021'!K31 -> 1000000 | AC33: =IF(ISNUMBER(AB33),AB33-AA33,"-") -> - | AD33: ='Planeación Presupuesto 2021'!L31 -> 1000000 | AF33: =IF(ISNUMBER(AE33),AE33-AD33,"-") -> - | AG33: ='Planeación Presupuesto 2021'!M31 -> 1000000 | AI33: =IF(ISNUMBER(AH33),AH33-AG33,"-") -> - | AJ33: ='Planeación Presupuesto 2021'!N31 -> 1000000 | AL33: =IF(ISNUMBER(AK33),AK33-AJ33,"-") -> -
A34: Mercado | C34: ='Planeación Presupuesto 2021'!C32 -> 1000000 | D34: 900000 | E34: =IF(ISNUMBER(D34),D34-C34,"-") -> -100000 | F34: ='Planeación Presupuesto 2021'!D32 -> 1000000 | H34: =IF(ISNUMBER(G34),G34-F34,"-") -> - | I34: ='Planeación Presupuesto 2021'!E32 -> 1000000 | K34: =IF(ISNUMBER(J34),J34-I34,"-") -> - | L34: ='Planeación Presupuesto 2021'!F32 -> 1000000 | N34: =IF(ISNUMBER(M34),M34-L34,"-") -> - | O34: ='Planeación Presupuesto 2021'!G32 -> 1000000 | Q34: =IF(ISNUMBER(P34),P34-O34,"-") -> - | R34: ='Planeación Presupuesto 2021'!H32 -> 1000000 | T34: =IF(ISNUMBER(S34),S34-R34,"-") -> - | U34: ='Planeación Presupuesto 2021'!I32 -> 1000000 | W34: =IF(ISNUMBER(V34),V34-U34,"-") -> - | X34: ='Planeación Presupuesto 2021'!J32 -> 1000000 | Z34: =IF(ISNUMBER(Y34),Y34-X34,"-") -> - | AA34: ='Planeación Presupuesto 2021'!K32 -> 1000000 | AC34: =IF(ISNUMBER(AB34),AB34-AA34,"-") -> - | AD34: ='Planeación Presupuesto 2021'!L32 -> 1000000 | AF34: =IF(ISNUMBER(AE34),AE34-AD34,"-") -> - | AG34: ='Planeación Presupuesto 2021'!M32 -> 1000000 | AI34: =IF(ISNUMBER(AH34),AH34-AG34,"-") -> - | AJ34: ='Planeación Presupuesto 2021'!N32 -> 1000000 | AL34: =IF(ISNUMBER(AK34),AK34-AJ34,"-") -> -
A35: Extraordinarios | C35: ='Planeación Presupuesto 2021'!C33 -> 500000 | D35: 400000 | E35: =IF(ISNUMBER(D35),D35-C35,"-") -> -100000 | F35: ='Planeación Presupuesto 2021'!D33 -> 500000 | H35: =IF(ISNUMBER(G35),G35-F35,"-") -> - | I35: ='Planeación Presupuesto 2021'!E33 -> 500000 | K35: =IF(ISNUMBER(J35),J35-I35,"-") -> - | L35: ='Planeación Presupuesto 2021'!F33 -> 500000 | N35: =IF(ISNUMBER(M35),M35-L35,"-") -> - | O35: ='Planeación Presupuesto 2021'!G33 -> 500000 | Q35: =IF(ISNUMBER(P35),P35-O35,"-") -> - | R35: ='Planeación Presupuesto 2021'!H33 -> 500000 | T35: =IF(ISNUMBER(S35),S35-R35,"-") -> - | U35: ='Planeación Presupuesto 2021'!I33 -> 500000 | W35: =IF(ISNUMBER(V35),V35-U35,"-") -> - | X35: ='Planeación Presupuesto 2021'!J33 -> 500000 | Z35: =IF(ISNUMBER(Y35),Y35-X35,"-") -> - | AA35: ='Planeación Presupuesto 2021'!K33 -> 500000 | AC35: =IF(ISNUMBER(AB35),AB35-AA35,"-") -> - | AD35: ='Planeación Presupuesto 2021'!L33 -> 500000 | AF35: =IF(ISNUMBER(AE35),AE35-AD35,"-") -> - | AG35: ='Planeación Presupuesto 2021'!M33 -> 500000 | AI35: =IF(ISNUMBER(AH35),AH35-AG35,"-") -> - | AJ35: ='Planeación Presupuesto 2021'!N33 -> 500000 | AL35: =IF(ISNUMBER(AK35),AK35-AJ35,"-") -> -
A36: Total | C36: =SUM(C33:C35) -> 2500000 | D36: =SUM(D33:D35) -> 2200000 | E36: =SUM(E33:E35) -> -300000 | F36: =SUM(F33:F35) -> 2500000 | G36: =SUM(G33:G35) -> 0 | H36: =SUM(H33:H35) -> 0 | I36: =SUM(I33:I35) -> 2500000 | J36: =SUM(J33:J35) -> 0 | ... AL36: =SUM(AL33:AL35) -> 0 | AM36: --> si queremos ahorrar, podemos gestionar estos
A38: Total Gastos | C38: =C30+C36 -> 3935000 | D38: =D30+D36 -> 3635000 | E38: =E30+E36 -> -300000 | F38: =F30+F36 -> 3935000 | G38: =G30+G36 -> 0 | H38: =H30+H36 -> 0 | I38: =I30+I36 -> 3935000 | J38: =J30+J36 -> 0 | ... AL38: =AL30+AL36 -> 0
A40: Flujo de caja | C40: =C13-C19-C38 -> 671411.02 | D40: =D13-D19-D38 -> 971411.02 | E40: =E13-E19-E38 -> 300000 | F40: =F13-F19-F38 -> 671411.02 | G40: =G13-G19-G38 -> 0 | H40: =H13-H19-H38 -> 0 | I40: =I13-I19-I38 -> 671411.02 | J40: =J13-J19-J38 -> 0 | ... AL40: =AL13-AL19-AL38 -> 0 | AM40: --> colchón en mi cuenta bancaria a fin de mes
A42: Flujo de caja acumulado | E42: =D40 -> 971411.02 | H42: =E42+G40 -> 971411.02 | K42: =H42+J40 -> 971411.02 | N42: =K42+M40 -> 971411.02 | Q42: =N42+P40 -> 971411.02 | T42: =Q42+S40 -> 971411.02 | W42: =T42+V40 -> 971411.02 | Z42: =W42+Y40 -> 971411.02 | AC42: =Z42+AB40 -> 971411.02 | AF42: =AC42+AE40 -> 971411.02 | AI42: =AF42+AH40 -> 971411.02 | AL42: =AI42+AK40 -> 971411.02
A44: Resumen ($)
A45: Ingresos | C45: =C13 -> 6000000 | D45: =D13 -> 6000000 | E45: =E13 -> 0 | F45: =F13 -> 6000000 | G45: =G13 -> 0 | H45: =H13 -> 0 | I45: =I13 -> 6000000 | J45: =J13 -> 0 | ... AL45: =AL13 -> 0
A46: Inversión | C46: =C19 -> 1393589 | D46: =D19 -> 1393589 | E46: =E19 -> 0 | F46: =F19 -> 1393589 | G46: =G19 -> 0 | H46: =H19 -> 0 | I46: =I19 -> 1393589 | J46: =J19 -> 0 | ... AL46: =AL19 -> 0
A47: Gasto fijo | C47: =C30 -> 1435000 | D47: =D30 -> 1435000 | E47: =E30 -> 0 | F47: =F30 -> 1435000 | G47: =G30 -> 0 | H47: =H30 -> 0 | I47: =I30 -> 1435000 | J47: =J30 -> 0 | ... AL47: =AL30 -> 0
A48: Gasto variable | C48: =C36 -> 2500000 | D48: =D36 -> 2200000 | E48: =E36 -> -300000 | F48: =F36 -> 2500000 | G48: =G36 -> 0 | H48: =H36 -> 0 | I48: =I36 -> 2500000 | J48: =J36 -> 0 | ... AL48: =AL36 -> 0
A49: Excedente | C49: =C40 -> 671411.02 | D49: =D40 -> 971411.02 | E49: =E40 -> 300000 | F49: =F40 -> 671411.02 | G49: =G40 -> 0 | H49: =H40 -> 0 | I49: =I40 -> 671411.02 | J49: =J40 -> 0 | ... AL49: =AL40 -> 0
A50: check | C50: =C45-SUM(C46:C49) -> 0 | D50: =D45-SUM(D46:D49) -> 0 | E50: =E45-SUM(E46:E49) -> 0 | F50: =F45-SUM(F46:F49) -> 0 | G50: =G45-SUM(G46:G49) -> 0 | H50: =H45-SUM(H46:H49) -> 0 | I50: =I45-SUM(I46:I49) -> 0 | J50: =J45-SUM(J46:J49) -> 0 | ... AL50: =AL45-SUM(AL46:AL49) -> 0
...

Sheet Balance 2021
B2: Ejecución 2021
A5: Balance 2021
C7: 44227 | D7: =EOMONTH(C7,1) -> 44255 | E7: =EOMONTH(D7,1) -> 44286 | F7: =EOMONTH(E7,1) -> 44316 | G7: =EOMONTH(F7,1) -> 44347 | H7: =EOMONTH(G7,1) -> 44377 | I7: =EOMONTH(H7,1) -> 44408 | J7: =EOMONTH(I7,1) -> 44439 | K7: =EOMONTH(J7,1) -> 44469 | ... N7: =EOMONTH(M7,1) -> 44561
A8: Activos | O8: --> activos = lo que tengo
A9: Activos corrientes (liquidos) | O9: --> activos que se pueden liquidar en el corto plazo
A10: Cuentas de banco
A11: Bancolombia | C11: 5000000
A12: Scotiabank | C12: 2000000
A13: Cuentas de inversión (FICs)
A14: tyba - meta Moto | C14: 1000000
A15: tyba - fondo emergencia | C15: 1000000
A16: Total | C16: =SUM(C11:C12,C14:C15) -> 9000000 | D16: =SUM(D11:D12,D14:D15) -> 0 | E16: =SUM(E11:E12,E14:E15) -> 0 | F16: =SUM(F11:F12,F14:F15) -> 0 | G16: =SUM(G11:G12,G14:G15) -> 0 | H16: =SUM(H11:H12,H14:H15) -> 0 | I16: =SUM(I11:I12,I14:I15) -> 0 | J16: =SUM(J11:J12,J14:J15) -> 0 | ... N16: =SUM(N11:N12,N14:N15) -> 0
A18: Activos fijos | O18: --> activos que no son fáciles de liquidar en el corto plazo
A19: Inmuebles
A20: Apartamento | C20: 300000000
A21: CDTs
A22: CDT a 2 años | C22: 1000000
A23: CDT a 3 años | C23: 1000000
A24: Pensiones
A25: FPV | C25: 21000000
A26: Total | C26: =SUM(C20,C22:C23,C25) -> 323000000 | D26: =SUM(D20,D22:D23,D25) -> 0 | E26: =SUM(E20,E22:E23,E25) -> 0 | F26: =SUM(F20,F22:F23,F25) -> 0 | G26: =SUM(G20,G22:G23,G25) -> 0 | H26: =SUM(H20,H22:H23,H25) -> 0 | I26: =SUM(I20,I22:I23,I25) -> 0 | J26: =SUM(J20,J22:J23,J25) -> 0 | ... N26: =SUM(N20,N22:N23,N25) -> 0
A28: Total Activos | C28: =C16+C26 -> 332000000 | D28: =D16+D26 -> 0 | E28: =E16+E26 -> 0 | F28: =F16+F26 -> 0 | G28: =G16+G26 -> 0 | H28: =H16+H26 -> 0 | I28: =I16+I26 -> 0 | J28: =J16+J26 -> 0 | ... N28: =N16+N26 -> 0
A30: Pasivos | O30: --> pasivos = lo que debo/mis obligaciones
A31: Pasivos corrientes | O31: --> deudas con vencimiento de menos de 1 año
A32: Tarjetas de crédito
A33: Bancolombia | C33: 4000000
A34: Otras deudas a menos de 1 año
A35: Deuda con mis papás | C35: 1000000
A36: Total | C36: =SUM(C33,C35) -> 5000000 | D36: =SUM(D33,D35) -> 0 | E36: =SUM(E33,E35) -> 0 | F36: =SUM(F33,F35) -> 0 | G36: =SUM(G33,G35) -> 0 | H36: =SUM(H33,H35) -> 0 | I36: =SUM(I33,I35) -> 0 | J36: =SUM(J33,J35) -> 0 | ... N36: =SUM(N33,N35) -> 0
A38: Pasivos de largo plazo | O38: --> deudas con vencimiento de más de 1 año
A39: Prestamos bancarios
A40: Deuda apartamento | C40: 100000000
A41: Otras deudas a más de 1 año
A42: Deuda con mi hermana (5 años) | C42: 5000000
A43: Total | C43: =SUM(C40,C42) -> 105000000 | D43: =SUM(D40,D42) -> 0 | E43: =SUM(E40,E42) -> 0 | F43: =SUM(F40,F42) -> 0 | G43: =SUM(G40,G42) -> 0 | H43: =SUM(H40,H42) -> 0 | I43: =SUM(I40,I42) -> 0 | J43: =SUM(J40,J42) -> 0 | ... N43: =SUM(N40,N42) -> 0
A45: Total Pasivos | C45: =C36+C43 -> 110000000 | D45: =D36+D43 -> 0 | E45: =E36+E43 -> 0 | F45: =F36+F43 -> 0 | G45: =G36+G43 -> 0 | H45: =H36+H43 -> 0 | I45: =I36+I43 -> 0 | J45: =J36+J43 -> 0 | ... N45: =N36+N43 -> 0
A47: Patrimonio | C47: =C28-C45 -> 222000000 | D47: =D28-D45 -> 0 | E47: =E28-E45 -> 0 | F47: =F28-F45 -> 0 | G47: =G28-G45 -> 0 | H47: =H28-H45 -> 0 | I47: =I28-I45 -> 0 | J47: =J28-J45 -> 0 | ... N47: =N28-N45 -> 0 | O47: --> diferencia entre activos (lo que tengo) y pasivos (lo que debo)
C51: Aviso legal
C52: Esta herramienta es propiedad de tyba, por tanto, ninguna parte del material, ni su contenido, ni ninguna copia del mismo puede ser alterada en forma alguna, transmitida, copiada o distribuida a terceros, sin el previo consentimiento expreso. Esta información hace parte de un ejemplo práctico del webinar realizado el 28 de enero del 2021, por lo tanto tyba no recomienda interpretarla sin su contexto original. En consecuencia, esta herramienta no aporta una garantía (expresa o implícita) respecto de la veracidad, exactitud o integridad de la información que resulte.
