Workbook

Sheet Appointment Tracker
A1: Appointment Tracker
A2: Client Name | B2: ClientNameHere | C2: Coach Name | D2: YourNameHere
A3: Date | B3: Recording link | C3: Coach Notes | D3: Client Comments

Sheet Symptom Scorecards
A1: Symptom Scorecards
A2: Client Name | B2: ='Appointment Tracker'!$B$2 -> ClientNameHere
A3: Coach Name | B3: ='Appointment Tracker'!$D$2 -> YourNameHere
A4: INSTRUCTIONS: This form gives you a place to keep track of all of your "Present Health - Symptom Survey" assessment results. There is a column for the initial score and 4 additional ones so you can reassess quarterly and keep track of your progress throughout the year. Be sure to put the date of the test in the light purple column header.
A5: Assessment | B5: Score
A6: Body System and Organ Assessment
A7: Date of Assessment: | B7: mm/dd/yy | C7: mm/dd/yy | D7: mm/dd/yy | E7: mm/dd/yy | F7: mm/dd/yy
A8: Digestion - Low Stomach Acid
A9: Digestion - Excess Stomach Acid
A10: Digestion - Liver and Gallbladder
A11: Digestion - Small Intestine and Pancreas
A12: Digestion - Large Intestine
A13: Cardiovascular System
A14: Kidney and Bladder
A15: Immune System
A16: Detoxification Stress/Toxicity Assessment Results
A17: Date of Assessment | B17: =B7 -> mm/dd/yy | C17: =C7 -> mm/dd/yy | D17: =D7 -> mm/dd/yy | E17: =E7 -> mm/dd/yy | F17: =F7 -> mm/dd/yy
A18: Digestive
A19: Ears
A20: Head
A21: Heart
A22: Emotions
A23: Joints/Muscles
A24: Energy/Activity
A25: Lungs
A26: Eyes
A27: Mind
A28: Skin
A29: Mouth/Throat
... A34: Hormone and Gland Assessment
A35: Date of Assessment | B35: =B7 -> mm/dd/yy | C35: =C7 -> mm/dd/yy | D35: =D7 -> mm/dd/yy | E35: =E7 -> mm/dd/yy | F35: =F7 -> mm/dd/yy
A36: Adrenal – General
A37: Adrenal Hypofunction
A38: Adrenal Hyperfunction (Cortisol high)
A39: Blood Sugar Dysregulation
A40: Blood Sugar Handling - Insulin Resistance
A41: Blood Sugar Handling - Blood Glucose Fluctuation
A42: Thyroid Low (Hypo)
A43: Thyroid Excess (Hyper)
A44: Pituitary
A45: Male - Prostate
A46: Male - Hormones
A47: Female - Hormones
... A49: Brain and Neurotransmitter Assessment
A50: Date of Assessment | B50: =B7 -> mm/dd/yy | C50: =C7 -> mm/dd/yy | D50: =D7 -> mm/dd/yy | E50: =E7 -> mm/dd/yy | F50: =F7 -> mm/dd/yy
A51: General Brain Function
A52: Serotonin
A53: Dopamine
A54: GABA
A55: Acetylcholine
A56: Nutrient Balance: General Assessment
A57: Date of Assessment | B57: =B7 -> mm/dd/yy | C57: =C7 -> mm/dd/yy | D57: =D7 -> mm/dd/yy | E57: =E7 -> mm/dd/yy | F57: =F7 -> mm/dd/yy
A58: Vitamin & Mineral Needs
A59: Essential Fatty Acid Needs
A60: Amino Acid Needs
A61: Nutrient Balance: Vitamin Assessment
A62: Date of Assessment | B62: =B7 -> mm/dd/yy | C62: =C7 -> mm/dd/yy | D62: =D7 -> mm/dd/yy | E62: =E7 -> mm/dd/yy | F62: =F7 -> mm/dd/yy
A63: Vitamin A
A64: B Vitamins
A65: Vitamin B1 - Thiamin
A66: Vitamin B2 - Riboflavin
A67: Vitamin B3 - Niacin
A68: Vitamin B5 - Pantothenic acid
A69: Vitamin B6 - Pyridoxine
A70: Vitamin B7 - Biotin
A71: Vitamin B9 - Folic Acid
A72: Vitamin B12 - Cobalamin
A73: Vitamin C
A74: Vitamin D
... A77: Nutrient Balance: Mineral Assessment
A78: Date of Assessment | B78: =B7 -> mm/dd/yy | C78: =C7 -> mm/dd/yy | D78: =D7 -> mm/dd/yy | E78: =E7 -> mm/dd/yy | F78: =F7 -> mm/dd/yy
A79: Calcium
A80: Chromium
A81: Copper
A82: Iodine
A83: Iron
A84: Magnesium
A85: Manganese
A86: Phosphorus
A87: Potassium
A88: Zinc
A89: NOTICE: The information contained here-in is not to be construed as medical advice. This is an educational program designed to empower you to take charge of your own health and learn to understand the signs your body is giving you. The responsibility for the consequences of your use of any suggestion or procedure described hereafter lies not with the authors, publisher or distributors of this program. This is not intended as medical diagnosis or health advice. To give you a full interpretation would require a comprehensive assessment. We recommend consulting with a licensed health professional before changing your diet or supplementation program. Except for personal use, no part of this program may be reproduced or distributed, in any form or by any means, electronic, mechanical, photocopying, or otherwise, without prior written permission from the publisher.

Sheet Medications
A1: Medications
A2: Client Name | B2: ='Appointment Tracker'!$B$2 -> ClientNameHere | C2: Coach Name | E2: ='Appointment Tracker'!$D$2 -> YourNameHere
A3: Name of medications you currently take or have taken over the past several months | B3: What's the medication for? | C3: Dose and Timing | D3: Date Started | E3: Date Stopped | F3: Reactions, if any (positive or negative)

Sheet Glucose Tracking
A1: Glucose Tracking
A2: PLEASE READ THE FOLLOWING CAREFULLY TO MAKE YOUR JOURNAL MOST USEFUL * Record all food, water, and other beverage intake. Be as detailed as you can. Include portion size and preparation (i.e. raw, steamed, fried, baked, etc.) as closely as possible. Also record beverages, fats, oils, and condiments (i.e. dressings, mayonnaise, etc.) and indicate emotional state during each meal. * For exercise record the specific activity (i.e. walking, running, weight lifting), length of time, and intensity. * Note when you do appreciation and breathing exercise (HeartMath) in the emotional state column. * Record any symptoms you experience throughout the day along with the time and whether or not the symptoms appear to be associated with food. For example, if you eat breakfast at 9:00 am, have a headache at 11:00 am and eat lunch at 12:00 pm, there would be three entries in your chart, one for each time. * If you have a glucose meter, record your glucose level before you eat, right after you eat, and then every 15 minutes up to 1 hour. Then record your glucose every hour for 5 hours or your next meal. Ideally your meals should be spaced 5 hours apart, but that may take some time to accomplish. * Record as many days as you can. Keep it low stress. If you miss a few meals, note it and move on. Try to remember as best you can, but keep calm and cool about it.
A3: Client Name | C3: ='Appointment Tracker'!$B$2 -> ClientNameHere | H3: Coach Name | J3: ='Appointment Tracker'!$D$2 -> YourNameHere | O3: Record glucose at the following intervals after meals and exercise
A4: Rate energy, stress level, and symptoms from 0-10, where 0=none, 1=minimum, and 10=maximum. Insert an entry for each bowel movement with time of day and indicate in box: the color, quantity (S,M,L), thickness (approx. finger widths), and consistency (H=Hard, S=Soft, WF=Well Formed, W=Watery). For other, describe. Example (ideal): greenish brown, L,3,S,WF. For pain, note location. For digestion, note specific symptoms or areas of discomfort. | O4: Right after | P4: 15 min | Q4: 30 min | R4: 45 min | S4: 1 hour | T4: 2 hour | U4: 3 hour | V4: 4 hour | W4: 5 hour
A5: Date | B5: Time | C5: Energy Before | D5: Emotional State | E5: Pulse Before | F5: Glucose Prior | G5: Foods & Beverages or Exercise Done (note qty & details) | H5: Water (oz.) | I5: Pulse After | J5: Energy After | K5: Bowel Mvmt | L5: Digestion | M5: Pain (location) | N5: Other Symptoms (list & rate 1-10) | O5: Time/ Glucose | P5: Time/ Glucose | Q5: Time/ Glucose | R5: Time/ Glucose | S5: Time/ Glucose | T5: Time/ Glucose | U5: Time/ Glucose | V5: Time/ Glucose | W5: Time/ Glucose

Sheet Lab Results - Intl 
A1: Lab Results - International Lab Results - International Lab Results - International Lab Results - International
A2: INSTRUCTIONS For International Version of Spreadsheet: Enter the numbers from your lab test into the column labelled "Enter Results in this Column Standard Intl Units (SI)" (purple). Be sure to put the date in the pink column. Once you enter the result in the purple column, the US conversion will appear in the pink column. You can enter up to 12 different lab results. The pink cells change color according to the US ranges: **Green (or White in earlier versions of Excel) means within ideal range, **Yellow means outside ideal range, within lab range **Orange means outside lab range If you'd like the spreadsheet to interpret your results, you will need to transfer the values in the US converted column to the sheet labelled Lab Results - U.S.
A3: Client Name | B3: ='Appointment Tracker'!$B$2 -> ClientNameHere
A4: Coach Name | B4: ='Appointment Tracker'!$D$2 -> YourNameHere
A5: CATEGORIES | B5: UNITS | C5: LAB RANGE | E5: IDEAL RANGE | G5: Enter Results in this column | H5: DATE | I5: Enter Results in this column | J5: DATE | K5: Enter Results in this column | L5: DATE | M5: Enter Results in this column | N5: DATE | O5: Enter Results in this column | P5: DATE | Q5: Enter Results in this column | R5: DATE | S5: Enter Results in this column | T5: DATE | U5: Enter Results in this column | V5: DATE | W5: Enter Results in this column | X5: DATE | Y5: Enter Results in this column | Z5: DATE | AA5: Enter Results in this column | AB5: DATE | AC5: Enter Results in this column | AD5: DATE
C6: Min | D6: Max | E6: Min | F6: Max | AE6: Possible Interpretation
A7: Lab Markers | G7: Standard Intl Units (SI) | H7: Auto Convert to US # | I7: Standard Intl Units (SI) | J7: Auto Convert to US # | K7: Standard Intl Units (SI) | L7: Auto Convert to US # | M7: Standard Intl Units (SI) | N7: Auto Convert to US # | O7: Standard Intl Units (SI) | P7: Auto Convert to US # | Q7: Standard Intl Units (SI) | R7: Auto Convert to US # | S7: Standard Intl Units (SI) | T7: Auto Convert to US # | U7: Standard Intl Units (SI) | V7: Auto Convert to US # | W7: Standard Intl Units (SI) | X7: Auto Convert to US # | Y7: Standard Intl Units (SI) | Z7: Auto Convert to US # | AA7: Standard Intl Units (SI) | AB7: Auto Convert to US # | AC7: Standard Intl Units (SI) | AD7: Auto Convert to US # | AE7: High | AF7: Low | AG7: Follow-up
A8: Glucose, serum | B8: mmol/L | C8: 65 | D8: 110 | E8: 75 | F8: 89 | H8: =G8/0.05551 -> 0 | J8: =I8/0.05551 -> 0 | L8: =K8/0.05551 -> 0 | N8: =M8/0.05551 -> 0 | P8: =O8/0.05551 -> 0 | R8: =Q8/0.05551 -> 0 | T8: =S8/0.05551 -> 0 | V8: =U8/0.05551 -> 0 | X8: =W8/0.05551 -> 0 | Z8: =Y8/0.05551 -> 0 | AB8: =AA8/0.05551 -> 0 | AD8: =AC8/0.05551 -> 0 | AE8: Diabetes; insulin resistance; thiamin deficiency; stress; liver | AF8: Hypoglycemia; low adrenal | AG8: Test fasting insulin, hemoglobin A1C
A9: Uric acid, serum (female) | B9: µmol/L | C9: 1.8 | D9: 7 | E9: 3.2 | F9: 5.5 | H9: =G9/59.48 -> 0 | J9: =I9/59.48 -> 0 | L9: =K9/59.48 -> 0 | N9: =M9/59.48 -> 0 | P9: =O9/59.48 -> 0 | R9: =Q9/59.48 -> 0 | T9: =S9/59.48 -> 0 | V9: =U9/59.48 -> 0 | X9: =W9/59.48 -> 0 | Z9: =Y9/59.48 -> 0 | AB9: =AA9/59.48 -> 0 | AD9: =AC9/59.48 -> 0 | AE9: Gout; atherosclerosis; oxidative stress; rheumatoid arthritis; kidney; circulation; leaky gut syndrome | AF9: Deficiency of molybdenum, B-12/folate and/or copper | AG9: If high, evaluate for signs and symptoms of joint pain. If low, check for other signs of B12 deficiency and mineral deficiency (home tests)
A10: Uric acid, serum (male) | B10: µmol/L | C10: 1.8 | D10: 7 | E10: 3.7 | F10: 6 | H10: =G10/59.48 -> 0 | J10: =I10/59.48 -> 0 | L10: =K10/59.48 -> 0 | N10: =M10/59.48 -> 0 | P10: =O10/59.48 -> 0 | R10: =Q10/59.48 -> 0 | T10: =S10/59.48 -> 0 | V10: =U10/59.48 -> 0 | X10: =W10/59.48 -> 0 | Z10: =Y10/59.48 -> 0 | AB10: =AA10/59.48 -> 0 | AD10: =AC10/59.48 -> 0 | AE10: Gout; atherosclerosis; oxidative stress; rheumatoid arthritis; kidney; circulation; leaky gut syndrome | AF10: Deficiency of molybdenum, B-12/folate and/or copper | AG10: If high, evaluate for signs and symptoms of joint pain. If low, check for other signs of B12 deficiency and mineral deficiency (home tests)
A11: Blood urea nitrogen (BUN), serum | B11: mmol/L | C11: 8 | D11: 28 | E11: 13 | F11: 18 | H11: =G11/0.357 -> 0 | J11: =I11/0.357 -> 0 | L11: =K11/0.357 -> 0 | N11: =M11/0.357 -> 0 | P11: =O11/0.357 -> 0 | R11: =Q11/0.357 -> 0 | T11: =S11/0.357 -> 0 | V11: =U11/0.357 -> 0 | X11: =W11/0.357 -> 0 | Z11: =Y11/0.357 -> 0 | AB11: =AA11/0.357 -> 0 | AD11: =AC11/0.357 -> 0 | AE11: Malabsorption; kidney issues; dehydration; excessive protein intake; hyperadrenal | AF11: Malabsorption; liver dysfunction; low protein diet | AG11: HCl challenge, enzymes, optimize digestion
A12: Creatinine, serum | B12: µmol/L | C12: 0.5 | D12: 1.2 | E12: 0.7 | F12: 1.1 | H12: =G12/88.4 -> 0 | J12: =I12/88.4 -> 0 | L12: =K12/88.4 -> 0 | N12: =M12/88.4 -> 0 | P12: =O12/88.4 -> 0 | R12: =Q12/88.4 -> 0 | T12: =S12/88.4 -> 0 | V12: =U12/88.4 -> 0 | X12: =W12/88.4 -> 0 | Z12: =Y12/88.4 -> 0 | AB12: =AA12/88.4 -> 0 | AD12: =AC12/88.4 -> 0 | AE12: Urinary tract congestion/obstruction; kidneys; prostate | AF12: Muscle wasting; malabsorption | AG12: HCl challenge, enzymes, optimize digestion
A13: Estimated glomerular filtration rate (eGFR), serum | B13: mL/min/1.73 m^2 | C13: 59 | D13: - | E13: 59 | F13: - | H13: =G13 -> 0 | J13: =I13 -> 0 | L13: =K13 -> 0 | N13: =M13 -> 0 | P13: =O13 -> 0 | R13: =Q13 -> 0 | T13: =S13 -> 0 | V13: =U13 -> 0 | X13: =W13 -> 0 | Z13: =Y13 -> 0 | AB13: =AA13 -> 0 | AD13: =AC13 -> 0 | AG13: Referral to kidney specialist
A14: Estimated glomerular filtration rate (eGFR) (African American), serum | B14: mL/min/1.73 m^2 | C14: 59 | D14: - | E14: 59 | F14: - | H14: =G14 -> 0 | J14: =I14 -> 0 | L14: =K14 -> 0 | N14: =M14 -> 0 | P14: =O14 -> 0 | R14: =Q14 -> 0 | T14: =S14 -> 0 | V14: =U14 -> 0 | X14: =W14 -> 0 | Z14: =Y14 -> 0 | AB14: =AA14 -> 0 | AD14: =AC14 -> 0 | AG14: Referral to kidney specialist
A15: BUN/Creatinine ratio | B15: - | C15: 8 | D15: 27 | E15: 8 | F15: 27 | H15: =G15 -> 0 | J15: =I15 -> 0 | L15: =K15 -> 0 | N15: =M15 -> 0 | P15: =O15 -> 0 | R15: =Q15 -> 0 | T15: =S15 -> 0 | V15: =U15 -> 0 | X15: =W15 -> 0 | Z15: =Y15 -> 0 | AB15: =AA15 -> 0 | AD15: =AC15 -> 0 | AE15: See BUN & Creatinine | AF15: See BUN & Creatinine | AG15: HCl challenge, enzymes, optimize digestion
A16: Sodium, serum | B16: mmol/L | C16: 135 | D16: 148 | E16: 135 | F16: 140 | H16: =G16 -> 0 | J16: =I16 -> 0 | L16: =K16 -> 0 | N16: =M16 -> 0 | P16: =O16 -> 0 | R16: =Q16 -> 0 | T16: =S16 -> 0 | V16: =U16 -> 0 | X16: =W16 -> 0 | Z16: =Y16 -> 0 | AB16: =AA16 -> 0 | AD16: =AC16 -> 0 | AE16: Hyperadrenal; dehydration | AF16: Hypoadrenal; edema; laxative use | AG16: Check for signs of edema or dehydration, Adrenal Stress Index test, HeartMath, and other stress management skills
A17: Potassium, serum | B17: mmol/L | C17: 3.5 | D17: 5.5 | E17: 4 | F17: 4.5 | H17: =G17 -> 0 | J17: =I17 -> 0 | L17: =K17 -> 0 | N17: =M17 -> 0 | P17: =O17 -> 0 | R17: =Q17 -> 0 | T17: =S17 -> 0 | V17: =U17 -> 0 | X17: =W17 -> 0 | Z17: =Y17 -> 0 | AB17: =AA17 -> 0 | AD17: =AC17 -> 0 | AE17: Hypoadrenal; dehydration; acidosis | AF17: Hyperadrenal; hypertension; diuretics | AG17: Check for signs of edema or dehydration, Adrenal Stress Index test, HeartMath, and other stress management skills
A18: Chloride, serum | B18: mmol/L | C18: 99 | D18: 111 | E18: 100 | F18: 106 | H18: =G18 -> 0 | J18: =I18 -> 0 | L18: =K18 -> 0 | N18: =M18 -> 0 | P18: =O18 -> 0 | R18: =Q18 -> 0 | T18: =S18 -> 0 | V18: =U18 -> 0 | X18: =W18 -> 0 | Z18: =Y18 -> 0 | AB18: =AA18 -> 0 | AD18: =AC18 -> 0 | AE18: Acidosis; hyperadrenal | AF18: Hypochlorhydria; alkalosis; hypoadrenal | AG18: HCl challenge, pH monitoring, and appropriate diet changes, Adrenal Stress Index test, HeartMath, and other stress management skills
A19: Carbon dioxide, total, serum | B19: mmol/L | C19: 19 | D19: 31 | E19: 25 | F19: 30 | H19: =G19 -> 0 | J19: =I19 -> 0 | L19: =K19 -> 0 | N19: =M19 -> 0 | P19: =O19 -> 0 | R19: =Q19 -> 0 | T19: =S19 -> 0 | V19: =U19 -> 0 | X19: =W19 -> 0 | Z19: =Y19 -> 0 | AB19: =AA19 -> 0 | AD19: =AC19 -> 0 | AE19: Alkalosis; hyperadrenal; hypochlorhydria; respiratory distress | AF19: Acidosis; thiamin (B-1) deficiency; hyperventilation | AG19: pH monitoring and appropriate diet changes, HCl challenge
A20: Calcium, serum | B20: mmol/L | C20: 8.7 | D20: 10.5 | E20: 9.2 | F20: 10.1 | H20: =G20/0.25 -> 0 | J20: =I20/0.25 -> 0 | L20: =K20/0.25 -> 0 | N20: =M20/0.25 -> 0 | P20: =O20/0.25 -> 0 | R20: =Q20/0.25 -> 0 | T20: =S20/0.25 -> 0 | V20: =U20/0.25 -> 0 | X20: =W20/0.25 -> 0 | Z20: =Y20/0.25 -> 0 | AB20: =AA20/0.25 -> 0 | AD20: =AC20/0.25 -> 0 | AE20: Hypothyroid; Vitamin D excess; hypoadrenal; hyper parathyroid | AF20: Hypochlorhydria; hypoparathyroid;deficiency of Vitamin D, essential fatty acids or calcium | AG20: Check serum Vitamin D, HCl challenge, optimize omega 6 to 3 fat ratio per the chart and consider blood spot fatty acid test
A21: Phosphorus, serum | B21: mmol/L | C21: 2.3 | D21: 4.8 | E21: 3.5 | F21: 4 | H21: =G21/0.3229 -> 0 | J21: =I21/0.3229 -> 0 | L21: =K21/0.3229 -> 0 | N21: =M21/0.3229 -> 0 | P21: =O21/0.3229 -> 0 | R21: =Q21/0.3229 -> 0 | T21: =S21/0.3229 -> 0 | V21: =U21/0.3229 -> 0 | X21: =W21/0.3229 -> 0 | Z21: =Y21/0.3229 -> 0 | AB21: =AA21/0.3229 -> 0 | AD21: =AC21/0.3229 -> 0 | AE21: Hypoparathyroid; fracture; excess Vitamin D intake; excess dietary phosphate (soda); kidney | AF21: Hyperparathyroid; hypochlorhydria; hyperinsulin; high carb diet; Vitamin D deficiency | AG21: Test and adjust Vitamin D supplementation, HCl challenge, enzymes, optimize digestion
A22: Protein, total, serum | B22: g/L | C22: 6.2 | D22: 8.3 | E22: 6.9 | F22: 7.4 | H22: =G22/10 -> 0 | J22: =I22/10 -> 0 | L22: =K22/10 -> 0 | N22: =M22/10 -> 0 | P22: =O22/10 -> 0 | R22: =Q22/10 -> 0 | T22: =S22/10 -> 0 | V22: =U22/10 -> 0 | X22: =W22/10 -> 0 | Z22: =Y22/10 -> 0 | AB22: =AA22/10 -> 0 | AD22: =AC22/10 -> 0 | AE22: Dehydration | AF22: Hypochlorhydria; poor digestion; GI inflammation; liver; low protein diet | AG22: Protein intake, HCl challenge, enzymes, optimize digestion, supplement with raw protein powder (Sunwarrior, Warrior food, Vitamin Code raw protein) until digestive status is optimized
A23: Albumin, serum | B23: g/L | C23: 3.8 | D23: 5 | E23: 4 | F23: 5 | H23: =G23/10 -> 0 | J23: =I23/10 -> 0 | L23: =K23/10 -> 0 | N23: =M23/10 -> 0 | P23: =O23/10 -> 0 | R23: =Q23/10 -> 0 | T23: =S23/10 -> 0 | V23: =U23/10 -> 0 | X23: =W23/10 -> 0 | Z23: =Y23/10 -> 0 | AB23: =AA23/10 -> 0 | AD23: =AC23/10 -> 0 | AE23: Dehydration | AF23: Hypochlorhydria; liver; oxidative stress; Vitamin C deficiency | AG23: Rule out liver problems, check protein intake, HCl challenge, enzymes, optimize digestion, supplement with raw protein powder (Sunwarrior, Warrior food, Vitamin Code raw protein) until digestive status is optimized, anti-inflammatory diet
A24: Globulin, total, serum | B24: g/L | C24: 2 | D24: 3.8 | E24: 2.4 | F24: 2.8 | H24: =G24/10 -> 0 | J24: =I24/10 -> 0 | L24: =K24/10 -> 0 | N24: =M24/10 -> 0 | P24: =O24/10 -> 0 | R24: =Q24/10 -> 0 | T24: =S24/10 -> 0 | V24: =U24/10 -> 0 | X24: =W24/10 -> 0 | Z24: =Y24/10 -> 0 | AB24: =AA24/10 -> 0 | AD24: =AC24/10 -> 0 | AE24: Hypochlorhydria; liver; oxidative stress; metals/chemicals; autoimmune/allergy | AF24: Poor digestion; GI inflammation; low immunity | AG24: Rule out liver problems, check protein intake, HCl challenge, enzymes, optimize digestion, supplement with raw protein powder (Sunwarrior, Warrior food, Vitamin Code raw protein) until digestive status is optimized, anti-inflammatory diet
A25: A/G ratio (albumin/globulin) | B25: over 1 | C25: 1.1 | D25: 2.3 | E25: 1.5 | F25: 2 | H25: =G25 -> 0 | J25: =I25 -> 0 | L25: =K25 -> 0 | N25: =M25 -> 0 | P25: =O25 -> 0 | R25: =Q25 -> 0 | T25: =S25 -> 0 | V25: =U25 -> 0 | X25: =W25 -> 0 | Z25: =Y25 -> 0 | AB25: =AA25 -> 0 | AD25: =AC25 -> 0 | AE25: See Globulin & Albumin | AF25: See Globulin & Albumin
A26: Bilirubin, total, serum | B26: µmol/L | C26: 0.1 | D26: 1.5 | E26: 0.2 | F26: 1.2 | H26: =G26/17.1 -> 0 | J26: =I26/17.1 -> 0 | L26: =K26/17.1 -> 0 | N26: =M26/17.1 -> 0 | P26: =O26/17.1 -> 0 | R26: =Q26/17.1 -> 0 | T26: =S26/17.1 -> 0 | V26: =U26/17.1 -> 0 | X26: =W26/17.1 -> 0 | Z26: =Y26/17.1 -> 0 | AB26: =AA26/17.1 -> 0 | AD26: =AC26/17.1 -> 0 | AE26: Liver/gallbladder; thymus; oxidative stress; RBC hemolysis; Gilbert's syndrome | AF26: Spleen | AG26: Check liver
A27: Alkaline phosphatase, serum | B27: μkat/L | C27: 27 | D27: 142 | E27: 70 | F27: 90 | H27: =G27/1 -> 0 | J27: =I27/1 -> 0 | L27: =K27/1 -> 0 | N27: =M27/1 -> 0 | P27: =O27/1 -> 0 | R27: =Q27/1 -> 0 | T27: =S27/1 -> 0 | V27: =U27/1 -> 0 | X27: =W27/1 -> 0 | Z27: =Y27/1 -> 0 | AB27: =AA27/1 -> 0 | AD27: =AC27/1 -> 0 | AE27: Liver/gall bladder; bone loss/disease; leaky gut syndrome; shingles; Vitamin C deficiency | AF27: Estrogen dominance; zinc and/or B-6 deficiency; malabsorption; hypothyroid/adrenal | AG27: If >120, do isoenzymes
A28: Lactate dehydrogenase (LDH), serum | B28: µkat/L | C28: 89 | D28: 215 | E28: 140 | F28: 180 | H28: =G28/1 -> 0 | J28: =I28/1 -> 0 | L28: =K28/1 -> 0 | N28: =M28/1 -> 0 | P28: =O28/1 -> 0 | R28: =Q28/1 -> 0 | T28: =S28/1 -> 0 | V28: =U28/1 -> 0 | X28: =W28/1 -> 0 | Z28: =Y28/1 -> 0 | AB28: =AA28/1 -> 0 | AD28: =AC28/1 -> 0 | AE28: Liver/gall bladder; heart; B12/folate deficiency; inflammation; tissue destruction; viral infection | AF28: Hypoglycemia | AG28: Isoenzymes if high
A29: Aspartate aminotransferase (AST) (SGOT), serum | B29: pkat/L | C29: 1 | D29: 45 | E29: 10 | F29: 26 | H29: =G29/1 -> 0 | J29: =I29/1 -> 0 | L29: =K29/1 -> 0 | N29: =M29/1 -> 0 | P29: =O29/1 -> 0 | R29: =Q29/1 -> 0 | T29: =S29/1 -> 0 | V29: =U29/1 -> 0 | X29: =W29/1 -> 0 | Z29: =Y29/1 -> 0 | AB29: =AA29/1 -> 0 | AD29: =AC29/1 -> 0 | AE29: Liver; heart; muscle breakdown; mono/EBV/CMV | AF29: Vitamin B-6 deficiency; alcoholism | AG29: If the SGOT is elevated above SGPT, look outside of liver
A30: Alanine aminotransferase (ALT ) (SGPT), serum | B30: pkat/L | C30: 1 | D30: 55 | E30: 10 | F30: 26 | H30: =G30/1 -> 0 | J30: =I30/1 -> 0 | L30: =K30/1 -> 0 | N30: =M30/1 -> 0 | P30: =O30/1 -> 0 | R30: =Q30/1 -> 0 | T30: =S30/1 -> 0 | V30: =U30/1 -> 0 | X30: =W30/1 -> 0 | Z30: =Y30/1 -> 0 | AB30: =AA30/1 -> 0 | AD30: =AC30/1 -> 0 | AE30: Liver/gall bladder; muscle breakdown; alcoholism | AF30: Vitamin B-6 deficiency; early fatty liver; alcoholism | AG30: If the SGOT is elevated above SGPT, look outside of liver
A31: Gamma-glutamyltransferase (GGT), serum | B31: IU/L | C31: 5 | D31: 52 | E31: 10 | F31: 26 | H31: =G31/1 -> 0 | J31: =I31/1 -> 0 | L31: =K31/1 -> 0 | N31: =M31/1 -> 0 | P31: =O31/1 -> 0 | R31: =Q31/1 -> 0 | T31: =S31/1 -> 0 | V31: =U31/1 -> 0 | X31: =W31/1 -> 0 | Z31: =Y31/1 -> 0 | AB31: =AA31/1 -> 0 | AD31: =AC31/1 -> 0 | AE31: Liver/gall bladder; pancreas (including insufficiency); excess alcohol; | AF31: Vitamin B-6 and/or magnesium deficiency; malabsorption; hypothyroid; oral contraceptives | AG31: If GGT is elevated above SGOT & SGPT, problem is more likely in gall bladder, bile ducts & pancreas
A32: Iron, serum | B32: µmol/L | C32: 40 | D32: 180 | E32: 85 | F32: 130 | H32: =G32/0.1791 -> 0 | J32: =I32/0.1791 -> 0 | L32: =K32/0.1791 -> 0 | N32: =M32/0.1791 -> 0 | P32: =O32/0.1791 -> 0 | R32: =Q32/0.1791 -> 0 | T32: =S32/0.1791 -> 0 | V32: =U32/0.1791 -> 0 | X32: =W32/0.1791 -> 0 | Z32: =Y32/0.1791 -> 0 | AB32: =AA32/0.1791 -> 0 | AD32: =AC32/0.1791 -> 0 | AE32: Liver; hemochromotosis; excess consumption of iron; iron conversion problem (B-12, folic acid, B-6, molybdenum); chronic viral infection | AF32: Anemia; hypochlorhydria; internal bleeding | AG32: Serum ferritin, look at hemoglobin, hematocrit and MCV, HCL challenge if low
A33: Cholesterol, total, serum | B33: mmol/L | C33: 0.1 | D33: 200 | E33: 150 | F33: 200 | H33: =G33/0.02586 -> 0 | J33: =I33/0.02586 -> 0 | L33: =K33/0.02586 -> 0 | N33: =M33/0.02586 -> 0 | P33: =O33/0.02586 -> 0 | R33: =Q33/0.02586 -> 0 | T33: =S33/0.02586 -> 0 | V33: =U33/0.02586 -> 0 | X33: =W33/0.02586 -> 0 | Z33: =Y33/0.02586 -> 0 | AB33: =AA33/0.02586 -> 0 | AD33: =AC33/0.02586 -> 0 | AE33: Hypothyroid; adrenal stress; fat malabsorption; insulin resistance/diabetes; fatty liver; multiple sclerosis; trans fats | AF33: Oxidative stress; heavy metal/chemical overload; gallbladder; low fat diet; hyperthyroid; autoimmune; hyperadrenals | AG33: VAP; VLDL; C-reactive protein; homocysteine, imaging of heart
A34: Triglycerides, serum | B34: mmol/L | C34: 35 | D34: 160 | E34: 50 | F34: 100 | H34: =G34/0.01129 -> 0 | J34: =I34/0.01129 -> 0 | L34: =K34/0.01129 -> 0 | N34: =M34/0.01129 -> 0 | P34: =O34/0.01129 -> 0 | R34: =Q34/0.01129 -> 0 | T34: =S34/0.01129 -> 0 | V34: =U34/0.01129 -> 0 | X34: =W34/0.01129 -> 0 | Z34: =Y34/0.01129 -> 0 | AB34: =AA34/0.01129 -> 0 | AD34: =AC34/0.01129 -> 0 | AE34: Insulin resistance/diabetes; high sugar intake; liver; fat malabsorption; alcoholism; stress; hypothyroid | AF34: Fat malabsorption; low fat diet; hyperthyroid; autoimmune; hyper adrenals | AG34: Low sugar diet, avoid refined foods, optimize fat digestion (enzymes)
A35: High-density lipoprotein (HDL) cholesterol, serum | B35: mmol/L | C35: 40 | D35: - | E35: 55 | F35: - | H35: =G35/0.02586 -> 0 | J35: =I35/0.02586 -> 0 | L35: =K35/0.02586 -> 0 | N35: =M35/0.02586 -> 0 | P35: =O35/0.02586 -> 0 | R35: =Q35/0.02586 -> 0 | T35: =S35/0.02586 -> 0 | V35: =U35/0.02586 -> 0 | X35: =W35/0.02586 -> 0 | Z35: =Y35/0.02586 -> 0 | AB35: =AA35/0.02586 -> 0 | AD35: =AC35/0.02586 -> 0 | AE35: Autoimmune processes; estrogen dominance | AF35: Refined carbs; insulin resistance/diabetes; oxidative stress; heavy metal/chemical; fatty liver; hyperthyroid; sedentary lifestyle | AG35: Rule out estrogen dominance if high. If low, increase exercise
A36: Low-density lipoprotein (LDL) cholesterol, serum | B36: mmol/L | C36: 1 | D36: 130 | E36: 10 | F36: 99 | H36: =G36/0.02586 -> 0 | J36: =I36/0.02586 -> 0 | L36: =K36/0.02586 -> 0 | N36: =M36/0.02586 -> 0 | P36: =O36/0.02586 -> 0 | R36: =Q36/0.02586 -> 0 | T36: =S36/0.02586 -> 0 | V36: =U36/0.02586 -> 0 | X36: =W36/0.02586 -> 0 | Z36: =Y36/0.02586 -> 0 | AB36: =AA36/0.02586 -> 0 | AD36: =AC36/0.02586 -> 0 | AE36: Same as cholesterol | AG36: VAP; VLDL; C-reactive protein; homocysteine, imaging of heart
A37: Triglycerides/HDL ratio (calc) | B37: - | C37: 0.1 | D37: 3.7 | E37: 0.1 | F37: 3 | H37: =IF(ISERROR(H34/H35),0,H34/H35) -> 0 | J37: =IF(ISERROR(J34/J35),0,J34/J35) -> 0 | L37: =IF(ISERROR(L34/L35),0,L34/L35) -> 0 | N37: =IF(ISERROR(N34/N35),0,N34/N35) -> 0 | P37: =IF(ISERROR(P34/P35),0,P34/P35) -> 0 | R37: =IF(ISERROR(R34/R35),0,R34/R35) -> 0 | T37: =IF(ISERROR(T34/T35),0,T34/T35) -> 0 | V37: =IF(ISERROR(V34/V35),0,V34/V35) -> 0 | X37: =IF(ISERROR(X34/X35),0,X34/X35) -> 0 | Z37: =IF(ISERROR(Z34/Z35),0,Z34/Z35) -> 0 | AB37: =IF(ISERROR(AB34/AB35),0,AB34/AB35) -> 0 | AD37: =IF(ISERROR(AD34/AD35),0,AD34/AD35) -> 0 | AG37: Increase exercise if low: burst training, weights
A38: THYROID MARKERS
A39: Thyroid stimulating hormone (TSH), serum | B39: mlU/L | C39: 0.3 | D39: 5.7 | E39: 1.5 | F39: 3 | H39: =G39/1 -> 0 | J39: =I39/1 -> 0 | L39: =K39/1 -> 0 | N39: =M39/1 -> 0 | P39: =O39/1 -> 0 | R39: =Q39/1 -> 0 | T39: =S39/1 -> 0 | V39: =U39/1 -> 0 | X39: =W39/1 -> 0 | Z39: =Y39/1 -> 0 | AB39: =AA39/1 -> 0 | AD39: =AC39/1 -> 0 | AE39: Hypothyroidism | AF39: Hyperthyroid; hypopituitary; heavy metals | AG39: Additional testing: Total T4, Free T3 and Antibodies: Thyroid Peroxidase and Antithyroglobulin if high, Thyroid Stimulating Antibodies if low
A40: Thyroxine, total (T4 or TT4), serum | B40: nmol/L | C40: 4.5 | D40: 12.5 | E40: 6 | F40: 12 | H40: =G40/12.87 -> 0 | J40: =I40/12.87 -> 0 | L40: =K40/12.87 -> 0 | N40: =M40/12.87 -> 0 | P40: =O40/12.87 -> 0 | R40: =Q40/12.87 -> 0 | T40: =S40/12.87 -> 0 | V40: =U40/12.87 -> 0 | X40: =W40/12.87 -> 0 | Z40: =Y40/12.87 -> 0 | AB40: =AA40/12.87 -> 0 | AD40: =AC40/12.87 -> 0 | AE40: Hyperthyroidism, thyroid replacement medication | AF40: Hypothyroid, anterior pituitary dysfunction, iodine or selenium deficiency, deficiency of cofactors: B1 | AG40: Replenish nutrients, test for antibodies as per TSH follow-up
A41: Triiodothyronine (T3) Uptake, serum | B41: % | C41: 27 | D41: 37 | E41: 28 | F41: 38 | H41: =G41/0.01 -> 0 | J41: =I41/0.01 -> 0 | L41: =K41/0.01 -> 0 | N41: =M41/0.01 -> 0 | P41: =O41/0.01 -> 0 | R41: =Q41/0.01 -> 0 | T41: =S41/0.01 -> 0 | V41: =U41/0.01 -> 0 | X41: =W41/0.01 -> 0 | Z41: =Y41/0.01 -> 0 | AB41: =AA41/0.01 -> 0 | AD41: =AC41/0.01 -> 0 | AE41: Hyperthyroidism, thyroid replacement medication | AF41: Hypothyroid; deficiency of selenium or iodine | AG41: Further testing as per TSH
A42: Free thyroxine index (FTI), serum | B42: Total T4 X T3 uptake | C42: 1.2 | D42: 4.9 | E42: 1.2 | F42: 4.9 | H42: =G42 -> 0 | J42: =I42 -> 0 | L42: =K42 -> 0 | N42: =M42 -> 0 | P42: =O42 -> 0 | R42: =Q42 -> 0 | T42: =S42 -> 0 | V42: =U42 -> 0 | X42: =W42 -> 0 | Z42: =Y42 -> 0 | AB42: =AA42 -> 0 | AD42: =AC42 -> 0
A43: Total T3 or TT3 (total triiodothyronine), serum | B43: nmol/L | C43: 100 | D43: 180 | E43: 100 | F43: 180 | H43: =G43/0.01536 -> 0 | J43: =I43/0.01536 -> 0 | L43: =K43/0.01536 -> 0 | N43: =M43/0.01536 -> 0 | P43: =O43/0.01536 -> 0 | R43: =Q43/0.01536 -> 0 | T43: =S43/0.01536 -> 0 | V43: =U43/0.01536 -> 0 | X43: =W43/0.01536 -> 0 | Z43: =Y43/0.01536 -> 0 | AB43: =AA43/0.01536 -> 0 | AD43: =AC43/0.01536 -> 0
A44: Thyroxine, free (FT4), serum | B44: pmol/L | C44: 0.7 | D44: 2 | E44: 1 | F44: 1.5 | H44: =G44/12.87 -> 0 | J44: =I44/12.87 -> 0 | L44: =K44/12.87 -> 0 | N44: =M44/12.87 -> 0 | P44: =O44/12.87 -> 0 | R44: =Q44/12.87 -> 0 | T44: =S44/12.87 -> 0 | V44: =U44/12.87 -> 0 | X44: =W44/12.87 -> 0 | Z44: =Y44/12.87 -> 0 | AB44: =AA44/12.87 -> 0 | AD44: =AC44/12.87 -> 0 | AE44: Hyperthyroid; estrogen dominance; adrenal fatigue | AF44: Hypothyroid; iodine deficiency
A45: Free T3 or FT3 (triiodothyronine, free), serum | B45: pmol/L | C45: 2 | D45: 4.4 | E45: 3 | F45: 4.5 | H45: =G45/1.5362 -> 0 | J45: =I45/1.5362 -> 0 | L45: =K45/1.5362 -> 0 | N45: =M45/1.5362 -> 0 | P45: =O45/1.5362 -> 0 | R45: =Q45/1.5362 -> 0 | T45: =S45/1.5362 -> 0 | V45: =U45/1.5362 -> 0 | X45: =W45/1.5362 -> 0 | Z45: =Y45/1.5362 -> 0 | AB45: =AA45/1.5362 -> 0 | AD45: =AC45/1.5362 -> 0 | AE45: Hyperthyroid; iodine deficiency, T4 over conversion, excess testosterone | AF45: Hypothyroid; selenium deficiency, T4 under conversion, estrogen dominance | AG45: Test estrogen, testosterone, look for exogenous sources, i.e., birth control pills, hormone replacement therapy
A46: Reverse T3 (RT3 or Reverse Triiodothyronine), serum | B46: nmol/L | C46: 90 | D46: 350 | E46: 90 | F46: 350 | H46: =G46 -> 0 | J46: =I46 -> 0 | L46: =K46 -> 0 | N46: =M46 -> 0 | P46: =O46 -> 0 | R46: =Q46 -> 0 | T46: =S46 -> 0 | V46: =U46 -> 0 | X46: =W46 -> 0 | Z46: =Y46 -> 0 | AB46: =AA46 -> 0 | AD46: =AC46 -> 0 | AE46: Low Free T3 , insufficient T4 to T3 conversion | AF46: No specific significance | AG46: Full thyroid panel and nutritional replacement.
A47: Thyroxine-binding globulin (TBG), serum | B47: μmol/L | C47: 18 | D47: 27 | E47: 18 | F47: 27 | H47: =G47 -> 0 | J47: =I47 -> 0 | L47: =K47 -> 0 | N47: =M47 -> 0 | P47: =O47 -> 0 | R47: =Q47 -> 0 | T47: =S47 -> 0 | V47: =U47 -> 0 | X47: =W47 -> 0 | Z47: =Y47 -> 0 | AB47: =AA47 -> 0 | AD47: =AC47 -> 0 | AE47: Poor unbinding of thyroid hormones and insufficient levels of free hormones - excess estrogen | AG47: Full thyroid and hormone evaluation - birth control pills
A48: Thyroglobulin antibody screen (or anti-thyroglobulin), serum | B48: kIU/L | C48: 0 | D48: 1 | E48: 0 | F48: 1 | H48: =G48 -> 0 | J48: =I48 -> 0 | L48: =K48 -> 0 | N48: =M48 -> 0 | P48: =O48 -> 0 | R48: =Q48 -> 0 | T48: =S48 -> 0 | V48: =U48 -> 0 | X48: =W48 -> 0 | Z48: =Y48 -> 0 | AB48: =AA48 -> 0 | AD48: =AC48 -> 0 | AE48: Autoimmune thyroid, probably Hashimoto's | AF48: Normal is negative | AG48: Immune system balancing protocol, gluten and allergen free diet
A49: Thyroid peroxidase (TPO) antibodies, serum | B49: kIU/L | C49: 0 | D49: 34 | E49: 0 | F49: 2 | H49: =G49 -> 0 | J49: =I49 -> 0 | L49: =K49 -> 0 | N49: =M49 -> 0 | P49: =O49 -> 0 | R49: =Q49 -> 0 | T49: =S49 -> 0 | V49: =U49 -> 0 | X49: =W49 -> 0 | Z49: =Y49 -> 0 | AB49: =AA49 -> 0 | AD49: =AC49 -> 0 | AE49: Autoimmune thyroid, probably Hashimoto's | AF49: Normal is negative | AG49: Immune system balancing protocol, gluten and allergen free diet
A50: CBC MARKERS
A51: White blood cell (WBC) count, whole blood | B51: n x 10^9 cells/L | C51: 4 | D51: 10.5 | E51: 5 | F51: 8 | H51: =G51/1 -> 0 | J51: =I51/1 -> 0 | L51: =K51/1 -> 0 | N51: =M51/1 -> 0 | P51: =O51/1 -> 0 | R51: =Q51/1 -> 0 | T51: =S51/1 -> 0 | V51: =U51/1 -> 0 | X51: =W51/1 -> 0 | Z51: =Y51/1 -> 0 | AB51: =AA51/1 -> 0 | AD51: =AC51/1 -> 0 | AE51: Acute viral or bacteria infection; stress; highly refined diets; parasites | AF51: Chronic viral or bacterial infection; enzyme deficiency; lupus; raw food diet; deficiencies of B-6, B-12 and/or folic acid; food allergies; parasites | AG51: Further testing to determine source of infection, nutritional deficiency
A52: Red blood cell (RBC) count (female), whole blood | B52: n x 10^12 cells/L | C52: 3.9 | D52: 5.1 | E52: 3.9 | F52: 4.5 | H52: =G52/1 -> 0 | J52: =I52/1 -> 0 | L52: =K52/1 -> 0 | N52: =M52/1 -> 0 | P52: =O52/1 -> 0 | R52: =Q52/1 -> 0 | T52: =S52/1 -> 0 | V52: =U52/1 -> 0 | X52: =W52/1 -> 0 | Z52: =Y52/1 -> 0 | AB52: =AA52/1 -> 0 | AD52: =AC52/1 -> 0 | AE52: Dehydration; respiratory distress; Vitamin C deficiency; polycythemia vera | AF52: Anemia (iron, B-6, B-12 and/or folic acid); internal bleeding | AG52: Retest in 3 months, hydrate properly if high. If low, look at other markers and possibly test ferritin, iron, B12 -methylmalonic acid
A53: Red blood cell (RBC) count (male),whole blood | B53: n x 10^12 cells/L | C53: 3.9 | D53: 5.1 | E53: 4.2 | F53: 4.9 | H53: =G53/1 -> 0 | J53: =I53/1 -> 0 | L53: =K53/1 -> 0 | N53: =M53/1 -> 0 | P53: =O53/1 -> 0 | R53: =Q53/1 -> 0 | T53: =S53/1 -> 0 | V53: =U53/1 -> 0 | X53: =W53/1 -> 0 | Z53: =Y53/1 -> 0 | AB53: =AA53/1 -> 0 | AD53: =AC53/1 -> 0 | AE53: Dehydration; respiratory distress; Vitamin C deficiency; polycythemia vera | AF53: Anemia (iron, B-6, B-12 and/or folic acid); internal bleeding | AG53: Retest in 3 months, hydrate properly if high. If low, look at other markers and possibly test ferritin, iron, B12 -methlymalonic acid
A54: Hemoglobin (Hb) (female), whole blood | B54: g/L | C54: 12 | D54: 16 | E54: 13.5 | F54: 14.5 | H54: =G54/10 -> 0 | J54: =I54/10 -> 0 | L54: =K54/10 -> 0 | N54: =M54/10 -> 0 | P54: =O54/10 -> 0 | R54: =Q54/10 -> 0 | T54: =S54/10 -> 0 | V54: =U54/10 -> 0 | X54: =W54/10 -> 0 | Z54: =Y54/10 -> 0 | AB54: =AA54/10 -> 0 | AD54: =AC54/10 -> 0 | AE54: Asthma/emphysema; polycythemia vera; dehydration | AF54: Anemia; Vitamin C deficiency; digestive inflammation; internal bleeding; copper deficiency | AG54: Look at other markers - hct, rbc, mcv and test ferritin, iron
A55: Hemoglobin (Hb) (male), whole blood | B55: g/L | C55: 12 | D55: 16 | E55: 14 | F55: 15 | H55: =G55/10 -> 0 | J55: =I55/10 -> 0 | L55: =K55/10 -> 0 | N55: =M55/10 -> 0 | P55: =O55/10 -> 0 | R55: =Q55/10 -> 0 | T55: =S55/10 -> 0 | V55: =U55/10 -> 0 | X55: =W55/10 -> 0 | Z55: =Y55/10 -> 0 | AB55: =AA55/10 -> 0 | AD55: =AC55/10 -> 0 | AE55: Asthma/emphysema; polycythemia vera; dehydration | AF55: Anemia; Vitamin C deficiency; digestive inflammation; internal bleeding; copper deficiency | AG55: Look at other markers - hct, rbc, mcv and test ferritin, iron
A56: Hematocrit (female), whole blood | B56: % | C56: 36 | D56: 48.2 | E56: 37 | F56: 44 | H56: =G56/0.01 -> 0 | J56: =I56/0.01 -> 0 | L56: =K56/0.01 -> 0 | N56: =M56/0.01 -> 0 | P56: =O56/0.01 -> 0 | R56: =Q56/0.01 -> 0 | T56: =S56/0.01 -> 0 | V56: =U56/0.01 -> 0 | X56: =W56/0.01 -> 0 | Z56: =Y56/0.01 -> 0 | AB56: =AA56/0.01 -> 0 | AD56: =AC56/0.01 -> 0 | AE56: Asthma/emphysema; polycythemia vera; dehydration; spleen; deficiency of B-6; adrenal | AF56: Anemia; internal bleeding; digestion inflammation; thymus hypofunction; deficiencies of Vitamin C or thiamin (B-1); parasites | AG56: Look at other markers - hct, rbc, mcv and test ferritin, iron, rule out internal bleeding
A57: Hematocrit (male), whole blood | B57: % | C57: 36 | D57: 48.2 | E57: 40 | F57: 48 | H57: =G57/0.01 -> 0 | J57: =I57/0.01 -> 0 | L57: =K57/0.01 -> 0 | N57: =M57/0.01 -> 0 | P57: =O57/0.01 -> 0 | R57: =Q57/0.01 -> 0 | T57: =S57/0.01 -> 0 | V57: =U57/0.01 -> 0 | X57: =W57/0.01 -> 0 | Z57: =Y57/0.01 -> 0 | AB57: =AA57/0.01 -> 0 | AD57: =AC57/0.01 -> 0 | AE57: Asthma/emphysema; polycythemia vera; dehydration; spleen; deficiency of B-6; adrenal | AF57: Anemia; internal bleeding; digestion inflammation; thymus hypofunction; deficiencies of Vitamin C or thiamin (B-1); parasites | AG57: Look at other markers - hct, rbc, mcv and test ferritin, iron, rule out internal bleeding
A58: Mean corpuscular volume (MCV), whole blood | B58: fL | C58: 82 | D58: 103 | E58: 85 | F58: 92 | H58: =G58 -> 0 | J58: =I58 -> 0 | L58: =K58 -> 0 | N58: =M58 -> 0 | P58: =O58 -> 0 | R58: =Q58 -> 0 | T58: =S58 -> 0 | V58: =U58 -> 0 | X58: =W58 -> 0 | Z58: =Y58 -> 0 | AB58: =AA58 -> 0 | AD58: =AC58 -> 0 | AE58: Anemia (B-12/folic acid); hypochlohydria; Vitamin C deficiency; heavy metals; parasites | AF58: Anemia (iron/B-6); internal bleeding | AG58: Urinary methylmalonic acid to test B-12, or supplement (sublingual, patch or shot)
A59: Mean corpuscular hemoglobin (MCH), whole blood | B59: fmol/cell | C59: 27 | D59: 34 | E59: 27 | F59: 32 | H59: =G59 -> 0 | J59: =I59 -> 0 | L59: =K59 -> 0 | N59: =M59 -> 0 | P59: =O59 -> 0 | R59: =Q59 -> 0 | T59: =S59 -> 0 | V59: =U59 -> 0 | X59: =W59 -> 0 | Z59: =Y59 -> 0 | AB59: =AA59 -> 0 | AD59: =AC59 -> 0 | AE59: Anemia (B-12/folic acid); hypochlohydria | AF59: Anemia(iron/B-6); Vitamin C deficiency; internal bleeding; heavy metals body burden | AG59: Urinary methylmalonic acid to test B-12, or supplement (sublingual, patch or shot)
A60: Mean corpuscular hemoglobin concentrate (MCHC), blood | B60: mmol/L | C60: 30.9 | D60: 35.4 | E60: 32 | F60: 35 | H60: =G60/10 -> 0 | J60: =I60/10 -> 0 | L60: =K60/10 -> 0 | N60: =M60/10 -> 0 | P60: =O60/10 -> 0 | R60: =Q60/10 -> 0 | T60: =S60/10 -> 0 | V60: =U60/10 -> 0 | X60: =W60/10 -> 0 | Z60: =Y60/10 -> 0 | AB60: =AA60/10 -> 0 | AD60: =AC60/10 -> 0 | AE60: Anemia (B-12/folic acid); hypochlohydria | AF60: Anemia(iron/B-6); Vitamin C deficiency; internal bleeding; heavy metals body burden | AG60: Urinary methylmalonic acid to test B-12, or supplement (sublingual, patch or shot)
A61: Red blood cell distribution width (RDW or RCDW) | B61: % | C61: 10.8 | D61: 14.8 | E61: 0 | F61: 13 | H61: =G61 -> 0 | J61: =I61 -> 0 | L61: =K61 -> 0 | N61: =M61 -> 0 | P61: =O61 -> 0 | R61: =Q61 -> 0 | T61: =S61 -> 0 | V61: =U61 -> 0 | X61: =W61 -> 0 | Z61: =Y61 -> 0 | AB61: =AA61 -> 0 | AD61: =AC61 -> 0 | AE61: Deficiencies of iron, B-12 and/or folate; thalassemia | AF61: Blood loss anemia | AG61: Urinary methylmalonic acid to test B-12, or supplement (sublingual, patch or shot)
A62: Platelet count (thrombocytes), whole blood | B62: n x 10^9/L | C62: 150 | D62: 400 | E62: 150 | F62: 450 | H62: =G62/1 -> 0 | J62: =I62/1 -> 0 | L62: =K62/1 -> 0 | N62: =M62/1 -> 0 | P62: =O62/1 -> 0 | R62: =Q62/1 -> 0 | T62: =S62/1 -> 0 | V62: =U62/1 -> 0 | X62: =W62/1 -> 0 | Z62: =Y62/1 -> 0 | AB62: =AA62/1 -> 0 | AD62: =AC62/1 -> 0 | AE62: Atherosclerosis | AF62: Heavy metals, free radicals | AG62: Vitamin E and EFAs to thin blood if high, test for metals and improve antioxidants if low
A63: Neutrophils, whole blood, number fraction | B63: % | C63: 40 | D63: 78 | E63: 40 | F63: 60 | H63: =G63 -> 0 | J63: =I63 -> 0 | L63: =K63 -> 0 | N63: =M63 -> 0 | P63: =O63 -> 0 | R63: =Q63 -> 0 | T63: =S63 -> 0 | V63: =U63 -> 0 | X63: =W63 -> 0 | Z63: =Y63 -> 0 | AB63: =AA63 -> 0 | AD63: =AC63 -> 0 | AE63: Bacterial | AF63: Viral issue | AG63: Find root cause of inflammation/infection
A64: Lymphocytes, whole blood, number fraction | B64: % | C64: 15 | D64: 50 | E64: 25 | F64: 40 | H64: =G64 -> 0 | J64: =I64 -> 0 | L64: =K64 -> 0 | N64: =M64 -> 0 | P64: =O64 -> 0 | R64: =Q64 -> 0 | T64: =S64 -> 0 | V64: =U64 -> 0 | X64: =W64 -> 0 | Z64: =Y64 -> 0 | AB64: =AA64 -> 0 | AD64: =AC64 -> 0 | AE64: viral issue | AF64: bacterial | AG64: Find root cause of inflammation/infection
A65: Monocytes, whole blood, number fraction | B65: % | C65: 0 | D65: 13 | E65: 0 | F65: 7 | H65: =G65 -> 0 | J65: =I65 -> 0 | L65: =K65 -> 0 | N65: =M65 -> 0 | P65: =O65 -> 0 | R65: =Q65 -> 0 | T65: =S65 -> 0 | V65: =U65 -> 0 | X65: =W65 -> 0 | Z65: =Y65 -> 0 | AB65: =AA65 -> 0 | AD65: =AC65 -> 0 | AE65: Acute and healing and recovery stages, parasites, liver dysfunction, prostate | AF65: n/a | AG65: Find root cause of inflammation/infection
A66: Eosinophils, whole blood, number fraction | B66: % | C66: 0 | D66: 5 | E66: 0 | F66: 3 | H66: =G66 -> 0 | J66: =I66 -> 0 | L66: =K66 -> 0 | N66: =M66 -> 0 | P66: =O66 -> 0 | R66: =Q66 -> 0 | T66: =S66 -> 0 | V66: =U66 -> 0 | X66: =W66 -> 0 | Z66: =Y66 -> 0 | AB66: =AA66 -> 0 | AD66: =AC66 -> 0 | AE66: Allergy, parasites | AF66: n/a | AG66: Find root cause of inflammation/infection
A67: Basophils, whole blood, number fraction | B67: % | C67: 0 | D67: 5 | E67: 0 | F67: 1 | H67: =G67 -> 0 | J67: =I67 -> 0 | L67: =K67 -> 0 | N67: =M67 -> 0 | P67: =O67 -> 0 | R67: =Q67 -> 0 | T67: =S67 -> 0 | V67: =U67 -> 0 | X67: =W67 -> 0 | Z67: =Y67 -> 0 | AB67: =AA67 -> 0 | AD67: =AC67 -> 0 | AE67: Inflammation, parasites | AF67: n/a | AG67: Find root cause of inflammation/infection
A68: Neutrophils (absolute), whole blood | B68: n x 10^9/L | C68: 1.8 | D68: 7.8 | E68: 1.8 | F68: 7.8 | H68: =G68 -> 0 | J68: =I68 -> 0 | L68: =K68 -> 0 | N68: =M68 -> 0 | P68: =O68 -> 0 | R68: =Q68 -> 0 | T68: =S68 -> 0 | V68: =U68 -> 0 | X68: =W68 -> 0 | Z68: =Y68 -> 0 | AB68: =AA68 -> 0 | AD68: =AC68 -> 0 | AE68: Same as above | AF68: Same as above | AG68: Same as above
A69: Lymphocytes (absolute), whole blood | B69: n x 10^9/L | C69: 0.7 | D69: 4.5 | E69: 0.7 | F69: 4.5 | H69: =G69 -> 0 | J69: =I69 -> 0 | L69: =K69 -> 0 | N69: =M69 -> 0 | P69: =O69 -> 0 | R69: =Q69 -> 0 | T69: =S69 -> 0 | V69: =U69 -> 0 | X69: =W69 -> 0 | Z69: =Y69 -> 0 | AB69: =AA69 -> 0 | AD69: =AC69 -> 0 | AE69: Same as above | AF69: Same as above | AG69: Same as above
A70: Monocytes (absolute), whole blood | B70: n x 10^9/L | C70: 0.1 | D70: 1 | E70: 0.1 | F70: 1 | H70: =G70 -> 0 | J70: =I70 -> 0 | L70: =K70 -> 0 | N70: =M70 -> 0 | P70: =O70 -> 0 | R70: =Q70 -> 0 | T70: =S70 -> 0 | V70: =U70 -> 0 | X70: =W70 -> 0 | Z70: =Y70 -> 0 | AB70: =AA70 -> 0 | AD70: =AC70 -> 0 | AE70: Same as above | AF70: Same as above | AG70: Same as above
A71: Eosinophils (absolute), whole blood | B71: n x 10^9/L | C71: 0 | D71: 0.4 | E71: 0 | F71: 0.4 | H71: =G71 -> 0 | J71: =I71 -> 0 | L71: =K71 -> 0 | N71: =M71 -> 0 | P71: =O71 -> 0 | R71: =Q71 -> 0 | T71: =S71 -> 0 | V71: =U71 -> 0 | X71: =W71 -> 0 | Z71: =Y71 -> 0 | AB71: =AA71 -> 0 | AD71: =AC71 -> 0 | AE71: Same as above | AF71: Same as above | AG71: Same as above
A72: Basophils (absolute), whole blood | B72: n x 10^9/L | C72: 0 | D72: 0.2 | E72: 0 | F72: 0.2 | H72: =G72 -> 0 | J72: =I72 -> 0 | L72: =K72 -> 0 | N72: =M72 -> 0 | P72: =O72 -> 0 | R72: =Q72 -> 0 | T72: =S72 -> 0 | V72: =U72 -> 0 | X72: =W72 -> 0 | Z72: =Y72 -> 0 | AB72: =AA72 -> 0 | AD72: =AC72 -> 0 | AE72: Same as above | AF72: Same as above | AG72: Same as above
A73: ADDITIONAL MARKERS
A74: Homocysteine (female), plasma | B74: µmol/L | C74: 4 | D74: 10 | E74: 4 | F74: 10 | H74: =G74/7.397 -> 0 | J74: =I74/7.397 -> 0 | L74: =K74/7.397 -> 0 | N74: =M74/7.397 -> 0 | P74: =O74/7.397 -> 0 | R74: =Q74/7.397 -> 0 | T74: =S74/7.397 -> 0 | V74: =U74/7.397 -> 0 | X74: =W74/7.397 -> 0 | Z74: =Y74/7.397 -> 0 | AB74: =AA74/7.397 -> 0 | AD74: =AC74/7.397 -> 0 | AE74: Cardio vascular risk | AF74: n/a | AG74: Further lipid testing, VAP, CRP
A75: Homocysteine (male), plasma | B75: µmol/L | C75: 4 | D75: 12 | E75: 4 | F75: 12 | H75: =G75/7.397 -> 0 | J75: =I75/7.397 -> 0 | L75: =K75/7.397 -> 0 | N75: =M75/7.397 -> 0 | P75: =O75/7.397 -> 0 | R75: =Q75/7.397 -> 0 | T75: =S75/7.397 -> 0 | V75: =U75/7.397 -> 0 | X75: =W75/7.397 -> 0 | Z75: =Y75/7.397 -> 0 | AB75: =AA75/7.397 -> 0 | AD75: =AC75/7.397 -> 0 | AE75: Cardio vascular risk | AF75: n/a | AG75: Further lipid testing, VAP, CRP
A76: Erythrocyte sedimentation rate (ESR), plasma | B76: mm/hr | C76: 0 | D76: 20 | E76: 0 | F76: 20 | H76: =G76 -> 0 | J76: =I76 -> 0 | L76: =K76 -> 0 | N76: =M76 -> 0 | P76: =O76 -> 0 | R76: =Q76 -> 0 | T76: =S76 -> 0 | V76: =U76 -> 0 | X76: =W76 -> 0 | Z76: =Y76 -> 0 | AB76: =AA76 -> 0 | AD76: =AC76 -> 0 | AE76: Inflammation | AF76: n/a | AG76: Find source of inflammation
A77: hs-CRP (high-sensitivity C-reactive protein), serum | B77: g/L | C77: 0 | D77: 3 | E77: 0 | F77: 3 | H77: =G77 -> 0 | J77: =I77 -> 0 | L77: =K77 -> 0 | N77: =M77 -> 0 | P77: =O77 -> 0 | R77: =Q77 -> 0 | T77: =S77 -> 0 | V77: =U77 -> 0 | X77: =W77 -> 0 | Z77: =Y77 -> 0 | AB77: =AA77 -> 0 | AD77: =AC77 -> 0 | AE77: Inflammation, vascular inflammation, atherosclerosis | AF77: n/a | AG77: Find source of inflammation
A78: Apolipoprotein A-1, serum | B78: g/L | C78: 110 | D78: 162 | E78: 110 | F78: 162 | H78: =G78/0.01 -> 0 | J78: =I78/0.01 -> 0 | L78: =K78/0.01 -> 0 | N78: =M78/0.01 -> 0 | P78: =O78/0.01 -> 0 | R78: =Q78/0.01 -> 0 | T78: =S78/0.01 -> 0 | V78: =U78/0.01 -> 0 | X78: =W78/0.01 -> 0 | Z78: =Y78/0.01 -> 0 | AB78: =AA78/0.01 -> 0 | AD78: =AC78/0.01 -> 0 | AE78: Lipid disorder | AF78: n/a | AG78: Further lipid testing, VAP, CRP
A79: Apolipoprotein B, serum | B79: g/L | C79: 52 | D79: 109 | E79: 52 | F79: 109 | H79: =G79/0.01 -> 0 | J79: =I79/0.01 -> 0 | L79: =K79/0.01 -> 0 | N79: =M79/0.01 -> 0 | P79: =O79/0.01 -> 0 | R79: =Q79/0.01 -> 0 | T79: =S79/0.01 -> 0 | V79: =U79/0.01 -> 0 | X79: =W79/0.01 -> 0 | Z79: =Y79/0.01 -> 0 | AB79: =AA79/0.01 -> 0 | AD79: =AC79/0.01 -> 0 | AE79: Lipid disorder | AF79: n/a | AG79: Further lipid testing, VAP, CRP
A80: Reticulocytes count (female), whole blood | B80: % | C80: 0.5 | D80: 2.5 | E80: 0.5 | F80: 2.5 | H80: =G80/0.01 -> 0 | J80: =I80/0.01 -> 0 | L80: =K80/0.01 -> 0 | N80: =M80/0.01 -> 0 | P80: =O80/0.01 -> 0 | R80: =Q80/0.01 -> 0 | T80: =S80/0.01 -> 0 | V80: =U80/0.01 -> 0 | X80: =W80/0.01 -> 0 | Z80: =Y80/0.01 -> 0 | AB80: =AA80/0.01 -> 0 | AD80: =AC80/0.01 -> 0 | AE80: Hemolytic anemia (can be a sign of serious disease!) | AF80: Chronic anemia (deficiencies of B-6, B-12, folate and/or iron); hypoadrenal | AG80: Medical evaluation if high
A81: Reticulocytes count (male), whole blood | B81: % | C81: 0.5 | D81: 1.5 | E81: 0.5 | F81: 1.5 | H81: =G81/0.01 -> 0 | J81: =I81/0.01 -> 0 | L81: =K81/0.01 -> 0 | N81: =M81/0.01 -> 0 | P81: =O81/0.01 -> 0 | R81: =Q81/0.01 -> 0 | T81: =S81/0.01 -> 0 | V81: =U81/0.01 -> 0 | X81: =W81/0.01 -> 0 | Z81: =Y81/0.01 -> 0 | AB81: =AA81/0.01 -> 0 | AD81: =AC81/0.01 -> 0 | AE81: Hemolytic anemia (can be a sign of serious disease!) | AG81: Medical evaluation if high
A82: Hemoglobin A1C (glycated hemoglobin), whole blood | B82: % | C82: 4.8 | D82: 5.9 | E82: 4.5 | F82: 5 | H82: =G82/0.01 -> 0 | J82: =I82/0.01 -> 0 | L82: =K82/0.01 -> 0 | N82: =M82/0.01 -> 0 | P82: =O82/0.01 -> 0 | R82: =Q82/0.01 -> 0 | T82: =S82/0.01 -> 0 | V82: =U82/0.01 -> 0 | X82: =W82/0.01 -> 0 | Z82: =Y82/0.01 -> 0 | AB82: =AA82/0.01 -> 0 | AD82: =AC82/0.01 -> 0 | AE82: Diabetes/insulin resistance | AF82: Hypoglycemia | AG82: Low carb diet and retest
A83: Insulin, fasting, serum | B83: pmol/L | C83: 2 | D83: 25 | E83: 2 | F83: 5 | H83: =G83/6.945 -> 0 | J83: =I83/6.945 -> 0 | L83: =K83/6.945 -> 0 | N83: =M83/6.945 -> 0 | P83: =O83/6.945 -> 0 | R83: =Q83/6.945 -> 0 | T83: =S83/6.945 -> 0 | V83: =U83/6.945 -> 0 | X83: =W83/6.945 -> 0 | Z83: =Y83/6.945 -> 0 | AB83: =AA83/6.945 -> 0 | AD83: =AC83/6.945 -> 0 | AE83: Nothing indicated by too low hyperinsulinemia, diabetes, metabolic syndrome | AF83: Nothing indicated by too low
A84: Iron (transferrin) saturation (calc), female, serum | B84: iron serum/TIBC % | C84: 12 | D84: 45 | E84: 12 | F84: 45 | H84: =G84 -> 0 | J84: =I84 -> 0 | L84: =K84 -> 0 | N84: =M84 -> 0 | P84: =O84 -> 0 | R84: =Q84 -> 0 | T84: =S84 -> 0 | V84: =U84 -> 0 | X84: =W84 -> 0 | Z84: =Y84 -> 0 | AB84: =AA84 -> 0 | AD84: =AC84 -> 0 | AE84: Hemochromotosis; internal bleeding; deficiencies of B-6, B-12, folate and/or protein | AF84: Iron deficiency | AG84: Supplement as appropriate
A85: Iron (transferrin) saturation (calc), male, serum | B85: iron serum/TIBC % | C85: 15 | D85: 50 | E85: 15 | F85: 50 | H85: =G85 -> 0 | J85: =I85 -> 0 | L85: =K85 -> 0 | N85: =M85 -> 0 | P85: =O85 -> 0 | R85: =Q85 -> 0 | T85: =S85 -> 0 | V85: =U85 -> 0 | X85: =W85 -> 0 | Z85: =Y85 -> 0 | AB85: =AA85 -> 0 | AD85: =AC85 -> 0 | AE85: Hemochromotosis; internal bleeding; deficiencies of B-6, B-12, folate and/or protein | AF85: Iron deficiency | AG85: Supplement as appropriate
A86: Total iron binding capacity (TIBC), serum | B86: µmol/L | C86: 250 | D86: 390 | E86: 250 | F86: 350 | H86: =G86 -> 0 | J86: =I86 -> 0 | L86: =K86 -> 0 | N86: =M86 -> 0 | P86: =O86 -> 0 | R86: =Q86 -> 0 | T86: =S86 -> 0 | V86: =U86 -> 0 | X86: =W86 -> 0 | Z86: =Y86 -> 0 | AB86: =AA86 -> 0 | AD86: =AC86 -> 0 | AE86: Anemia; internal bleeding | AF86: Hemochromotosis; internal bleeding; low protein | AG86: Medical evaluation to rule out serious disease
A87: Transferrin, serum | B87: g/L | C87: 200 | D87: 360 | E87: 200 | F87: 360 | H87: =G87/0.01 -> 0 | J87: =I87/0.01 -> 0 | L87: =K87/0.01 -> 0 | N87: =M87/0.01 -> 0 | P87: =O87/0.01 -> 0 | R87: =Q87/0.01 -> 0 | T87: =S87/0.01 -> 0 | V87: =U87/0.01 -> 0 | X87: =W87/0.01 -> 0 | Z87: =Y87/0.01 -> 0 | AB87: =AA87/0.01 -> 0 | AD87: =AC87/0.01 -> 0
A88: Ferritin (female), serum | B88: µg/L | C88: 10 | D88: 235 | E88: 40 | F88: 110 | H88: =G88 -> 0 | J88: =I88 -> 0 | L88: =K88 -> 0 | N88: =M88 -> 0 | P88: =O88 -> 0 | R88: =Q88 -> 0 | T88: =S88 -> 0 | V88: =U88 -> 0 | X88: =W88 -> 0 | Z88: =Y88 -> 0 | AB88: =AA88 -> 0 | AD88: =AC88 -> 0 | AE88: Hemochromotosis; excess consumption of iron; inflammation; liver; oxidative stress | AF88: Anemia | AG88: If high, reduce iron intake , donate blood, evaluation for hemochromatosis
A89: Ferritin (male), serum | B89: µg/L | C89: 10 | D89: 235 | E89: 40 | F89: 200 | H89: =G89 -> 0 | J89: =I89 -> 0 | L89: =K89 -> 0 | N89: =M89 -> 0 | P89: =O89 -> 0 | R89: =Q89 -> 0 | T89: =S89 -> 0 | V89: =U89 -> 0 | X89: =W89 -> 0 | Z89: =Y89 -> 0 | AB89: =AA89 -> 0 | AD89: =AC89 -> 0 | AE89: Hemochromotosis; excess consumption of iron; inflammation; liver; oxidative stress | AF89: Anemia | AG89: If high, reduce iron intake , donate blood, evaluation for hemochromatosis
A90: Magnesium, serum | B90: mmol/L | C90: 1.3 | D90: 2.3 | E90: 2 | F90: 2.5 | H90: =G90/0.411 -> 0 | J90: =I90/0.411 -> 0 | L90: =K90/0.411 -> 0 | N90: =M90/0.411 -> 0 | P90: =O90/0.411 -> 0 | R90: =Q90/0.411 -> 0 | T90: =S90/0.411 -> 0 | V90: =U90/0.411 -> 0 | X90: =W90/0.411 -> 0 | Z90: =Y90/0.411 -> 0 | AB90: =AA90/0.411 -> 0 | AD90: =AC90/0.411 -> 0 | AE90: Kidney; hypothyroid | AF90: Muscle spasm; epilepsy; hyperadrenal; malabsorption | AG90: Food, supplementation
A91: VITAMINS
A92: Vitamin D, 25-Hydroxyvitamin D, serum | B92: nmol/L | C92: 32 | D92: 100 | E92: 70 | F92: 110 | H92: =G92/2.496 -> 0 | J92: =I92/2.496 -> 0 | L92: =K92/2.496 -> 0 | N92: =M92/2.496 -> 0 | P92: =O92/2.496 -> 0 | R92: =Q92/2.496 -> 0 | T92: =S92/2.496 -> 0 | V92: =U92/2.496 -> 0 | X92: =W92/2.496 -> 0 | Z92: =Y92/2.496 -> 0 | AB92: =AA92/2.496 -> 0 | AD92: =AC92/2.496 -> 0 | AE92: Excess Vitamin D intake, kidney stress | AF92: Insufficient Vitamin D intake, insufficient sunlight, kidney stress
A93: Vitamin B12, serum | B93: pmol/L | C93: 211 | D93: 911 | E93: 800 | F93: 1500 | H93: =G93/0.738 -> 0 | J93: =I93/0.738 -> 0 | L93: =K93/0.738 -> 0 | N93: =M93/0.738 -> 0 | P93: =O93/0.738 -> 0 | R93: =Q93/0.738 -> 0 | T93: =S93/0.738 -> 0 | V93: =U93/0.738 -> 0 | X93: =W93/0.738 -> 0 | Z93: =Y93/0.738 -> 0 | AB93: =AA93/0.738 -> 0 | AD93: =AC93/0.738 -> 0 | AE93: Excessive Vitamin B12 intake | AF93: Insufficient Vitamin B12 intake, insufficient stomach acid, intrinsic factor antibodies,
A95: Folate, serum | B95: nmol/L | C95: 5.4 | D95: - | E95: 5.4 | F95: - | H95: =G95/2.266 -> 0 | J95: =I95/2.266 -> 0 | L95: =K95/2.266 -> 0 | N95: =M95/2.266 -> 0 | P95: =O95/2.266 -> 0 | R95: =Q95/2.266 -> 0 | T95: =S95/2.266 -> 0 | V95: =U95/2.266 -> 0 | X95: =W95/2.266 -> 0 | Z95: =Y95/2.266 -> 0 | AB95: =AA95/2.266 -> 0 | AD95: =AC95/2.266 -> 0 | AE95: Excess intake | AF95: Dietary deficiency
A96: FATTY ACIDS - Blood Spot
A97: Alpha-linolenic acid (ALA) | B97: % | C97: 0.12 | D97: 0.72 | E97: 0.5 | F97: 0.72 | H97: =G97 -> 0 | J97: =I97 -> 0 | L97: =K97 -> 0 | N97: =M97 -> 0 | P97: =O97 -> 0 | R97: =Q97 -> 0 | T97: =S97 -> 0 | V97: =U97 -> 0 | X97: =W97 -> 0 | Z97: =Y97 -> 0 | AB97: =AA97 -> 0 | AD97: =AC97 -> 0 | AE97: Excess dietary consumption, low dietary consumption, decreased co-factors - B vitamins, Vitamin C, magnesium, zinc, copper | AF97: Low dietary consumption,
A98: Eicosapentaenoic acid (EPA) | B98: % | C98: 0.07 | D98: 1.43 | E98: 0.3 | F98: 1.43 | H98: =G98 -> 0 | J98: =I98 -> 0 | L98: =K98 -> 0 | N98: =M98 -> 0 | P98: =O98 -> 0 | R98: =Q98 -> 0 | T98: =S98 -> 0 | V98: =U98 -> 0 | X98: =W98 -> 0 | Z98: =Y98 -> 0 | AB98: =AA98 -> 0 | AD98: =AC98 -> 0 | AE98: Excess dietary consumption | AF98: Low dietary consumption, decreased co-factors - B vitamins, Vitamin C, magnesium, zinc, copper
A99: Docosahexaenoic acid (DHA) | B99: % | C99: 0.41 | D99: 2.55 | E99: 2 | F99: 2.55 | H99: =G99 -> 0 | J99: =I99 -> 0 | L99: =K99 -> 0 | N99: =M99 -> 0 | P99: =O99 -> 0 | R99: =Q99 -> 0 | T99: =S99 -> 0 | V99: =U99 -> 0 | X99: =W99 -> 0 | Z99: =Y99 -> 0 | AB99: =AA99 -> 0 | AD99: =AC99 -> 0 | AE99: Excess dietary consumption of fish or fish oils | AF99: Low dietary consumption, decreased co-factors - B vitamins, Vitamin C, magnesium, zinc, copper
A100: Linoleic acid (LA) | B100: % | C100: 10.9 | D100: 19.4 | E100: 12 | F100: 16 | H100: =G100 -> 0 | J100: =I100 -> 0 | L100: =K100 -> 0 | N100: =M100 -> 0 | P100: =O100 -> 0 | R100: =Q100 -> 0 | T100: =S100 -> 0 | V100: =U100 -> 0 | X100: =W100 -> 0 | Z100: =Y100 -> 0 | AB100: =AA100 -> 0 | AD100: =AC100 -> 0 | AE100: Excess consumption, low cofactors for conversion to GLA due to low B vitamins, magnesium, vitamin C, copper, zinc | AF100: Insufficient dietary consumption
A101: Gamma linolenic acid (GLA) | B101: % | C101: 0.04 | D101: 0.27 | E101: 0.15 | F101: 0.18 | H101: =G101 -> 0 | J101: =I101 -> 0 | L101: =K101 -> 0 | N101: =M101 -> 0 | P101: =O101 -> 0 | R101: =Q101 -> 0 | T101: =S101 -> 0 | V101: =U101 -> 0 | X101: =W101 -> 0 | Z101: =Y101 -> 0 | AB101: =AA101 -> 0 | AD101: =AC101 -> 0 | AE101: Dietary, supplementation excess | AF101: If ALA is high, poor conversion of ALA due to low cofactors - B vitamins, zinc, copper, magnesium. If ALA normal or low, it's probably due to dietary deficiency
...

Sheet Lab Results - U.S.
A1: Lab Results - U.S. Lab Results - U.S. Lab Results - U.S.
A2: INSTRUCTIONS For U.S. Lab Spreadsheet: Enter the numbers from your lab test into the column labelled "Results". Be sure to put the date in the columns. You can enter up to 12 different lab results. Cells change color according to the US ranges: **Green (or white in older versions of Excel) means within ideal range, **Yellow means outside ideal range, within lab range **Orange means outside lab range
A3: Client Name | B3: ='Appointment Tracker'!$B$2 -> ClientNameHere
A4: Coach Name | B4: ='Appointment Tracker'!$D$2 -> YourNameHere
A5: CATEGORIES | B5: Units | C5: LAB RANGE | E5: IDEAL RANGE | G5: DATE | H5: DATE | I5: DATE | J5: DATE | K5: DATE | L5: DATE | M5: DATE | N5: DATE | O5: DATE | P5: DATE | Q5: DATE | R5: DATE
C6: Min | D6: Max | E6: Min | F6: Max | S6: Possible Interpretation
A7: Lab Markers | G7: Results | H7: Results | I7: Results | J7: Results | K7: Results | L7: Results | M7: Results | N7: Results | O7: Results | P7: Results | Q7: Results | R7: Results | S7: High | T7: Low | U7: Follow-up
A8: Glucose, serum | B8: mg/dL | C8: 65 | D8: 110 | E8: 75 | F8: 89 | S8: Diabetes; insulin resistance; thiamin deficiency; stress; liver. | T8: Hypoglycemia; low adrenal | U8: Test fasting insulin, hemoglobin A1C
A9: Uric acid, serum (female) | B9: mg/dL | C9: 1.8 | D9: 7 | E9: 3.2 | F9: 5.5 | S9: Gout; atherosclerosis; oxidative stress; rheumatoid arthritis; kidney; circulation; leaky gut syndrome | T9: Deficiency of molybdenum, B-12/folate and/or copper | U9: If high, evaluate for signs and symptoms of joint pain. If low, check for other signs of B12 deficiency and mineral deficiency (home tests)
A10: Uric acid, serum (male) | B10: mg/dL | C10: 1.8 | D10: 7 | E10: 3.7 | F10: 6 | S10: Gout; atherosclerosis; oxidative stress; rheumatoid arthritis; kidney; circulation; leaky gut syndrome | T10: Deficiency of molybdenum, B-12/folate and/or copper | U10: If high, evaluate for signs and symptoms of joint pain. If low, check for other signs of B12 deficiency and mineral deficiency (home tests)
A11: Blood urea nitrogen (BUN), serum | B11: mg/dL | C11: 8 | D11: 28 | E11: 13 | F11: 18 | S11: Malabsorption; kidney issues; dehydration; excessive protein intake; hyperadrenal | T11: Malabsorption; liver dysfunction; low protein diet | U11: HCl challenge, enzymes, optimize digestion
A12: Creatinine, serum | B12: mg/dL | C12: 0.5 | D12: 1.2 | E12: 0.7 | F12: 1.1 | S12: Urinary tract congestion/obstruction; kidneys; prostate | T12: Muscle wasting; malabsorption | U12: HCl challenge, enzymes, optimize digestion
A13: Estimated glomerular filtration rate (eGFR), serum | B13: mL/min/1.73 m^2 | C13: 59 | D13: - | E13: 59 | F13: - | U13: referral to kidney specialist
A14: Estimated glomerular filtration rate (eGFR) (African American), serum | B14: mL/min/1.73 m^2 | C14: 59 | D14: - | E14: 59 | F14: - | U14: referral to kidney specialist
A15: BUN/Creatinine Ratio | B15: - | C15: 8 | D15: 27 | E15: 8 | F15: 27 | S15: See BUN & Creatinine | T15: See BUN & Creatinine | U15: HCl challenge, enzymes, optimize digestion
A16: Sodium, serum | B16: mEq/L | C16: 135 | D16: 148 | E16: 135 | F16: 140 | S16: Hyperadrenal; dehydration | T16: Hypoadrenal; edema; laxative use | U16: check for signs of edema or dehydration, Adrenal Stress Index Test, HeartMath and other stress management skills
A17: Potassium, serum | B17: mEq/L | C17: 3.5 | D17: 5.5 | E17: 4 | F17: 4.5 | S17: Hypoadrenal; dehydration; acidosis | T17: Hyperadrenal; hypertension; diuretics | U17: Check for signs of edema or dehydration, Adrenal Stress Index Test, HeartMath and other stress management skills
A18: Chloride, serum, plasma | B18: mEq/L | C18: 99 | D18: 111 | E18: 100 | F18: 106 | S18: Acidosis; hyperadrenal | T18: Hypochlorhydria; alkalosis; hypoadrenal | U18: HCl challenge, ph monitoring and appropriate diet changes, Adrenal Stress Index Test, HeartMath and other stress management skills
A19: Carbon dioxide, total, serum | B19: mEq/L | C19: 19 | D19: 31 | E19: 25 | F19: 30 | S19: Alkalosis; hyperadrenal; hypochlorhydria; respiratory distress | T19: Acidosis; thiamin (B-1) deficiency; hyperventilation | U19: pH monitoring and appropriate diet changes, HCl challenge
A20: Calcium, serum | B20: mg/dL | C20: 8.7 | D20: 10.5 | E20: 9.2 | F20: 10.1 | S20: Hypothyroid; vitamin D excess; hypoadrenal; hyper- parathyroid | T20: Hypochlorhydria; hypoparathyroid;deficiency of vitamin D, essential fatty acids, or calcium | U20: Check serum vitamin D, HCl challenge, optimize omega 6 to 3 fat ratio per the chart and consider blood spot fatty acid test
A21: Phosphorus, serum | B21: mg/dL | C21: 2.3 | D21: 4.8 | E21: 3.5 | F21: 4 | S21: Hypoparathyroid; fracture; excess vitamin D intake; excess dietary phosphate (soda); kidney | T21: Hyper parathyroid; hypochlorhydria; hyperinsulin; high carb diet; vitamin D deficiency | U21: Test and adjust vitamin D supplementation, HCl challenge, enzymes, optimize digestion
A22: Protein, total, serum | B22: g/dL | C22: 6.2 | D22: 8.3 | E22: 6.9 | F22: 7.4 | S22: Dehydration | T22: Hypochlorhydria; poor digestion; GI inflammation; liver; low protein diet | U22: Protein intake, HCl challenge, enzymes, optimize digestion, supplement with raw protein powder (Sunwarrior, Warrior Food, Vitamin Code raw protein) until digestive status is optimized
A23: Albumin, serum | B23: g/dL | C23: 3.8 | D23: 5 | E23: 4 | F23: 5 | S23: Dehydration | T23: Hypochlorhydria; liver; oxidative stress; vitamin C deficiency | U23: Rule out liver problems, check protein intake, HCl challenge, enzymes, optimize digestion, supplement with raw protein powder (Sunwarrior, Warrior Food, Vitamin Code raw protein) until digestive status is optimized, anti-inflammatory diet
A24: Globulin, total, serum | B24: g/dL | C24: 2 | D24: 3.8 | E24: 2.4 | F24: 2.8 | S24: Hypochlorhydria; liver; oxidative stress; metals/chemicals; autoimmune/allergy | T24: Poor digestion; GI inflammation; low immunity | U24: Rule out liver problems, check protein intake, HCl challenge, enzymes, optimize digestion, supplement with raw protein powder (Sunwarrior, Warrior Food, Vitamin Code raw protein) until digestive status is optimized, anti-inflammatory diet
A25: A/G Ratio | B25: calc | C25: 1.1 | D25: 2.3 | E25: 1.5 | F25: 2 | S25: See Globulin & Albumin | T25: See Globulin & Albumin
A26: Bilirubin, serum, total | B26: mg/dL | C26: 0.1 | D26: 1.5 | E26: 0.2 | F26: 1.2 | S26: Liver/gallbladder; thymus; oxidative stress; RBC hemolysis; Gilbert's syndrome | T26: Spleen | U26: Check liver
A27: Alkaline phosphatase, serum | B27: U/L | C27: 27 | D27: 142 | E27: 70 | F27: 90 | S27: Liver/gall bladder; bone loss/disease; leaky gut syndrome; shingles; vitamin C deficiency | T27: Estrogen dominance; zinc and/or B-6 deficiency; malabsorption; hypothyroid/adrenal | U27: If >120, do isoenzymes
A28: Lactate dehydrogenase (LDH), serum | B28: U/L | C28: 89 | D28: 215 | E28: 140 | F28: 180 | S28: Liver/gall bladder; heart; B12/folate deficiency; inflammation; tissue destruction; viral infection | T28: Hypoglycemia | U28: Isoenzymes if high
A29: Aspartate aminotransferase (AST) (SGOT), serum | B29: U/L | C29: 1 | D29: 45 | E29: 10 | F29: 26 | S29: Liver; heart; muscle breakdown; mono/EBV/CMV | T29: Vitamin B-6 deficiency; alcoholism | U29: If the SGOT is elevated above SGPT, look outside of liver
A30: Alanine aminotransferase (ALT) (SGPT), serum | B30: U/L | C30: 1 | D30: 55 | E30: 10 | F30: 26 | S30: Liver/gall bladder; muscle breakdown; alcoholism | T30: Vitamin B-6 deficiency; early fatty liver; alcoholism | U30: If the SGOT is elevated above SGPT, look outside of liver
A31: Gamma-glutamyltransferase (GGT), serum | B31: U/L | C31: 5 | D31: 52 | E31: 10 | F31: 26 | S31: Liver/gall bladder; pancreas (including insufficiency); excess alcohol; | T31: Vitamin B-6 and/or magnesium deficiency; malabsorption; hypothyroid; oral contraceptives | U31: If GGT is elevated above SGOT & SGPT, problem is more likely in gall bladder, bile ducts & pancreas
A32: Iron, serum | B32: µg/dL | C32: 40 | D32: 180 | E32: 85 | F32: 130 | S32: Liver; hemochromotosis; excess consumption of iron; iron conversion problem (B-12, folic acid, B-6, molybdenum); chronic viral infection | T32: Anemia; hypochlorhydria; internal bleeding | U32: Serum ferritin, look at hemoglobin, hematocrit and MCV, HCL challenge if low
A33: Cholesterol, total, serum | B33: mg/dL | C33: 0.1 | D33: 200 | E33: 150 | F33: 200 | S33: Hypothyroid; adrenal stress; fat malabsorption; insulin resistance/diabetes; fatty liver; multiple sclerosis; trans fats | T33: Oxidative stress; heavy metal/chemical overload; gallbladder; low fat diet; hyperthyroid; autoimmune; hyperadrenals | U33: VAP; VLDL; C-reactive protein; homocysteine, imaging of heart
A34: Triglycerides, serum | B34: mg/dL | C34: 35 | D34: 160 | E34: 50 | F34: 100 | S34: Insulin resistance/diabetes; high sugar intake; liver; fat malabsorption; alcoholism; stress; hypothyroid | T34: Fat malabsorption; low fat diet; hyperthyroid; autoimmune; hyper adrenals | U34: low sugar diet, avoid refined foods, optimize fat digestion (enzymes)
A35: Cholesterol, high-density lipoprotein (HDL) (low level), serum | B35: mg/dL | C35: 40 | D35: 110 | E35: 55 | F35: 110 | S35: Autoimmune processes; estrogen dominance | T35: Refined carbs; insulin resistance/diabetes; oxidative stress; heavy metal/chemical; fatty liver; hyperthyroid; sedentary lifestyle | U35: Rule out estrogen dominance, if high. If low, increase exercise
A36: Cholesterol, low-density lipoprotein (LDL) (high-level), serum | B36: mg/dL | C36: 1 | D36: 130 | E36: 10 | F36: 99 | S36: Insulin resistance/diabetes; high sugar intake; liver; fat malabsorption; alcoholism; stress; hypothyroid | U36: VAP; VLDL; C-reactive protein; homocysteine, imaging of heart
A37: Triglycerides/HDL ratio, calc | B37: - | C37: 0.318 | D37: 4 | E37: 0.75 | F37: 1.25 | G37: =IF(ISERROR(G34/G35),0,G34/G35) -> 0 | H37: =IF(ISERROR(H34/H35),0,H34/H35) -> 0 | I37: =IF(ISERROR(I34/I35),0,I34/I35) -> 0 | J37: =IF(ISERROR(J34/J35),0,J34/J35) -> 0 | K37: =IF(ISERROR(K34/K35),0,K34/K35) -> 0 | L37: =IF(ISERROR(L34/L35),0,L34/L35) -> 0 | M37: =IF(ISERROR(M34/M35),0,M34/M35) -> 0 | N37: =IF(ISERROR(N34/N35),0,N34/N35) -> 0 | ... R37: =IF(ISERROR(R34/R35),0,R34/R35) -> 0 | U37: Increase exercise if low: burst training, weights
A38: THYROID MARKERS
A39: Thyroid-stimulating hormone (TSH), serum | B39: μIU/mL | C39: 0.3 | D39: 5.7 | E39: 1.5 | F39: 3 | S39: Hypothyroidism | T39: Hyperthyroid; hypopituitary; heavy metals | U39: Additional testing: Total T4, Free T3 and antibodies: thyroid peroxidase (TPO) and Antithyroglobulin if high, thyroid stimulating antibodies, if low
A40: Thyroxine, total, (T4 or TT4), serum | B40: µg/mL | C40: 4.5 | D40: 12.5 | E40: 6 | F40: 12 | S40: Hyperthyroidism, thyroid replacement medication | T40: Hypothyroid, anterior pituitary dysfunction, iodine or selenium deficiency, deficiency of cofactors: B1 | U40: Replenish nutrients, test for antibodies as per TSH follow-up
A41: Triiodothyronine (T3) uptake, serum | B41: % | C41: 27 | D41: 37 | E41: 28 | F41: 38 | S41: Hyperthyroidism, thyroid replacement medication | T41: Hypothyroid; deficiency of selenium or iodine | U41: Further testing as per TSH
A42: Free Thyroxine Index (FTI), serum | C42: 1.2 | D42: 4.9 | E42: 1.2 | F42: 4.9
A43: Total T3 or TT3 (total triiodothyronine), serum | B43: ng/dL | C43: 100 | D43: 180 | E43: 100 | F43: 180
A44: Thyroxine, free (FT4), serum | B44: ng/dL | C44: 0.7 | D44: 2 | E44: 1 | F44: 1.5 | S44: Hyperthyroid; estrogen dominance; adrenal fatigue | T44: Hypothyroid; iodine deficiency
A45: Free T3 or FT3 (triiodothyronine, free), serum | B45: pg/dL | C45: 2 | D45: 4.4 | E45: 3 | F45: 4.5 | S45: Hyperthyroid; iodine deficiency, T4 over conversion, excess testosterone | T45: Hypothyroid; selenium deficiency, T4 under conversion, estrogen dominance | U45: Test estrogen, testosterone, look for exogenous sources, i.e., birth control pills, hormone replacement therapy
A46: Reverse T3 (RT3 or Reverse Triiodothyronine), serum | B46: ng/dL | C46: 90 | D46: 350 | E46: 90 | F46: 350 | S46: Low Free T3 , insufficient T4 to T3 conversion | T46: No specific significance | U46: Full thyroid panel and nutritional replacement.
A47: Thyroxine-binding globulin (TBG), serum | B47: µg/m | C47: 18 | D47: 27 | E47: 18 | F47: 27 | S47: Poor unbinding of thyroid hormones and insufficient levels of free hormones - excess estrogen | U47: Full thyroid and hormone evaluation - birth control pills
A48: Thyroglobulin antibody screen (or antithyroglobulin), serum | B48: IU/mL | C48: 0 | D48: 1 | E48: 0 | F48: 1 | S48: Autoimmune thyroid, probably Hashimoto's | T48: Normal is negative | U48: Immune system balancing protocol, gluten and allergen free diet
A49: Thyroid peroxidase (TPO) antibodies, serum | B49: IU/mL | C49: 0 | D49: 34 | E49: 0 | F49: 2 | S49: Autoimmune thyroid, probably Hashimoto's | T49: Normal is negative | U49: Immune system balancing protocol, gluten and allergen free diet
A50: CBC MARKERS
A51: White blood cell count (WBC), whole blood | B51: /µL | C51: 4 | D51: 10.5 | E51: 5 | F51: 8 | S51: Acute viral or bacterial infection; stress; highly refined diets; parasites | T51: Chronic viral or bacterial infection; enzyme deficiency; lupus; raw food diet; deficiencies of B-6, B-12 and/or folic acid; food allergies; parasites | U51: Further testing to determine source of infection, nutritional deficiency
A52: Red blood cell count (RBC) (female), whole blood | B52: x10^6/µL | C52: 3.9 | D52: 5.1 | E52: 3.9 | F52: 4.5 | S52: Dehydration; respiratory distress; vitamin C deficiency; polycythemia vera | T52: Anemia (iron, B-6, B-12 and/or folic acid); internal bleeding | U52: Retest in 3 months, hydrate properly if high. If low, look at other markers and possibly test ferritin, iron, B12 -methylmalonic acid
A53: Red blood cell count (RBC) (male), whole blood | B53: x10^6/µL | C53: 3.9 | D53: 5.1 | E53: 4.2 | F53: 4.9 | S53: Dehydration; respiratory distress; vitamin C deficiency; polycythemia vera | T53: Anemia (iron, B-6, B-12 and/or folic acid); internal bleeding | U53: Retest in 3 months, hydrate properly, if high. If low, look at other markers and possibly test ferritin, iron, B12 -methlymalonic acid
A54: Hemoglobin (Hb) (female), whole blood | B54: g/dL | C54: 12 | D54: 16 | E54: 13.5 | F54: 14.5 | S54: Asthma/emphysema; polycythemia vera; dehydration | T54: Anemia; vitamin C deficiency; digestive inflammation; internal bleeding; copper deficiency | U54: Look at other markers - hct, rbc, mcv and test ferritin, iron
A55: Hemoglobin (Hb) (male), whole blood | B55: g/dL | C55: 12 | D55: 16 | E55: 14 | F55: 15 | S55: Asthma/emphysema; polycythemia vera; dehydration | T55: Anemia; vitamin C deficiency; digestive inflammation; internal bleeding; copper deficiency | U55: Look at other markers - hct, rbc, mcv and test ferritin, iron
A56: Hematocrit (female), whole blood | B56: % | C56: 36 | D56: 48.2 | E56: 37 | F56: 44 | S56: Asthma/emphysema; polycythemia vera; dehydration; spleen; deficiency of B-6; adrenal | T56: Anemia; internal bleeding; digestion inflammation; thymus hypofunction; deficiencies of vitamin C or thiamin (B-1); parasites | U56: Look at other markers - hct, rbc, mcv and test ferritin, iron, rule out internal bleeding
A57: Hematocrit (male), whole blood | B57: % | C57: 36 | D57: 48.2 | E57: 40 | F57: 48 | S57: Asthma/emphysema; polycythemia vera; dehydration; spleen; deficiency of B-6; adrenal | T57: Anemia; internal bleeding; digestion inflammation; thymus hypofunction; deficiencies of vitamin C or thiamin (B-1); parasites | U57: look at other markers - hct, rbc, mcv and test ferritin, iron, rule out internal bleeding
A58: Mean corpuscular volume (MCV), whole blood | B58: µm^3 | C58: 82 | D58: 103 | E58: 85 | F58: 92 | S58: Anemia (B-12/folic acid); hypochlohydria; vitamin C deficiency; heavy metals; parasites | T58: Anemia (iron/B-6); internal bleeding | U58: Urinary methylmalonic acid to test B-12, or supplement (sublingual, patch, or shot)
A59: Mean corpuscular hemoglobin (MCH), whole blood | B59: pg/cell | C59: 27 | D59: 34 | E59: 27 | F59: 32 | S59: Anemia (B-12/folic acid); hypochlohydria | T59: Anemia(iron/B-6); vitamin C deficiency; internal bleeding; heavy metals body burden | U59: Urinary methylmalonic acid to test B-12, or supplement (sublingual, patch, or shot)
A60: Mean corpuscular hemoglobin concentration (MCHC), whole blood | B60: g/dL | C60: 30.9 | D60: 35.4 | E60: 32 | F60: 35 | S60: Anemia (B-12/folic acid); hypochlohydria | T60: Anemia(iron/B-6); vitamin C deficiency; internal bleeding; heavy metals body burden | U60: Urinary methylmalonic acid to test B-12, or supplement (sublingual, patch, or shot)
A61: Red blood cell distribution width (RDW or RCDW) | B61: % | C61: 10.8 | D61: 14.8 | E61: 0 | F61: 13 | S61: Deficiencies of iron, B-12 and/or folate; thalassemia | T61: Blood loss anemia | U61: Urinary methylmalonic acid to test B-12, or supplement (sublingual, patch or shot)
A62: Platelet count (thrombocytes), whole blood | B62: ×10^3/µL | C62: 150 | D62: 400 | E62: 150 | F62: 450 | S62: Atherosclerosis | T62: heavy metals, free radicals | U62: Vitamin E and EFAs to thin blood if high, test for metals and improve antioxidants, if low
... A72: Basophils (absolute), whole blood | B72: /µL | C72: 0 | D72: 0.2 | E72: 0 | F72: 0.2 | S72: Same as above | T72: Same as above | U72: Same as above
A73: ADDITIONAL MARKERS
A74: Homocysteine (female), plasma | B74: mg/L | C74: 4 | D74: 10 | E74: 4 | F74: 10 | S74: Cardiovascular risk | T74: n/a | U74: Further lipid testing, VAP, CRP
A75: Homocysteine (male), plasma | B75: mg/L | C75: 4 | D75: 12 | E75: 4 | F75: 12 | S75: Cardiovascular risk | T75: n/a | U75: Further lipid testing, VAP, CRP
A76: Erythrocyte sedimentation rate (ESR), plasma | B76: mm/hr | C76: 0 | D76: 20 | E76: 0 | F76: 20 | S76: Inflammation | T76: n/a | U76: Find source of inflammation
A77: hs-CRP (high-sensitivity C-reactive protein), serum | B77: mg/L | C77: 0 | D77: 3 | E77: 0 | F77: 3 | S77: Inflammation, vascular inflammation, atherosclerosis | T77: n/a | U77: Find source of inflammation
A78: Apolipoprotein A-1,serum | B78: mg/dL | C78: 110 | D78: 162 | E78: 110 | F78: 162 | S78: Lipid disorder | T78: n/a | U78: Further lipid testing, VAP, CRP
A79: Apolipoprotein B, serum | B79: mg/dL | C79: 52 | D79: 109 | E79: 52 | F79: 109 | S79: Lipid disorder | T79: n/a | U79: Further lipid testing, VAP, CRP
A80: Reticulocytes count (female), whole blood | B80: % | C80: 0.5 | D80: 2.5 | E80: 0.5 | F80: 2.5 | S80: Hemolytic anemia (can be a sign of serious disease!) | T80: Chronic anemia (deficiencies of B-6, B-12, folate and/or iron); hypoadrenal | U80: Medical evaluation if high
A81: Reticulocytes count (male), whole blood | B81: % | C81: 0.5 | D81: 1.5 | E81: 0.5 | F81: 1.5 | S81: Hemolytic anemia (can be a sign of serious disease!) | U81: Medical evaluation if high
A82: Hemoglobin A1C (glycated hemoglobin), whole blood | B82: % of total hemoglobin | C82: 4.8 | D82: 5.9 | E82: 4.5 | F82: 5 | S82: Diabetes/insulin resistance | T82: Hypoglycemia | U82: Low carb diet and retest
A83: Insulin, fasting, serum | B83: µIU/mL | C83: 2 | D83: 25 | E83: 2 | F83: 5 | S83: Nothing indicated by too low, hyperinsulinemia, diabetes, metabolic syndrome | T83: Nothing indicated by too low
A84: Iron (transferrin) saturation (calc), female, serum | B84: % - iron serum/TIBC | C84: 12 | D84: 45 | E84: 12 | F84: 45 | S84: Hemochromotosis; internal bleeding; deficiencies of B-6, B-12, folate and/or protein | T84: Iron deficiency | U84: Supplement as appropriate
A85: Iron (transferrin) saturation (calc), male, serum | B85: % - iron serum/TIBC | C85: 15 | D85: 50 | E85: 15 | F85: 50 | S85: Hemochromotosis; internal bleeding; deficiencies of B-6, B-12, folate and/or protein | T85: Iron deficiency | U85: Supplement as appropriate
A86: TIBC - total iron binding capacity, serum | B86: mcg/dL | C86: 250 | D86: 390 | E86: 250 | F86: 350 | S86: Anemia; internal bleeding | T86: Hemochromotosis; internal bleeding; low protein | U86: medical evaluation to rule out serious disease
A87: Transferrin, serum | B87: mg/dL | C87: 200 | D87: 360 | E87: 200 | F87: 360
A88: Ferritin (female), serum | B88: ng/mL | C88: 10 | D88: 235 | E88: 40 | F88: 110 | S88: Hemochromotosis; excess consumption of iron; inflammation; liver; oxidative stress | T88: Anemia | U88: If high, reduce iron intake , donate blood, evaluation for hemochromatosis
A89: Ferritin (male), serum | B89: ng/mL | C89: 10 | D89: 235 | E89: 40 | F89: 200 | S89: Hemochromotosis; excess consumption of iron; inflammation; liver; oxidative stress | T89: Anemia | U89: If high, reduce iron intake , donate blood, evaluation for hemochromatosis
A90: Magnesium, serum | B90: mEq/L | C90: 1.3 | D90: 2.3 | E90: 2 | F90: 2.5 | S90: Kidney; hypothyroid | T90: Muscle spasm; epilepsy; hyperadrenal; malabsorption | U90: Food, supplementation
A91: VITAMINS
A92: Vitamin D, 25-hydroxyvitamin D, serum | B92: ng/mL | C92: 32 | D92: 100 | E92: 70 | F92: 100 | S92: Excess vitamin D intake, kidney stress | T92: Insufficient vitamin D Intake, insufficient sunlight, kidney stress
A93: Vitamin B12, serum | B93: pg/mL | C93: 211 | D93: 911 | E93: 800 | F93: 1500 | S93: Excessive vitamin B12 intake | T93: Insufficient vitamin B12 intake, insufficient stomach acid, intrinsic factor antibodies,
A95: Folate, serum | B95: ng/mL | C95: 5.4 | D95: - | E95: 5.4 | F95: - | S95: Excess intake | T95: Dietary deficiency
A96: FATTY ACIDS - Blood Spot
A97: Alpha-Linolenic Acid (ALA), serum | B97: % | C97: 0.12 | D97: 0.72 | E97: 0.5 | F97: 0.72 | S97: Excess dietary consumption, low dietary consumption, decreased co-factors - B vitamins, vitamin C, magnesium, zinc, copper | T97: Low dietary consumption,
A98: Eicosapentaenoic Acid (EPA) | B98: % | C98: 0.07 | D98: 1.43 | E98: 0.3 | F98: 1.43 | S98: Excess dietary consumption | T98: Low dietary consumption, decreased co-factors - B vitamins, vitamin C, magnesium, zinc, copper
A99: Docosahexaenoic acid (DHA) | B99: % | C99: 0.41 | D99: 2.55 | E99: 2 | F99: 2.55 | S99: Excess dietary consumption of fish or fish oils | T99: Low dietary consumption, decreased co-factors - B vitamins, vitamin C, magnesium, zinc, copper
A100: Linoleic acid (LA) | B100: % | C100: 10.9 | D100: 19.4 | E100: 12 | F100: 16 | S100: Excess consumption, low cofactors for conversion to GLA due to low B vitamins, magnesium, vitamin C, copper, zinc | T100: Insufficient dietary consumption
A101: Gamma-Linolenic acid (GLA) | B101: % | C101: 0.04 | D101: 0.27 | E101: 0.15 | F101: 0.18 | S101: Dietary, supplementation excess | T101: If ALA is high, poor conversion of ALA due to low cofactors - B vitamins, zinc, copper, magnesium. If ALA normal or low, it's probably due to dietary deficiency
A102: Dihomo-gamma-linolenic acid (DGLA) | B102: % | C102: 0.4 | D102: 1.27 | E102: 0.75 | F102: 0.9 | T102: Poor conversion of DLGA to prostaglandins and thromboxanes
A103: Arachidonic acid (AA) | B103: % | C103: 2.7 | D103: 7.4 | E103: 0.3 | F103: 0.4 | S103: Increased inflammatory risk | T103: Low inflammatory risk
A104: Total C:18 Trans Fatty Acids | B104: % | C104: 0 | D104: 0.86 | E104: 0 | F104: 0.3 | S104: Increased health risk, especially inflammatory disorders | T104: Normal
A105: LA/GLA ratio (Desaturation efficiency) | B105: % | C105: 53 | D105: 394 | E105: 53 | F105: 394 | S105: Deficiency of co-factors that convert LA to GLA, i.e., mg, zinc, vitamin C, B vitamins, | T105: Excess GLA intake, usually through supplementation
A106: AA/EPA (Eicosanoid series 2/3) | B106: % | C106: 3.1 | D106: 10 | E106: 1.5 | F106: 3 | S106: Risk of bleeding disorder, hemorrhagic stroke | T106: Inflammation, high risk of inflammatory disease
A107: EPA/DLGA (Eicosanoid series 3/1) | B107: % | C107: 0.09 | D107: 2.45 | E107: 0.3 | F107: 2.45 | S107: Decreased inflammatory risk | T107: Increased inflammatory risk
A108: Index of Omega-3 Fatty Acids (EPA+DHA %) | B108: % | C108: 0.63 | D108: - | E108: 1.75 | F108: - | S108: Overconsumption of fish oils or dietary omega 3 | T108: Low omega 3 intake
A109: HORMONES
A110: Cortisol, serum | B110: µg/dL | C110: 0 | D110: 17 | E110: 4 | F110: 22 | S110: Excess stress | T110: Adrenal burnout
...
