Workbook

Sheet Appointment Tracker
A1: Appointment Tracker
A2: Client Name | B2: ClientNameHere | C2: Coach Name | D2: YourNameHere
A3: Date | B3: Recording link | C3: Coach Notes | D3: Client Comments

Sheet Symptom Scorecards
A1: Symptom Scorecards
A2: Client Name | B2: ='Appointment Tracker'!$B$2 -> ClientNameHere
A3: Coach Name | B3: ='Appointment Tracker'!$D$2 -> YourNameHere
A4: INSTRUCTIONS: This form gives you a place to keep track of all of your "Present Health - Symptom Survey" assessment results. There is a column for the initial score and 4 additional ones so you can reassess quarterly and keep track of your progress throughout the year. Be sure to put the date of the test in the light purple column header.
A5: Assessment | B5: Score
A6: Body System and Organ Assessment
A7: Date of Assessment: | B7: mm/dd/yy | C7: mm/dd/yy | D7: mm/dd/yy | E7: mm/dd/yy | F7: mm/dd/yy
A8: Digestion - Low Stomach Acid
A9: Digestion - Excess Stomach Acid
A10: Digestion - Liver and Gallbladder
A11: Digestion - Small Intestine and Pancreas
A12: Digestion - Large Intestine
A13: Cardiovascular System
A14: Kidney and Bladder
A15: Immune System
A16: Detoxification Stress/Toxicity Assessment Results
A17: Date of Assessment | B17: =B7 -> mm/dd/yy | C17: =C7 -> mm/dd/yy | D17: =D7 -> mm/dd/yy | E17: =E7 -> mm/dd/yy | F17: =F7 -> mm/dd/yy
A18: Digestive
A19: Ears
A20: Head
A21: Heart
A22: Emotions
A23: Joints/Muscles
A24: Energy/Activity
A25: Lungs
A26: Eyes
A27: Mind
A28: Skin
A29: Mouth/Throat
... A34: Hormone and Gland Assessment
A35: Date of Assessment | B35: =B7 -> mm/dd/yy | C35: =C7 -> mm/dd/yy | D35: =D7 -> mm/dd/yy | E35: =E7 -> mm/dd/yy | F35: =F7 -> mm/dd/yy
A36: Adrenal – General
A37: Adrenal Hypofunction
A38: Adrenal Hyperfunction (Cortisol high)
A39: Blood Sugar Dysregulation
A40: Blood Sugar Handling - Insulin Resistance
A41: Blood Sugar Handling - Blood Glucose Fluctuation
A42: Thyroid Low (Hypo)
A43: Thyroid Excess (Hyper)
A44: Pituitary
...

Sheet Medications
A1: Medications
A2: Client Name | B2: ='Appointment Tracker'!$B$2 -> ClientNameHere | C2: Coach Name | E2: ='Appointment Tracker'!$D$2 -> YourNameHere
A3: Name of medications you currently take or have taken over the past several months | B3: What's the medication for? | C3: Dose and Timing | D3: Date Started | E3: Date Stopped | F3: Reactions, if any (positive or negative)

Sheet Glucose Tracking
A1: Glucose Tracking
A2: PLEASE READ THE FOLLOWING CAREFULLY TO MAKE YOUR JOURNAL MOST USEFUL * Record all food, water, and other beverage intake. Be as detailed as you can. Include portion size and preparation (i.e. raw, steamed, fried, baked, etc.) as closely as possible. Also record beverages, fats, oils, and condiments (i.e. dressings, mayonnaise, etc.) and indicate emotional state during each meal. * For exercise record the specific activity (i.e. walking, running, weight lifting), length of time, and intensity. * Note when you do appreciation and breathing exercise (HeartMath) in the emotional state column. * Record any symptoms you experience throughout the day along with the time and whether or not the symptoms appear to be associated with food. For example, if you eat breakfast at 9:00 am, have a headache at 11:00 am and eat lunch at 12:00 pm, there would be three entries in your chart, one for each time. * If you have a glucose meter, record your glucose level before you eat, right after you eat, and then every 15 minutes up to 1 hour. Then record your glucose every hour for 5 hours or your next meal. Ideally your meals should be spaced 5 hours apart, but that may take some time to accomplish. * Record as many days as you can. Keep it low stress. If you miss a few meals, note it and move on. Try to remember as best you can, but keep calm and cool about it.
A3: Client Name | C3: ='Appointment Tracker'!$B$2 -> ClientNameHere | H3: Coach Name | J3: ='Appointment Tracker'!$D$2 -> YourNameHere | O3: Record glucose at the following intervals after meals and exercise
A4: Rate energy, stress level, and symptoms from 0-10, where 0=none, 1=minimum, and 10=maximum. Insert an entry for each bowel movement with time of day and indicate in box: the color, quantity (S,M,L), thickness (approx. finger widths), and consistency (H=Hard, S=Soft, WF=Well Formed, W=Watery). For other, describe. Example (ideal): greenish brown, L,3,S,WF. For pain, note location. For digestion, note specific symptoms or areas of discomfort. | O4: Right after | P4: 15 min | Q4: 30 min | R4: 45 min | S4: 1 hour | T4: 2 hour | U4: 3 hour | V4: 4 hour | W4: 5 hour
A5: Date | B5: Time | C5: Energy Before | D5: Emotional State | E5: Pulse Before | F5: Glucose Prior | G5: Foods & Beverages or Exercise Done (note qty & details) | H5: Water (oz.) | I5: Pulse After | J5: Energy After | K5: Bowel Mvmt | L5: Digestion | M5: Pain (location) | N5: Other Symptoms (list & rate 1-10) | O5: Time/ Glucose | P5: Time/ Glucose | Q5: Time/ Glucose | R5: Time/ Glucose | S5: Time/ Glucose | T5: Time/ Glucose | U5: Time/ Glucose | V5: Time/ Glucose | W5: Time/ Glucose

Sheet Lab Results - Intl 
A1: Lab Results - International Lab Results - International Lab Results - International Lab Results - International
A2: INSTRUCTIONS For International Version of Spreadsheet: Enter the numbers from your lab test into the column labelled "Enter Results in this Column Standard Intl Units (SI)" (purple). Be sure to put the date in the pink column. Once you enter the result in the purple column, the US conversion will appear in the pink column. You can enter up to 12 different lab results. The pink cells change color according to the US ranges: **Green (or White in earlier versions of Excel) means within ideal range, **Yellow means outside ideal range, within lab range **Orange means outside lab range If you'd like the spreadsheet to interpret your results, you will need to transfer the values in the US converted column to the sheet labelled Lab Results - U.S.
A3: Client Name | B3: ='Appointment Tracker'!$B$2 -> ClientNameHere
A4: Coach Name | B4: ='Appointment Tracker'!$D$2 -> YourNameHere
A5: CATEGORIES | B5: UNITS | C5: LAB RANGE | E5: IDEAL RANGE | G5: Enter Results in this column | H5: DATE | I5: Enter Results in this column | J5: DATE | K5: Enter Results in this column | L5: DATE | M5: Enter Results in this column | N5: DATE | O5: Enter Results in this column | P5: DATE | Q5: Enter Results in this column | R5: DATE | S5: Enter Results in this column | T5: DATE | U5: Enter Results in this column | V5: DATE | W5: Enter Results in this column | X5: DATE | Y5: Enter Results in this column | Z5: DATE | AA5: Enter Results in this column | AB5: DATE | AC5: Enter Results in this column | AD5: DATE
C6: Min | D6: Max | E6: Min | F6: Max | AE6: Possible Interpretation
A7: Lab Markers | G7: Standard Intl Units (SI) | H7: Auto Convert to US # | I7: Standard Intl Units (SI) | J7: Auto Convert to US # | K7: Standard Intl Units (SI) | L7: Auto Convert to US # | M7: Standard Intl Units (SI) | N7: Auto Convert to US # | O7: Standard Intl Units (SI) | P7: Auto Convert to US # | Q7: Standard Intl Units (SI) | R7: Auto Convert to US # | S7: Standard Intl Units (SI) | T7: Auto Convert to US # | U7: Standard Intl Units (SI) | V7: Auto Convert to US # | W7: Standard Intl Units (SI) | X7: Auto Convert to US # | Y7: Standard Intl Units (SI) | Z7: Auto Convert to US # | AA7: Standard Intl Units (SI) | AB7: Auto Convert to US # | AC7: Standard Intl Units (SI) | AD7: Auto Convert to US # | AE7: High | AF7: Low | AG7: Follow-up
A8: Glucose, serum | B8: mmol/L | C8: 65 | D8: 110 | E8: 75 | F8: 89 | H8: =G8/0.05551 -> 0 | J8: =I8/0.05551 -> 0 | L8: =K8/0.05551 -> 0 | N8: =M8/0.05551 -> 0 | P8: =O8/0.05551 -> 0 | R8: =Q8/0.05551 -> 0 | T8: =S8/0.05551 -> 0 | V8: =U8/0.05551 -> 0 | X8: =W8/0.05551 -> 0 | Z8: =Y8/0.05551 -> 0 | AB8: =AA8/0.05551 -> 0 | AD8: =AC8/0.05551 -> 0 | AE8: Diabetes; insulin resistance; thiamin deficiency; stress; liver | AF8: Hypoglycemia; low adrenal | AG8: Test fasting insulin, hemoglobin A1C
A9: Uric acid, serum (female) | B9: µmol/L | C9: 1.8 | D9: 7 | E9: 3.2 | F9: 5.5 | H9: =G9/59.48 -> 0 | J9: =I9/59.48 -> 0 | L9: =K9/59.48 -> 0 | N9: =M9/59.48 -> 0 | P9: =O9/59.48 -> 0 | R9: =Q9/59.48 -> 0 | T9: =S9/59.48 -> 0 | V9: =U9/59.48 -> 0 | X9: =W9/59.48 -> 0 | Z9: =Y9/59.48 -> 0 | AB9: =AA9/59.48 -> 0 | AD9: =AC9/59.48 -> 0 | AE9: Gout; atherosclerosis; oxidative stress; rheumatoid arthritis; kidney; circulation; leaky gut syndrome | AF9: Deficiency of molybdenum, B-12/folate and/or copper | AG9: If high, evaluate for signs and symptoms of joint pain. If low, check for other signs of B12 deficiency and mineral deficiency (home tests)
A10: Uric acid, serum (male) | B10: µmol/L | C10: 1.8 | D10: 7 | E10: 3.7 | F10: 6 | H10: =G10/59.48 -> 0 | J10: =I10/59.48 -> 0 | L10: =K10/59.48 -> 0 | N10: =M10/59.48 -> 0 | P10: =O10/59.48 -> 0 | R10: =Q10/59.48 -> 0 | T10: =S10/59.48 -> 0 | V10: =U10/59.48 -> 0 | X10: =W10/59.48 -> 0 | Z10: =Y10/59.48 -> 0 | AB10: =AA10/59.48 -> 0 | AD10: =AC10/59.48 -> 0 | AE10: Gout; atherosclerosis; oxidative stress; rheumatoid arthritis; kidney; circulation; leaky gut syndrome | AF10: Deficiency of molybdenum, B-12/folate and/or copper | AG10: If high, evaluate for signs and symptoms of joint pain. If low, check for other signs of B12 deficiency and mineral deficiency (home tests)
A11: Blood urea nitrogen (BUN), serum | B11: mmol/L | C11: 8 | D11: 28 | E11: 13 | F11: 18 | H11: =G11/0.357 -> 0 | J11: =I11/0.357 -> 0 | L11: =K11/0.357 -> 0 | N11: =M11/0.357 -> 0 | P11: =O11/0.357 -> 0 | R11: =Q11/0.357 -> 0 | T11: =S11/0.357 -> 0 | V11: =U11/0.357 -> 0 | X11: =W11/0.357 -> 0 | Z11: =Y11/0.357 -> 0 | AB11: =AA11/0.357 -> 0 | AD11: =AC11/0.357 -> 0 | AE11: Malabsorption; kidney issues; dehydration; excessive protein intake; hyperadrenal | AF11: Malabsorption; liver dysfunction; low protein diet | AG11: HCl challenge, enzymes, optimize digestion
A12: Creatinine, serum | B12: µmol/L | C12: 0.5 | D12: 1.2 | E12: 0.7 | F12: 1.1 | H12: =G12/88.4 -> 0 | J12: =I12/88.4 -> 0 | L12: =K12/88.4 -> 0 | N12: =M12/88.4 -> 0 | P12: =O12/88.4 -> 0 | R12: =Q12/88.4 -> 0 | T12: =S12/88.4 -> 0 | V12: =U12/88.4 -> 0 | X12: =W12/88.4 -> 0 | Z12: =Y12/88.4 -> 0 | AB12: =AA12/88.4 -> 0 | AD12: =AC12/88.4 -> 0 | AE12: Urinary tract congestion/obstruction; kidneys; prostate | AF12: Muscle wasting; malabsorption | AG12: HCl challenge, enzymes, optimize digestion
A13: Estimated glomerular filtration rate (eGFR), serum | B13: mL/min/1.73 m^2 | C13: 59 | D13: - | E13: 59 | F13: - | H13: =G13 -> 0 | J13: =I13 -> 0 | L13: =K13 -> 0 | N13: =M13 -> 0 | P13: =O13 -> 0 | R13: =Q13 -> 0 | T13: =S13 -> 0 | V13: =U13 -> 0 | X13: =W13 -> 0 | Z13: =Y13 -> 0 | AB13: =AA13 -> 0 | AD13: =AC13 -> 0 | AG13: Referral to kidney specialist
A14: Estimated glomerular filtration rate (eGFR) (African American), serum | B14: mL/min/1.73 m^2 | C14: 59 | D14: - | E14: 59 | F14: - | H14: =G14 -> 0 | J14: =I14 -> 0 | L14: =K14 -> 0 | N14: =M14 -> 0 | P14: =O14 -> 0 | R14: =Q14 -> 0 | T14: =S14 -> 0 | V14: =U14 -> 0 | X14: =W14 -> 0 | Z14: =Y14 -> 0 | AB14: =AA14 -> 0 | AD14: =AC14 -> 0 | AG14: Referral to kidney specialist
A15: BUN/Creatinine ratio | B15: - | C15: 8 | D15: 27 | E15: 8 | F15: 27 | H15: =G15 -> 0 | J15: =I15 -> 0 | L15: =K15 -> 0 | N15: =M15 -> 0 | P15: =O15 -> 0 | R15: =Q15 -> 0 | T15: =S15 -> 0 | V15: =U15 -> 0 | X15: =W15 -> 0 | Z15: =Y15 -> 0 | AB15: =AA15 -> 0 | AD15: =AC15 -> 0 | AE15: See BUN & Creatinine | AF15: See BUN & Creatinine | AG15: HCl challenge, enzymes, optimize digestion
A16: Sodium, serum | B16: mmol/L | C16: 135 | D16: 148 | E16: 135 | F16: 140 | H16: =G16 -> 0 | J16: =I16 -> 0 | L16: =K16 -> 0 | N16: =M16 -> 0 | P16: =O16 -> 0 | R16: =Q16 -> 0 | T16: =S16 -> 0 | V16: =U16 -> 0 | X16: =W16 -> 0 | Z16: =Y16 -> 0 | AB16: =AA16 -> 0 | AD16: =AC16 -> 0 | AE16: Hyperadrenal; dehydration | AF16: Hypoadrenal; edema; laxative use | AG16: Check for signs of edema or dehydration, Adrenal Stress Index test, HeartMath, and other stress management skills
A17: Potassium, serum | B17: mmol/L | C17: 3.5 | D17: 5.5 | E17: 4 | F17: 4.5 | H17: =G17 -> 0 | J17: =I17 -> 0 | L17: =K17 -> 0 | N17: =M17 -> 0 | P17: =O17 -> 0 | R17: =Q17 -> 0 | T17: =S17 -> 0 | V17: =U17 -> 0 | X17: =W17 -> 0 | Z17: =Y17 -> 0 | AB17: =AA17 -> 0 | AD17: =AC17 -> 0 | AE17: Hypoadrenal; dehydration; acidosis | AF17: Hyperadrenal; hypertension; diuretics | AG17: Check for signs of edema or dehydration, Adrenal Stress Index test, HeartMath, and other stress management skills
A18: Chloride, serum | B18: mmol/L | C18: 99 | D18: 111 | E18: 100 | F18: 106 | H18: =G18 -> 0 | J18: =I18 -> 0 | L18: =K18 -> 0 | N18: =M18 -> 0 | P18: =O18 -> 0 | R18: =Q18 -> 0 | T18: =S18 -> 0 | V18: =U18 -> 0 | X18: =W18 -> 0 | Z18: =Y18 -> 0 | AB18: =AA18 -> 0 | AD18: =AC18 -> 0 | AE18: Acidosis; hyperadrenal | AF18: Hypochlorhydria; alkalosis; hypoadrenal | AG18: HCl challenge, pH monitoring, and appropriate diet changes, Adrenal Stress Index test, HeartMath, and other stress management skills
A19: Carbon dioxide, total, serum | B19: mmol/L | C19: 19 | D19: 31 | E19: 25 | F19: 30 | H19: =G19 -> 0 | J19: =I19 -> 0 | L19: =K19 -> 0 | N19: =M19 -> 0 | P19: =O19 -> 0 | R19: =Q19 -> 0 | T19: =S19 -> 0 | V19: =U19 -> 0 | X19: =W19 -> 0 | Z19: =Y19 -> 0 | AB19: =AA19 -> 0 | AD19: =AC19 -> 0 | AE19: Alkalosis; hyperadrenal; hypochlorhydria; respiratory distress | AF19: Acidosis; thiamin (B-1) deficiency; hyperventilation | AG19: pH monitoring and appropriate diet changes, HCl challenge
A20: Calcium, serum | B20: mmol/L | C20: 8.7 | D20: 10.5 | E20: 9.2 | F20: 10.1 | H20: =G20/0.25 -> 0 | J20: =I20/0.25 -> 0 | L20: =K20/0.25 -> 0 | N20: =M20/0.25 -> 0 | P20: =O20/0.25 -> 0 | R20: =Q20/0.25 -> 0 | T20: =S20/0.25 -> 0 | V20: =U20/0.25 -> 0 | X20: =W20/0.25 -> 0 | Z20: =Y20/0.25 -> 0 | AB20: =AA20/0.25 -> 0 | AD20: =AC20/0.25 -> 0 | AE20: Hypothyroid; Vitamin D excess; hypoadrenal; hyper parathyroid | AF20: Hypochlorhydria; hypoparathyroid;deficiency of Vitamin D, essential fatty acids or calcium | AG20: Check serum Vitamin D, HCl challenge, optimize omega 6 to 3 fat ratio per the chart and consider blood spot fatty acid test
A21: Phosphorus, serum | B21: mmol/L | C21: 2.3 | D21: 4.8 | E21: 3.5 | F21: 4 | H21: =G21/0.3229 -> 0 | J21: =I21/0.3229 -> 0 | L21: =K21/0.3229 -> 0 | N21: =M21/0.3229 -> 0 | P21: =O21/0.3229 -> 0 | R21: =Q21/0.3229 -> 0 | T21: =S21/0.3229 -> 0 | V21: =U21/0.3229 -> 0 | X21: =W21/0.3229 -> 0 | Z21: =Y21/0.3229 -> 0 | AB21: =AA21/0.3229 -> 0 | AD21: =AC21/0.3229 -> 0 | AE21: Hypoparathyroid; fracture; excess Vitamin D intake; excess dietary phosphate (soda); kidney | AF21: Hyperparathyroid; hypochlorhydria; hyperinsulin; high carb diet; Vitamin D deficiency | AG21: Test and adjust Vitamin D supplementation, HCl challenge, enzymes, optimize digestion
A22: Protein, total, serum | B22: g/L | C22: 6.2 | D22: 8.3 | E22: 6.9 | F22: 7.4 | H22: =G22/10 -> 0 | J22: =I22/10 -> 0 | L22: =K22/10 -> 0 | N22: =M22/10 -> 0 | P22: =O22/10 -> 0 | R22: =Q22/10 -> 0 | T22: =S22/10 -> 0 | V22: =U22/10 -> 0 | X22: =W22/10 -> 0 | Z22: =Y22/10 -> 0 | AB22: =AA22/10 -> 0 | AD22: =AC22/10 -> 0 | AE22: Dehydration | AF22: Hypochlorhydria; poor digestion; GI inflammation; liver; low protein diet | AG22: Protein intake, HCl challenge, enzymes, optimize digestion, supplement with raw protein powder (Sunwarrior, Warrior food, Vitamin Code raw protein) until digestive status is optimized
A23: Albumin, serum | B23: g/L | C23: 3.8 | D23: 5 | E23: 4 | F23: 5 | H23: =G23/10 -> 0 | J23: =I23/10 -> 0 | L23: =K23/10 -> 0 | N23: =M23/10 -> 0 | P23: =O23/10 -> 0 | R23: =Q23/10 -> 0 | T23: =S23/10 -> 0 | V23: =U23/10 -> 0 | X23: =W23/10 -> 0 | Z23: =Y23/10 -> 0 | AB23: =AA23/10 -> 0 | AD23: =AC23/10 -> 0 | AE23: Dehydration | AF23: Hypochlorhydria; liver; oxidative stress; Vitamin C deficiency | AG23: Rule out liver problems, check protein intake, HCl challenge, enzymes, optimize digestion, supplement with raw protein powder (Sunwarrior, Warrior food, Vitamin Code raw protein) until digestive status is optimized, anti-inflammatory diet
A24: Globulin, total, serum | B24: g/L | C24: 2 | D24: 3.8 | E24: 2.4 | F24: 2.8 | H24: =G24/10 -> 0 | J24: =I24/10 -> 0 | L24: =K24/10 -> 0 | N24: =M24/10 -> 0 | P24: =O24/10 -> 0 | R24: =Q24/10 -> 0 | T24: =S24/10 -> 0 | V24: =U24/10 -> 0 | X24: =W24/10 -> 0 | Z24: =Y24/10 -> 0 | AB24: =AA24/10 -> 0 | AD24: =AC24/10 -> 0 | AE24: Hypochlorhydria; liver; oxidative stress; metals/chemicals; autoimmune/allergy | AF24: Poor digestion; GI inflammation; low immunity | AG24: Rule out liver problems, check protein intake, HCl challenge, enzymes, optimize digestion, supplement with raw protein powder (Sunwarrior, Warrior food, Vitamin Code raw protein) until digestive status is optimized, anti-inflammatory diet
A25: A/G ratio (albumin/globulin) | B25: over 1 | C25: 1.1 | D25: 2.3 | E25: 1.5 | F25: 2 | H25: =G25 -> 0 | J25: =I25 -> 0 | L25: =K25 -> 0 | N25: =M25 -> 0 | P25: =O25 -> 0 | R25: =Q25 -> 0 | T25: =S25 -> 0 | V25: =U25 -> 0 | X25: =W25 -> 0 | Z25: =Y25 -> 0 | AB25: =AA25 -> 0 | AD25: =AC25 -> 0 | AE25: See Globulin & Albumin | AF25: See Globulin & Albumin
A26: Bilirubin, total, serum | B26: µmol/L | C26: 0.1 | D26: 1.5 | E26: 0.2 | F26: 1.2 | H26: =G26/17.1 -> 0 | J26: =I26/17.1 -> 0 | L26: =K26/17.1 -> 0 | N26: =M26/17.1 -> 0 | P26: =O26/17.1 -> 0 | R26: =Q26/17.1 -> 0 | T26: =S26/17.1 -> 0 | V26: =U26/17.1 -> 0 | X26: =W26/17.1 -> 0 | Z26: =Y26/17.1 -> 0 | AB26: =AA26/17.1 -> 0 | AD26: =AC26/17.1 -> 0 | AE26: Liver/gallbladder; thymus; oxidative stress; RBC hemolysis; Gilbert's syndrome | AF26: Spleen | AG26: Check liver
A27: Alkaline phosphatase, serum | B27: μkat/L | C27: 27 | D27: 142 | E27: 70 | F27: 90 | H27: =G27/1 -> 0 | J27: =I27/1 -> 0 | L27: =K27/1 -> 0 | N27: =M27/1 -> 0 | P27: =O27/1 -> 0 | R27: =Q27/1 -> 0 | T27: =S27/1 -> 0 | V27: =U27/1 -> 0 | X27: =W27/1 -> 0 | Z27: =Y27/1 -> 0 | AB27: =AA27/1 -> 0 | AD27: =AC27/1 -> 0 | AE27: Liver/gall bladder; bone loss/disease; leaky gut syndrome; shingles; Vitamin C deficiency | AF27: Estrogen dominance; zinc and/or B-6 deficiency; malabsorption; hypothyroid/adrenal | AG27: If >120, do isoenzymes
A28: Lactate dehydrogenase (LDH), serum | B28: µkat/L | C28: 89 | D28: 215 | E28: 140 | F28: 180 | H28: =G28/1 -> 0 | J28: =I28/1 -> 0 | L28: =K28/1 -> 0 | N28: =M28/1 -> 0 | P28: =O28/1 -> 0 | R28: =Q28/1 -> 0 | T28: =S28/1 -> 0 | V28: =U28/1 -> 0 | X28: =W28/1 -> 0 | Z28: =Y28/1 -> 0 | AB28: =AA28/1 -> 0 | AD28: =AC28/1 -> 0 | AE28: Liver/gall bladder; heart; B12/folate deficiency; inflammation; tissue destruction; viral infection | AF28: Hypoglycemia | AG28: Isoenzymes if high
A29: Aspartate aminotransferase (AST) (SGOT), serum | B29: pkat/L | C29: 1 | D29: 45 | E29: 10 | F29: 26 | H29: =G29/1 -> 0 | J29: =I29/1 -> 0 | L29: =K29/1 -> 0 | N29: =M29/1 -> 0 | P29: =O29/1 -> 0 | R29: =Q29/1 -> 0 | T29: =S29/1 -> 0 | V29: =U29/1 -> 0 | X29: =W29/1 -> 0 | Z29: =Y29/1 -> 0 | AB29: =AA29/1 -> 0 | AD29: =AC29/1 -> 0 | AE29: Liver; heart; muscle breakdown; mono/EBV/CMV | AF29: Vitamin B-6 deficiency; alcoholism | AG29: If the SGOT is elevated above SGPT, look outside of liver
A30: Alanine aminotransferase (ALT ) (SGPT), serum | B30: pkat/L | C30: 1 | D30: 55 | E30: 10 | F30: 26 | H30: =G30/1 -> 0 | J30: =I30/1 -> 0 | L30: =K30/1 -> 0 | N30: =M30/1 -> 0 | P30: =O30/1 -> 0 | R30: =Q30/1 -> 0 | T30: =S30/1 -> 0 | V30: =U30/1 -> 0 | X30: =W30/1 -> 0 | Z30: =Y30/1 -> 0 | AB30: =AA30/1 -> 0 | AD30: =AC30/1 -> 0 | AE30: Liver/gall bladder; muscle breakdown; alcoholism | AF30: Vitamin B-6 deficiency; early fatty liver; alcoholism | AG30: If the SGOT is elevated above SGPT, look outside of liver
A31: Gamma-glutamyltransferase (GGT), serum | B31: IU/L | C31: 5 | D31: 52 | E31: 10 | F31: 26 | H31: =G31/1 -> 0 | J31: =I31/1 -> 0 | L31: =K31/1 -> 0 | N31: =M31/1 -> 0 | P31: =O31/1 -> 0 | R31: =Q31/1 -> 0 | T31: =S31/1 -> 0 | V31: =U31/1 -> 0 | X31: =W31/1 -> 0 | Z31: =Y31/1 -> 0 | AB31: =AA31/1 -> 0 | AD31: =AC31/1 -> 0 | AE31: Liver/gall bladder; pancreas (including insufficiency); excess alcohol; | AF31: Vitamin B-6 and/or magnesium deficiency; malabsorption; hypothyroid; oral contraceptives | AG31: If GGT is elevated above SGOT & SGPT, problem is more likely in gall bladder, bile ducts & pancreas
A32: Iron, serum | B32: µmol/L | C32: 40 | D32: 180 | E32: 85 | F32: 130 | H32: =G32/0.1791 -> 0 | J32: =I32/0.1791 -> 0 | L32: =K32/0.1791 -> 0 | N32: =M32/0.1791 -> 0 | P32: =O32/0.1791 -> 0 | R32: =Q32/0.1791 -> 0 | T32: =S32/0.1791 -> 0 | V32: =U32/0.1791 -> 0 | X32: =W32/0.1791 -> 0 | Z32: =Y32/0.1791 -> 0 | AB32: =AA32/0.1791 -> 0 | AD32: =AC32/0.1791 -> 0 | AE32: Liver; hemochromotosis; excess consumption of iron; iron conversion problem (B-12, folic acid, B-6, molybdenum); chronic viral infection | AF32: Anemia; hypochlorhydria; internal bleeding | AG32: Serum ferritin, look at hemoglobin, hematocrit and MCV, HCL challenge if low
A33: Cholesterol, total, serum | B33: mmol/L | C33: 0.1 | D33: 200 | E33: 150 | F33: 200 | H33: =G33/0.02586 -> 0 | J33: =I33/0.02586 -> 0 | L33: =K33/0.02586 -> 0 | N33: =M33/0.02586 -> 0 | P33: =O33/0.02586 -> 0 | R33: =Q33/0.02586 -> 0 | T33: =S33/0.02586 -> 0 | V33: =U33/0.02586 -> 0 | X33: =W33/0.02586 -> 0 | Z33: =Y33/0.02586 -> 0 | AB33: =AA33/0.02586 -> 0 | AD33: =AC33/0.02586 -> 0 | AE33: Hypothyroid; adrenal stress; fat malabsorption; insulin resistance/diabetes; fatty liver; multiple sclerosis; trans fats | AF33: Oxidative stress; heavy metal/chemical overload; gallbladder; low fat diet; hyperthyroid; autoimmune; hyperadrenals | AG33: VAP; VLDL; C-reactive protein; homocysteine, imaging of heart
A34: Triglycerides, serum | B34: mmol/L | C34: 35 | D34: 160 | E34: 50 | F34: 100 | H34: =G34/0.01129 -> 0 | J34: =I34/0.01129 -> 0 | L34: =K34/0.01129 -> 0 | N34: =M34/0.01129 -> 0 | P34: =O34/0.01129 -> 0 | R34: =Q34/0.01129 -> 0 | T34: =S34/0.01129 -> 0 | V34: =U34/0.01129 -> 0 | X34: =W34/0.01129 -> 0 | Z34: =Y34/0.01129 -> 0 | AB34: =AA34/0.01129 -> 0 | AD34: =AC34/0.01129 -> 0 | AE34: Insulin resistance/diabetes; high sugar intake; liver; fat malabsorption; alcoholism; stress; hypothyroid | AF34: Fat malabsorption; low fat diet; hyperthyroid; autoimmune; hyper adrenals | AG34: Low sugar diet, avoid refined foods, optimize fat digestion (enzymes)
A35: High-density lipoprotein (HDL) cholesterol, serum | B35: mmol/L | C35: 40 | D35: - | E35: 55 | F35: - | H35: =G35/0.02586 -> 0 | J35: =I35/0.02586 -> 0 | L35: =K35/0.02586 -> 0 | N35: =M35/0.02586 -> 0 | P35: =O35/0.02586 -> 0 | R35: =Q35/0.02586 -> 0 | T35: =S35/0.02586 -> 0 | V35: =U35/0.02586 -> 0 | X35: =W35/0.02586 -> 0 | Z35: =Y35/0.02586 -> 0 | AB35: =AA35/0.02586 -> 0 | AD35: =AC35/0.02586 -> 0 | AE35: Autoimmune processes; estrogen dominance | AF35: Refined carbs; insulin resistance/diabetes; oxidative stress; heavy metal/chemical; fatty liver; hyperthyroid; sedentary lifestyle | AG35: Rule out estrogen dominance if high. If low, increase exercise
A36: Low-density lipoprotein (LDL) cholesterol, serum | B36: mmol/L | C36: 1 | D36: 130 | E36: 10 | F36: 99 | H36: =G36/0.02586 -> 0 | J36: =I36/0.02586 -> 0 | L36: =K36/0.02586 -> 0 | N36: =M36/0.02586 -> 0 | P36: =O36/0.02586 -> 0 | R36: =Q36/0.02586 -> 0 | T36: =S36/0.02586 -> 0 | V36: =U36/0.02586 -> 0 | X36: =W36/0.02586 -> 0 | Z36: =Y36/0.02586 -> 0 | AB36: =AA36/0.02586 -> 0 | AD36: =AC36/0.02586 -> 0 | AE36: Same as cholesterol | AG36: VAP; VLDL; C-reactive protein; homocysteine, imaging of heart
A37: Triglycerides/HDL ratio (calc) | B37: - | C37: 0.1 | D37: 3.7 | E37: 0.1 | F37: 3 | H37: =IF(ISERROR(H34/H35),0,H34/H35) -> 0 | J37: =IF(ISERROR(J34/J35),0,J34/J35) -> 0 | L37: =IF(ISERROR(L34/L35),0,L34/L35) -> 0 | N37: =IF(ISERROR(N34/N35),0,N34/N35) -> 0 | P37: =IF(ISERROR(P34/P35),0,P34/P35) -> 0 | R37: =IF(ISERROR(R34/R35),0,R34/R35) -> 0 | T37: =IF(ISERROR(T34/T35),0,T34/T35) -> 0 | V37: =IF(ISERROR(V34/V35),0,V34/V35) -> 0 | X37: =IF(ISERROR(X34/X35),0,X34/X35) -> 0 | Z37: =IF(ISERROR(Z34/Z35),0,Z34/Z35) -> 0 | AB37: =IF(ISERROR(AB34/AB35),0,AB34/AB35) -> 0 | AD37: =IF(ISERROR(AD34/AD35),0,AD34/AD35) -> 0 | AG37: Increase exercise if low: burst training, weights
A38: THYROID MARKERS
A39: Thyroid stimulating hormone (TSH), serum | B39: mlU/L | C39: 0.3 | D39: 5.7 | E39: 1.5 | F39: 3 | H39: =G39/1 -> 0 | J39: =I39/1 -> 0 | L39: =K39/1 -> 0 | N39: =M39/1 -> 0 | P39: =O39/1 -> 0 | R39: =Q39/1 -> 0 | T39: =S39/1 -> 0 | V39: =U39/1 -> 0 | X39: =W39/1 -> 0 | Z39: =Y39/1 -> 0 | AB39: =AA39/1 -> 0 | AD39: =AC39/1 -> 0 | AE39: Hypothyroidism | AF39: Hyperthyroid; hypopituitary; heavy metals | AG39: Additional testing: Total T4, Free T3 and Antibodies: Thyroid Peroxidase and Antithyroglobulin if high, Thyroid Stimulating Antibodies if low
A40: Thyroxine, total (T4 or TT4), serum | B40: nmol/L | C40: 4.5 | D40: 12.5 | E40: 6 | F40: 12 | H40: =G40/12.87 -> 0 | J40: =I40/12.87 -> 0 | L40: =K40/12.87 -> 0 | N40: =M40/12.87 -> 0 | P40: =O40/12.87 -> 0 | R40: =Q40/12.87 -> 0 | T40: =S40/12.87 -> 0 | V40: =U40/12.87 -> 0 | X40: =W40/12.87 -> 0 | Z40: =Y40/12.87 -> 0 | AB40: =AA40/12.87 -> 0 | AD40: =AC40/12.87 -> 0 | AE40: Hyperthyroidism, thyroid replacement medication | AF40: Hypothyroid, anterior pituitary dysfunction, iodine or selenium deficiency, deficiency of cofactors: B1 | AG40: Replenish nutrients, test for antibodies as per TSH follow-up
...

Sheet Lab Results - U.S.
A1: Lab Results - U.S. Lab Results - U.S. Lab Results - U.S.
A2: INSTRUCTIONS For U.S. Lab Spreadsheet: Enter the numbers from your lab test into the column labelled "Results". Be sure to put the date in the columns. You can enter up to 12 different lab results. Cells change color according to the US ranges: **Green (or white in older versions of Excel) means within ideal range, **Yellow means outside ideal range, within lab range **Orange means outside lab range
A3: Client Name | B3: ='Appointment Tracker'!$B$2 -> ClientNameHere
A4: Coach Name | B4: ='Appointment Tracker'!$D$2 -> YourNameHere
A5: CATEGORIES | B5: Units | C5: LAB RANGE | E5: IDEAL RANGE | G5: DATE | H5: DATE | I5: DATE | J5: DATE | K5: DATE | L5: DATE | M5: DATE | N5: DATE | O5: DATE | P5: DATE | Q5: DATE | R5: DATE
C6: Min | D6: Max | E6: Min | F6: Max | S6: Possible Interpretation
A7: Lab Markers | G7: Results | H7: Results | I7: Results | J7: Results | K7: Results | L7: Results | M7: Results | N7: Results | O7: Results | P7: Results | Q7: Results | R7: Results | S7: High | T7: Low | U7: Follow-up
A8: Glucose, serum | B8: mg/dL | C8: 65 | D8: 110 | E8: 75 | F8: 89 | S8: Diabetes; insulin resistance; thiamin deficiency; stress; liver. | T8: Hypoglycemia; low adrenal | U8: Test fasting insulin, hemoglobin A1C
A9: Uric acid, serum (female) | B9: mg/dL | C9: 1.8 | D9: 7 | E9: 3.2 | F9: 5.5 | S9: Gout; atherosclerosis; oxidative stress; rheumatoid arthritis; kidney; circulation; leaky gut syndrome | T9: Deficiency of molybdenum, B-12/folate and/or copper | U9: If high, evaluate for signs and symptoms of joint pain. If low, check for other signs of B12 deficiency and mineral deficiency (home tests)
A10: Uric acid, serum (male) | B10: mg/dL | C10: 1.8 | D10: 7 | E10: 3.7 | F10: 6 | S10: Gout; atherosclerosis; oxidative stress; rheumatoid arthritis; kidney; circulation; leaky gut syndrome | T10: Deficiency of molybdenum, B-12/folate and/or copper | U10: If high, evaluate for signs and symptoms of joint pain. If low, check for other signs of B12 deficiency and mineral deficiency (home tests)
A11: Blood urea nitrogen (BUN), serum | B11: mg/dL | C11: 8 | D11: 28 | E11: 13 | F11: 18 | S11: Malabsorption; kidney issues; dehydration; excessive protein intake; hyperadrenal | T11: Malabsorption; liver dysfunction; low protein diet | U11: HCl challenge, enzymes, optimize digestion
A12: Creatinine, serum | B12: mg/dL | C12: 0.5 | D12: 1.2 | E12: 0.7 | F12: 1.1 | S12: Urinary tract congestion/obstruction; kidneys; prostate | T12: Muscle wasting; malabsorption | U12: HCl challenge, enzymes, optimize digestion
A13: Estimated glomerular filtration rate (eGFR), serum | B13: mL/min/1.73 m^2 | C13: 59 | D13: - | E13: 59 | F13: - | U13: referral to kidney specialist
A14: Estimated glomerular filtration rate (eGFR) (African American), serum | B14: mL/min/1.73 m^2 | C14: 59 | D14: - | E14: 59 | F14: - | U14: referral to kidney specialist
A15: BUN/Creatinine Ratio | B15: - | C15: 8 | D15: 27 | E15: 8 | F15: 27 | S15: See BUN & Creatinine | T15: See BUN & Creatinine | U15: HCl challenge, enzymes, optimize digestion
A16: Sodium, serum | B16: mEq/L | C16: 135 | D16: 148 | E16: 135 | F16: 140 | S16: Hyperadrenal; dehydration | T16: Hypoadrenal; edema; laxative use | U16: check for signs of edema or dehydration, Adrenal Stress Index Test, HeartMath and other stress management skills
A17: Potassium, serum | B17: mEq/L | C17: 3.5 | D17: 5.5 | E17: 4 | F17: 4.5 | S17: Hypoadrenal; dehydration; acidosis | T17: Hyperadrenal; hypertension; diuretics | U17: Check for signs of edema or dehydration, Adrenal Stress Index Test, HeartMath and other stress management skills
A18: Chloride, serum, plasma | B18: mEq/L | C18: 99 | D18: 111 | E18: 100 | F18: 106 | S18: Acidosis; hyperadrenal | T18: Hypochlorhydria; alkalosis; hypoadrenal | U18: HCl challenge, ph monitoring and appropriate diet changes, Adrenal Stress Index Test, HeartMath and other stress management skills
A19: Carbon dioxide, total, serum | B19: mEq/L | C19: 19 | D19: 31 | E19: 25 | F19: 30 | S19: Alkalosis; hyperadrenal; hypochlorhydria; respiratory distress | T19: Acidosis; thiamin (B-1) deficiency; hyperventilation | U19: pH monitoring and appropriate diet changes, HCl challenge
A20: Calcium, serum | B20: mg/dL | C20: 8.7 | D20: 10.5 | E20: 9.2 | F20: 10.1 | S20: Hypothyroid; vitamin D excess; hypoadrenal; hyper- parathyroid | T20: Hypochlorhydria; hypoparathyroid;deficiency of vitamin D, essential fatty acids, or calcium | U20: Check serum vitamin D, HCl challenge, optimize omega 6 to 3 fat ratio per the chart and consider blood spot fatty acid test
A21: Phosphorus, serum | B21: mg/dL | C21: 2.3 | D21: 4.8 | E21: 3.5 | F21: 4 | S21: Hypoparathyroid; fracture; excess vitamin D intake; excess dietary phosphate (soda); kidney | T21: Hyper parathyroid; hypochlorhydria; hyperinsulin; high carb diet; vitamin D deficiency | U21: Test and adjust vitamin D supplementation, HCl challenge, enzymes, optimize digestion
A22: Protein, total, serum | B22: g/dL | C22: 6.2 | D22: 8.3 | E22: 6.9 | F22: 7.4 | S22: Dehydration | T22: Hypochlorhydria; poor digestion; GI inflammation; liver; low protein diet | U22: Protein intake, HCl challenge, enzymes, optimize digestion, supplement with raw protein powder (Sunwarrior, Warrior Food, Vitamin Code raw protein) until digestive status is optimized
A23: Albumin, serum | B23: g/dL | C23: 3.8 | D23: 5 | E23: 4 | F23: 5 | S23: Dehydration | T23: Hypochlorhydria; liver; oxidative stress; vitamin C deficiency | U23: Rule out liver problems, check protein intake, HCl challenge, enzymes, optimize digestion, supplement with raw protein powder (Sunwarrior, Warrior Food, Vitamin Code raw protein) until digestive status is optimized, anti-inflammatory diet
A24: Globulin, total, serum | B24: g/dL | C24: 2 | D24: 3.8 | E24: 2.4 | F24: 2.8 | S24: Hypochlorhydria; liver; oxidative stress; metals/chemicals; autoimmune/allergy | T24: Poor digestion; GI inflammation; low immunity | U24: Rule out liver problems, check protein intake, HCl challenge, enzymes, optimize digestion, supplement with raw protein powder (Sunwarrior, Warrior Food, Vitamin Code raw protein) until digestive status is optimized, anti-inflammatory diet
A25: A/G Ratio | B25: calc | C25: 1.1 | D25: 2.3 | E25: 1.5 | F25: 2 | S25: See Globulin & Albumin | T25: See Globulin & Albumin
A26: Bilirubin, serum, total | B26: mg/dL | C26: 0.1 | D26: 1.5 | E26: 0.2 | F26: 1.2 | S26: Liver/gallbladder; thymus; oxidative stress; RBC hemolysis; Gilbert's syndrome | T26: Spleen | U26: Check liver
A27: Alkaline phosphatase, serum | B27: U/L | C27: 27 | D27: 142 | E27: 70 | F27: 90 | S27: Liver/gall bladder; bone loss/disease; leaky gut syndrome; shingles; vitamin C deficiency | T27: Estrogen dominance; zinc and/or B-6 deficiency; malabsorption; hypothyroid/adrenal | U27: If >120, do isoenzymes
A28: Lactate dehydrogenase (LDH), serum | B28: U/L | C28: 89 | D28: 215 | E28: 140 | F28: 180 | S28: Liver/gall bladder; heart; B12/folate deficiency; inflammation; tissue destruction; viral infection | T28: Hypoglycemia | U28: Isoenzymes if high
A29: Aspartate aminotransferase (AST) (SGOT), serum | B29: U/L | C29: 1 | D29: 45 | E29: 10 | F29: 26 | S29: Liver; heart; muscle breakdown; mono/EBV/CMV | T29: Vitamin B-6 deficiency; alcoholism | U29: If the SGOT is elevated above SGPT, look outside of liver
A30: Alanine aminotransferase (ALT) (SGPT), serum | B30: U/L | C30: 1 | D30: 55 | E30: 10 | F30: 26 | S30: Liver/gall bladder; muscle breakdown; alcoholism | T30: Vitamin B-6 deficiency; early fatty liver; alcoholism | U30: If the SGOT is elevated above SGPT, look outside of liver
A31: Gamma-glutamyltransferase (GGT), serum | B31: U/L | C31: 5 | D31: 52 | E31: 10 | F31: 26 | S31: Liver/gall bladder; pancreas (including insufficiency); excess alcohol; | T31: Vitamin B-6 and/or magnesium deficiency; malabsorption; hypothyroid; oral contraceptives | U31: If GGT is elevated above SGOT & SGPT, problem is more likely in gall bladder, bile ducts & pancreas
A32: Iron, serum | B32: µg/dL | C32: 40 | D32: 180 | E32: 85 | F32: 130 | S32: Liver; hemochromotosis; excess consumption of iron; iron conversion problem (B-12, folic acid, B-6, molybdenum); chronic viral infection | T32: Anemia; hypochlorhydria; internal bleeding | U32: Serum ferritin, look at hemoglobin, hematocrit and MCV, HCL challenge if low
A33: Cholesterol, total, serum | B33: mg/dL | C33: 0.1 | D33: 200 | E33: 150 | F33: 200 | S33: Hypothyroid; adrenal stress; fat malabsorption; insulin resistance/diabetes; fatty liver; multiple sclerosis; trans fats | T33: Oxidative stress; heavy metal/chemical overload; gallbladder; low fat diet; hyperthyroid; autoimmune; hyperadrenals | U33: VAP; VLDL; C-reactive protein; homocysteine, imaging of heart
A34: Triglycerides, serum | B34: mg/dL | C34: 35 | D34: 160 | E34: 50 | F34: 100 | S34: Insulin resistance/diabetes; high sugar intake; liver; fat malabsorption; alcoholism; stress; hypothyroid | T34: Fat malabsorption; low fat diet; hyperthyroid; autoimmune; hyper adrenals | U34: low sugar diet, avoid refined foods, optimize fat digestion (enzymes)
A35: Cholesterol, high-density lipoprotein (HDL) (low level), serum | B35: mg/dL | C35: 40 | D35: 110 | E35: 55 | F35: 110 | S35: Autoimmune processes; estrogen dominance | T35: Refined carbs; insulin resistance/diabetes; oxidative stress; heavy metal/chemical; fatty liver; hyperthyroid; sedentary lifestyle | U35: Rule out estrogen dominance, if high. If low, increase exercise
A36: Cholesterol, low-density lipoprotein (LDL) (high-level), serum | B36: mg/dL | C36: 1 | D36: 130 | E36: 10 | F36: 99 | S36: Insulin resistance/diabetes; high sugar intake; liver; fat malabsorption; alcoholism; stress; hypothyroid | U36: VAP; VLDL; C-reactive protein; homocysteine, imaging of heart
A37: Triglycerides/HDL ratio, calc | B37: - | C37: 0.318 | D37: 4 | E37: 0.75 | F37: 1.25 | G37: =IF(ISERROR(G34/G35),0,G34/G35) -> 0 | H37: =IF(ISERROR(H34/H35),0,H34/H35) -> 0 | I37: =IF(ISERROR(I34/I35),0,I34/I35) -> 0 | J37: =IF(ISERROR(J34/J35),0,J34/J35) -> 0 | K37: =IF(ISERROR(K34/K35),0,K34/K35) -> 0 | L37: =IF(ISERROR(L34/L35),0,L34/L35) -> 0 | M37: =IF(ISERROR(M34/M35),0,M34/M35) -> 0 | N37: =IF(ISERROR(N34/N35),0,N34/N35) -> 0 | ... R37: =IF(ISERROR(R34/R35),0,R34/R35) -> 0 | U37: Increase exercise if low: burst training, weights
A38: THYROID MARKERS
A39: Thyroid-stimulating hormone (TSH), serum | B39: μIU/mL | C39: 0.3 | D39: 5.7 | E39: 1.5 | F39: 3 | S39: Hypothyroidism | T39: Hyperthyroid; hypopituitary; heavy metals | U39: Additional testing: Total T4, Free T3 and antibodies: thyroid peroxidase (TPO) and Antithyroglobulin if high, thyroid stimulating antibodies, if low
A40: Thyroxine, total, (T4 or TT4), serum | B40: µg/mL | C40: 4.5 | D40: 12.5 | E40: 6 | F40: 12 | S40: Hyperthyroidism, thyroid replacement medication | T40: Hypothyroid, anterior pituitary dysfunction, iodine or selenium deficiency, deficiency of cofactors: B1 | U40: Replenish nutrients, test for antibodies as per TSH follow-up
...
