BEGIN:VCALENDAR
VERSION:2.0
PRODID:-//ical.marudot.com//iCal Event Maker
CALSCALE:GREGORIAN
BEGIN:VTIMEZONE
TZID:America/Chicago
LAST-MODIFIED:20201011T015911Z
TZURL:http://tzurl.org/zoneinfo-outlook/America/Chicago
X-LIC-LOCATION:America/Chicago
BEGIN:DAYLIGHT
TZNAME:CDT
TZOFFSETFROM:-0600
TZOFFSETTO:-0500
DTSTART:19700308T020000
RRULE:FREQ=YEARLY;BYMONTH=3;BYDAY=2SU
END:DAYLIGHT
BEGIN:STANDARD
TZNAME:CST
TZOFFSETFROM:-0500
TZOFFSETTO:-0600
DTSTART:19701101T020000
RRULE:FREQ=YEARLY;BYMONTH=11;BYDAY=1SU
END:STANDARD
END:VTIMEZONE
BEGIN:VEVENT
DTSTAMP:20220504T193042Z
UID:1651692619201-58811@ical.marudot.com
DTSTART;TZID=America/Chicago:20220519T110000
DTEND;TZID=America/Chicago:20220519T130000
SUMMARY:Sugarthon 2022
URL:https://www.craftsy.com/post/sugarthon-2022/
DESCRIPTION:Don’t miss out on the most inspiring cake decorating event of the year! Icing Smiles\, Craftsy\, and Creative Cake Design have teamed up to bring you the 2022 Sugarthon! Join us LIVE on Thursday\, May 19th at 11:00 a.m. CT as our expert decorators create amazing cakes to celebrate amazing kids. Watch as we design a custom cake and share the stories of three families who have been impacted by the critical illness of a child. Join us for a good cause and together we can bake a difference!  \n\nView the LIVE Page: https://www.craftsy.com/post/sugarthon-2022/
LOCATION:Craftsy
BEGIN:VALARM
ACTION:DISPLAY
DESCRIPTION:Sugarthon 2022
TRIGGER:-PT15M
END:VALARM
END:VEVENT
END:VCALENDAR